BEGIN:VCALENDAR
VERSION:2.0
PRODID:-//Sea Colony Community - ECPv6.15.20//NONSGML v1.0//EN
CALSCALE:GREGORIAN
METHOD:PUBLISH
X-ORIGINAL-URL:https://seacolonycommunity.com
X-WR-CALDESC:Events for Sea Colony Community
REFRESH-INTERVAL;VALUE=DURATION:PT1H
X-Robots-Tag:noindex
X-PUBLISHED-TTL:PT1H
BEGIN:VTIMEZONE
TZID:America/New_York
BEGIN:DAYLIGHT
TZOFFSETFROM:-0500
TZOFFSETTO:-0400
TZNAME:EDT
DTSTART:20240310T070000
END:DAYLIGHT
BEGIN:STANDARD
TZOFFSETFROM:-0400
TZOFFSETTO:-0500
TZNAME:EST
DTSTART:20241103T060000
END:STANDARD
BEGIN:DAYLIGHT
TZOFFSETFROM:-0500
TZOFFSETTO:-0400
TZNAME:EDT
DTSTART:20250309T070000
END:DAYLIGHT
BEGIN:STANDARD
TZOFFSETFROM:-0400
TZOFFSETTO:-0500
TZNAME:EST
DTSTART:20251102T060000
END:STANDARD
BEGIN:DAYLIGHT
TZOFFSETFROM:-0500
TZOFFSETTO:-0400
TZNAME:EDT
DTSTART:20260308T070000
END:DAYLIGHT
BEGIN:STANDARD
TZOFFSETFROM:-0400
TZOFFSETTO:-0500
TZNAME:EST
DTSTART:20261101T060000
END:STANDARD
BEGIN:DAYLIGHT
TZOFFSETFROM:-0500
TZOFFSETTO:-0400
TZNAME:EDT
DTSTART:20270314T070000
END:DAYLIGHT
BEGIN:STANDARD
TZOFFSETFROM:-0400
TZOFFSETTO:-0500
TZNAME:EST
DTSTART:20271107T060000
END:STANDARD
END:VTIMEZONE
BEGIN:VEVENT
DTSTART;TZID=America/New_York:20260118T150000
DTEND;TZID=America/New_York:20260118T170000
DTSTAMP:20260425T193244
CREATED:20251126T165809Z
LAST-MODIFIED:20251126T172857Z
UID:10002463-1768748400-1768755600@seacolonycommunity.com
SUMMARY:Book Club
DESCRIPTION:Book:  A Marriage at the Sea\, Author: Sophie Elmhirst \nJoin our Book Club Community — where curious readers\, casual page-turners\, and devoted book lovers all come together to share stories\, ideas\, and great conversation! Whether you’re diving into your first club read or adding another favorite to your list\, you’ll find a welcoming circle\, thoughtful discussion\, and plenty of laughs along the way. All levels of readers welcome — come read\, connect\, and enjoy!
URL:https://seacolonycommunity.com/event/book-club-2/
LOCATION:Pool Pavilion\, Sea Colony Drive\, Jupiter\, FL\, 33477\, United States
CATEGORIES:Book Club
ATTACH;FMTTYPE=image/jpeg:https://seacolonycommunity.com/wp-content/uploads/2025/11/Book-Club.jpg
ORGANIZER;CN="Book Bandits":MAILTO:nova.joan@gmail.com
END:VEVENT
BEGIN:VEVENT
DTSTART;TZID=America/New_York:20251214T150000
DTEND;TZID=America/New_York:20251214T170000
DTSTAMP:20260425T193244
CREATED:20251126T165608Z
LAST-MODIFIED:20251126T172742Z
UID:10002462-1765724400-1765731600@seacolonycommunity.com
SUMMARY:Book Club
DESCRIPTION:Book: Isola\, Author: Allegra Goodwin \nJoin our Book Club Community — where curious readers\, casual page-turners\, and devoted book lovers all come together to share stories\, ideas\, and great conversation! Whether you’re diving into your first club read or adding another favorite to your list\, you’ll find a welcoming circle\, thoughtful discussion\, and plenty of laughs along the way. All levels of readers welcome — come read\, connect\, and enjoy!
URL:https://seacolonycommunity.com/event/book-club/
LOCATION:Pool Pavilion\, Sea Colony Drive\, Jupiter\, FL\, 33477\, United States
CATEGORIES:Book Club
ATTACH;FMTTYPE=image/jpeg:https://seacolonycommunity.com/wp-content/uploads/2025/11/Book-Club.jpg
ORGANIZER;CN="Book Bandits":MAILTO:nova.joan@gmail.com
END:VEVENT
END:VCALENDAR