BEGIN:VCALENDAR
VERSION:2.0
PRODID:-//Sea Colony Community - ECPv6.15.20//NONSGML v1.0//EN
CALSCALE:GREGORIAN
METHOD:PUBLISH
X-WR-CALNAME:Sea Colony Community
X-ORIGINAL-URL:https://seacolonycommunity.com
X-WR-CALDESC:Events for Sea Colony Community
REFRESH-INTERVAL;VALUE=DURATION:PT1H
X-Robots-Tag:noindex
X-PUBLISHED-TTL:PT1H
BEGIN:VTIMEZONE
TZID:America/New_York
BEGIN:DAYLIGHT
TZOFFSETFROM:-0500
TZOFFSETTO:-0400
TZNAME:EDT
DTSTART:20250309T070000
END:DAYLIGHT
BEGIN:STANDARD
TZOFFSETFROM:-0400
TZOFFSETTO:-0500
TZNAME:EST
DTSTART:20251102T060000
END:STANDARD
BEGIN:DAYLIGHT
TZOFFSETFROM:-0500
TZOFFSETTO:-0400
TZNAME:EDT
DTSTART:20260308T070000
END:DAYLIGHT
BEGIN:STANDARD
TZOFFSETFROM:-0400
TZOFFSETTO:-0500
TZNAME:EST
DTSTART:20261101T060000
END:STANDARD
BEGIN:DAYLIGHT
TZOFFSETFROM:-0500
TZOFFSETTO:-0400
TZNAME:EDT
DTSTART:20270314T070000
END:DAYLIGHT
BEGIN:STANDARD
TZOFFSETFROM:-0400
TZOFFSETTO:-0500
TZNAME:EST
DTSTART:20271107T060000
END:STANDARD
END:VTIMEZONE
BEGIN:VEVENT
DTSTART;TZID=America/New_York:20260302T070000
DTEND;TZID=America/New_York:20260302T090000
DTSTAMP:20260425T123706
CREATED:20251231T225452Z
LAST-MODIFIED:20251231T225452Z
UID:10004669-1772434800-1772442000@seacolonycommunity.com
SUMMARY:Pool Service
DESCRIPTION:Please be advised that the community pool will be serviced to ensure it remains clean\, safe\, and fully operational for everyone’s use. During this time\, access to the pool may be temporarily limited or unavailable. We appreciate your patience and cooperation as this routine maintenance helps provide a better experience for all residents. Thank you for your understanding.
URL:https://seacolonycommunity.com/event/pool-service/2026-03-02/
LOCATION:Pool\, Sea Colony Drive\, Jupiter\, FL\, 33477\, United States
CATEGORIES:Community Maintenance
ATTACH;FMTTYPE=image/png:https://seacolonycommunity.com/wp-content/uploads/2025/01/Pool.png
ORGANIZER;CN="Castle Property Manager":MAILTO:flucania@castlegroup.com
END:VEVENT
BEGIN:VEVENT
DTSTART;TZID=America/New_York:20260304T070000
DTEND;TZID=America/New_York:20260304T090000
DTSTAMP:20260425T123706
CREATED:20251231T225452Z
LAST-MODIFIED:20251231T225452Z
UID:10004670-1772607600-1772614800@seacolonycommunity.com
SUMMARY:Pool Service
DESCRIPTION:Please be advised that the community pool will be serviced to ensure it remains clean\, safe\, and fully operational for everyone’s use. During this time\, access to the pool may be temporarily limited or unavailable. We appreciate your patience and cooperation as this routine maintenance helps provide a better experience for all residents. Thank you for your understanding.
URL:https://seacolonycommunity.com/event/pool-service/2026-03-04/
LOCATION:Pool\, Sea Colony Drive\, Jupiter\, FL\, 33477\, United States
CATEGORIES:Community Maintenance
ATTACH;FMTTYPE=image/png:https://seacolonycommunity.com/wp-content/uploads/2025/01/Pool.png
ORGANIZER;CN="Castle Property Manager":MAILTO:flucania@castlegroup.com
END:VEVENT
BEGIN:VEVENT
DTSTART;TZID=America/New_York:20260304T080000
DTEND;TZID=America/New_York:20260304T170000
DTSTAMP:20260425T123706
CREATED:20251209T165704Z
LAST-MODIFIED:20260305T172059Z
UID:10005572-1772611200-1772643600@seacolonycommunity.com
SUMMARY:Insecticide / Fertilizer Maintenance
DESCRIPTION:Please be advised that pesticides and/or fertilizers will be applied throughout the community. These applications are part of our routine maintenance.
URL:https://seacolonycommunity.com/event/insecticide-fertilizer-maintenance/2026-03-04/
LOCATION:Community\, Sea Colony Drive\, Jupiter\, FL\, 33477\, United States
CATEGORIES:Community Maintenance
ATTACH;FMTTYPE=image/jpeg:https://seacolonycommunity.com/wp-content/uploads/2025/12/Fertizer-Application.jpg
ORGANIZER;CN="Castle Property Manager":MAILTO:flucania@castlegroup.com
END:VEVENT
BEGIN:VEVENT
DTSTART;TZID=America/New_York:20260305T080000
DTEND;TZID=America/New_York:20260305T170000
DTSTAMP:20260425T123706
CREATED:20251209T165704Z
LAST-MODIFIED:20260305T172059Z
UID:10005573-1772697600-1772730000@seacolonycommunity.com
SUMMARY:Insecticide / Fertilizer Maintenance
DESCRIPTION:Please be advised that pesticides and/or fertilizers will be applied throughout the community. These applications are part of our routine maintenance.
URL:https://seacolonycommunity.com/event/insecticide-fertilizer-maintenance/2026-03-05/
LOCATION:Community\, Sea Colony Drive\, Jupiter\, FL\, 33477\, United States
CATEGORIES:Community Maintenance
ATTACH;FMTTYPE=image/jpeg:https://seacolonycommunity.com/wp-content/uploads/2025/12/Fertizer-Application.jpg
ORGANIZER;CN="Castle Property Manager":MAILTO:flucania@castlegroup.com
END:VEVENT
BEGIN:VEVENT
DTSTART;TZID=America/New_York:20260306T070000
DTEND;TZID=America/New_York:20260306T090000
DTSTAMP:20260425T123706
CREATED:20251231T225452Z
LAST-MODIFIED:20251231T225452Z
UID:10004671-1772780400-1772787600@seacolonycommunity.com
SUMMARY:Pool Service
DESCRIPTION:Please be advised that the community pool will be serviced to ensure it remains clean\, safe\, and fully operational for everyone’s use. During this time\, access to the pool may be temporarily limited or unavailable. We appreciate your patience and cooperation as this routine maintenance helps provide a better experience for all residents. Thank you for your understanding.
URL:https://seacolonycommunity.com/event/pool-service/2026-03-06/
LOCATION:Pool\, Sea Colony Drive\, Jupiter\, FL\, 33477\, United States
CATEGORIES:Community Maintenance
ATTACH;FMTTYPE=image/png:https://seacolonycommunity.com/wp-content/uploads/2025/01/Pool.png
ORGANIZER;CN="Castle Property Manager":MAILTO:flucania@castlegroup.com
END:VEVENT
BEGIN:VEVENT
DTSTART;TZID=America/New_York:20260309T070000
DTEND;TZID=America/New_York:20260309T090000
DTSTAMP:20260425T123706
CREATED:20251231T225452Z
LAST-MODIFIED:20251231T225452Z
UID:10004672-1773039600-1773046800@seacolonycommunity.com
SUMMARY:Pool Service
DESCRIPTION:Please be advised that the community pool will be serviced to ensure it remains clean\, safe\, and fully operational for everyone’s use. During this time\, access to the pool may be temporarily limited or unavailable. We appreciate your patience and cooperation as this routine maintenance helps provide a better experience for all residents. Thank you for your understanding.
URL:https://seacolonycommunity.com/event/pool-service/2026-03-09/
LOCATION:Pool\, Sea Colony Drive\, Jupiter\, FL\, 33477\, United States
CATEGORIES:Community Maintenance
ATTACH;FMTTYPE=image/png:https://seacolonycommunity.com/wp-content/uploads/2025/01/Pool.png
ORGANIZER;CN="Castle Property Manager":MAILTO:flucania@castlegroup.com
END:VEVENT
BEGIN:VEVENT
DTSTART;TZID=America/New_York:20260309T080000
DTEND;TZID=America/New_York:20260309T170000
DTSTAMP:20260425T123706
CREATED:20251230T162832Z
LAST-MODIFIED:20260331T164826Z
UID:10004590-1773043200-1773075600@seacolonycommunity.com
SUMMARY:Mowing
DESCRIPTION:Please be advised that the landscape company will be mowing the grass as part of routine maintenance. Please be aware of crews and equipment during this time\, and thank you for your patience as we work to keep our grounds clean and well maintained.
URL:https://seacolonycommunity.com/event/mowing/2026-03-09/
LOCATION:Community\, Sea Colony Drive\, Jupiter\, FL\, 33477\, United States
CATEGORIES:Community Maintenance
ATTACH;FMTTYPE=image/jpeg:https://seacolonycommunity.com/wp-content/uploads/2025/11/Lawn-Care-Mower.jpg
ORGANIZER;CN="Castle Property Manager":MAILTO:flucania@castlegroup.com
END:VEVENT
BEGIN:VEVENT
DTSTART;TZID=America/New_York:20260311T070000
DTEND;TZID=America/New_York:20260311T090000
DTSTAMP:20260425T123706
CREATED:20251231T225452Z
LAST-MODIFIED:20251231T225452Z
UID:10004673-1773212400-1773219600@seacolonycommunity.com
SUMMARY:Pool Service
DESCRIPTION:Please be advised that the community pool will be serviced to ensure it remains clean\, safe\, and fully operational for everyone’s use. During this time\, access to the pool may be temporarily limited or unavailable. We appreciate your patience and cooperation as this routine maintenance helps provide a better experience for all residents. Thank you for your understanding.
URL:https://seacolonycommunity.com/event/pool-service/2026-03-11/
LOCATION:Pool\, Sea Colony Drive\, Jupiter\, FL\, 33477\, United States
CATEGORIES:Community Maintenance
ATTACH;FMTTYPE=image/png:https://seacolonycommunity.com/wp-content/uploads/2025/01/Pool.png
ORGANIZER;CN="Castle Property Manager":MAILTO:flucania@castlegroup.com
END:VEVENT
BEGIN:VEVENT
DTSTART;TZID=America/New_York:20260313T070000
DTEND;TZID=America/New_York:20260313T090000
DTSTAMP:20260425T123706
CREATED:20251231T225452Z
LAST-MODIFIED:20251231T225452Z
UID:10004674-1773385200-1773392400@seacolonycommunity.com
SUMMARY:Pool Service
DESCRIPTION:Please be advised that the community pool will be serviced to ensure it remains clean\, safe\, and fully operational for everyone’s use. During this time\, access to the pool may be temporarily limited or unavailable. We appreciate your patience and cooperation as this routine maintenance helps provide a better experience for all residents. Thank you for your understanding.
URL:https://seacolonycommunity.com/event/pool-service/2026-03-13/
LOCATION:Pool\, Sea Colony Drive\, Jupiter\, FL\, 33477\, United States
CATEGORIES:Community Maintenance
ATTACH;FMTTYPE=image/png:https://seacolonycommunity.com/wp-content/uploads/2025/01/Pool.png
ORGANIZER;CN="Castle Property Manager":MAILTO:flucania@castlegroup.com
END:VEVENT
BEGIN:VEVENT
DTSTART;TZID=America/New_York:20260316T070000
DTEND;TZID=America/New_York:20260316T090000
DTSTAMP:20260425T123706
CREATED:20251231T225452Z
LAST-MODIFIED:20251231T225452Z
UID:10004675-1773644400-1773651600@seacolonycommunity.com
SUMMARY:Pool Service
DESCRIPTION:Please be advised that the community pool will be serviced to ensure it remains clean\, safe\, and fully operational for everyone’s use. During this time\, access to the pool may be temporarily limited or unavailable. We appreciate your patience and cooperation as this routine maintenance helps provide a better experience for all residents. Thank you for your understanding.
URL:https://seacolonycommunity.com/event/pool-service/2026-03-16/
LOCATION:Pool\, Sea Colony Drive\, Jupiter\, FL\, 33477\, United States
CATEGORIES:Community Maintenance
ATTACH;FMTTYPE=image/png:https://seacolonycommunity.com/wp-content/uploads/2025/01/Pool.png
ORGANIZER;CN="Castle Property Manager":MAILTO:flucania@castlegroup.com
END:VEVENT
BEGIN:VEVENT
DTSTART;TZID=America/New_York:20260316T080000
DTEND;TZID=America/New_York:20260316T170000
DTSTAMP:20260425T123706
CREATED:20260201T164512Z
LAST-MODIFIED:20260331T164708Z
UID:10005568-1773648000-1773680400@seacolonycommunity.com
SUMMARY:Irrigation Check
DESCRIPTION:Please be advised that irrigation system checks will be conducted throughout the community. This routine maintenance helps ensure that all irrigation lines and equipment are functioning properly and efficiently. You may see maintenance staff accessing landscaped areas during this time. Thank you for your patience and cooperation.
URL:https://seacolonycommunity.com/event/irrigation-check-2/2026-03-16/
LOCATION:Community\, Sea Colony Drive\, Jupiter\, FL\, 33477\, United States
CATEGORIES:Community Maintenance
ATTACH;FMTTYPE=image/jpeg:https://seacolonycommunity.com/wp-content/uploads/2025/11/Lawn-Sprinkler.jpg
ORGANIZER;CN="Castle Property Manager":MAILTO:flucania@castlegroup.com
END:VEVENT
BEGIN:VEVENT
DTSTART;TZID=America/New_York:20260316T080000
DTEND;TZID=America/New_York:20260316T170000
DTSTAMP:20260425T123706
CREATED:20260201T164810Z
LAST-MODIFIED:20260331T165036Z
UID:10005581-1773648000-1773680400@seacolonycommunity.com
SUMMARY:Shrub Trimming
DESCRIPTION:Please be advised that shrub trimming will be taking place throughout the community over the coming days. This work is part of our regular landscape maintenance to keep common areas healthy\, safe\, and attractive. Residents may notice crews and equipment in various locations; please use caution when passing through work areas. Thank you for your understanding and cooperation.
URL:https://seacolonycommunity.com/event/shrub-trimming-2/2026-03-16/
LOCATION:Community\, Sea Colony Drive\, Jupiter\, FL\, 33477\, United States
CATEGORIES:Community Maintenance
ATTACH;FMTTYPE=image/jpeg:https://seacolonycommunity.com/wp-content/uploads/2025/11/Shrub-Trimming.jpg
ORGANIZER;CN="Castle Property Manager":MAILTO:flucania@castlegroup.com
END:VEVENT
BEGIN:VEVENT
DTSTART;TZID=America/New_York:20260317T080000
DTEND;TZID=America/New_York:20260317T170000
DTSTAMP:20260425T123706
CREATED:20251209T165704Z
LAST-MODIFIED:20260305T172059Z
UID:10005579-1773734400-1773766800@seacolonycommunity.com
SUMMARY:Insecticide / Fertilizer Maintenance
DESCRIPTION:Please be advised that pesticides and/or fertilizers will be applied throughout the community. These applications are part of our routine maintenance.
URL:https://seacolonycommunity.com/event/insecticide-fertilizer-maintenance/2026-03-17/
LOCATION:Community\, Sea Colony Drive\, Jupiter\, FL\, 33477\, United States
CATEGORIES:Community Maintenance
ATTACH;FMTTYPE=image/jpeg:https://seacolonycommunity.com/wp-content/uploads/2025/12/Fertizer-Application.jpg
ORGANIZER;CN="Castle Property Manager":MAILTO:flucania@castlegroup.com
END:VEVENT
BEGIN:VEVENT
DTSTART;TZID=America/New_York:20260317T080000
DTEND;TZID=America/New_York:20260317T170000
DTSTAMP:20260425T123706
CREATED:20251230T162832Z
LAST-MODIFIED:20260331T164826Z
UID:10005580-1773734400-1773766800@seacolonycommunity.com
SUMMARY:Mowing
DESCRIPTION:Please be advised that the landscape company will be mowing the grass as part of routine maintenance. Please be aware of crews and equipment during this time\, and thank you for your patience as we work to keep our grounds clean and well maintained.
URL:https://seacolonycommunity.com/event/mowing/2026-03-17/
LOCATION:Community\, Sea Colony Drive\, Jupiter\, FL\, 33477\, United States
CATEGORIES:Community Maintenance
ATTACH;FMTTYPE=image/jpeg:https://seacolonycommunity.com/wp-content/uploads/2025/11/Lawn-Care-Mower.jpg
ORGANIZER;CN="Castle Property Manager":MAILTO:flucania@castlegroup.com
END:VEVENT
BEGIN:VEVENT
DTSTART;TZID=America/New_York:20260317T080000
DTEND;TZID=America/New_York:20260317T170000
DTSTAMP:20260425T123706
CREATED:20260201T164810Z
LAST-MODIFIED:20260331T165036Z
UID:10005582-1773734400-1773766800@seacolonycommunity.com
SUMMARY:Shrub Trimming
DESCRIPTION:Please be advised that shrub trimming will be taking place throughout the community over the coming days. This work is part of our regular landscape maintenance to keep common areas healthy\, safe\, and attractive. Residents may notice crews and equipment in various locations; please use caution when passing through work areas. Thank you for your understanding and cooperation.
URL:https://seacolonycommunity.com/event/shrub-trimming-2/2026-03-17/
LOCATION:Community\, Sea Colony Drive\, Jupiter\, FL\, 33477\, United States
CATEGORIES:Community Maintenance
ATTACH;FMTTYPE=image/jpeg:https://seacolonycommunity.com/wp-content/uploads/2025/11/Shrub-Trimming.jpg
ORGANIZER;CN="Castle Property Manager":MAILTO:flucania@castlegroup.com
END:VEVENT
BEGIN:VEVENT
DTSTART;TZID=America/New_York:20260318T070000
DTEND;TZID=America/New_York:20260318T090000
DTSTAMP:20260425T123706
CREATED:20251231T225452Z
LAST-MODIFIED:20251231T225452Z
UID:10004676-1773817200-1773824400@seacolonycommunity.com
SUMMARY:Pool Service
DESCRIPTION:Please be advised that the community pool will be serviced to ensure it remains clean\, safe\, and fully operational for everyone’s use. During this time\, access to the pool may be temporarily limited or unavailable. We appreciate your patience and cooperation as this routine maintenance helps provide a better experience for all residents. Thank you for your understanding.
URL:https://seacolonycommunity.com/event/pool-service/2026-03-18/
LOCATION:Pool\, Sea Colony Drive\, Jupiter\, FL\, 33477\, United States
CATEGORIES:Community Maintenance
ATTACH;FMTTYPE=image/png:https://seacolonycommunity.com/wp-content/uploads/2025/01/Pool.png
ORGANIZER;CN="Castle Property Manager":MAILTO:flucania@castlegroup.com
END:VEVENT
BEGIN:VEVENT
DTSTART;TZID=America/New_York:20260318T080000
DTEND;TZID=America/New_York:20260318T170000
DTSTAMP:20260425T123706
CREATED:20260201T164512Z
LAST-MODIFIED:20260331T164708Z
UID:10005569-1773820800-1773853200@seacolonycommunity.com
SUMMARY:Irrigation Check
DESCRIPTION:Please be advised that irrigation system checks will be conducted throughout the community. This routine maintenance helps ensure that all irrigation lines and equipment are functioning properly and efficiently. You may see maintenance staff accessing landscaped areas during this time. Thank you for your patience and cooperation.
URL:https://seacolonycommunity.com/event/irrigation-check-2/2026-03-18/
LOCATION:Community\, Sea Colony Drive\, Jupiter\, FL\, 33477\, United States
CATEGORIES:Community Maintenance
ATTACH;FMTTYPE=image/jpeg:https://seacolonycommunity.com/wp-content/uploads/2025/11/Lawn-Sprinkler.jpg
ORGANIZER;CN="Castle Property Manager":MAILTO:flucania@castlegroup.com
END:VEVENT
BEGIN:VEVENT
DTSTART;TZID=America/New_York:20260318T080000
DTEND;TZID=America/New_York:20260318T170000
DTSTAMP:20260425T123706
CREATED:20260201T164810Z
LAST-MODIFIED:20260331T165036Z
UID:10005583-1773820800-1773853200@seacolonycommunity.com
SUMMARY:Shrub Trimming
DESCRIPTION:Please be advised that shrub trimming will be taking place throughout the community over the coming days. This work is part of our regular landscape maintenance to keep common areas healthy\, safe\, and attractive. Residents may notice crews and equipment in various locations; please use caution when passing through work areas. Thank you for your understanding and cooperation.
URL:https://seacolonycommunity.com/event/shrub-trimming-2/2026-03-18/
LOCATION:Community\, Sea Colony Drive\, Jupiter\, FL\, 33477\, United States
CATEGORIES:Community Maintenance
ATTACH;FMTTYPE=image/jpeg:https://seacolonycommunity.com/wp-content/uploads/2025/11/Shrub-Trimming.jpg
ORGANIZER;CN="Castle Property Manager":MAILTO:flucania@castlegroup.com
END:VEVENT
BEGIN:VEVENT
DTSTART;TZID=America/New_York:20260320T070000
DTEND;TZID=America/New_York:20260320T090000
DTSTAMP:20260425T123706
CREATED:20251231T225452Z
LAST-MODIFIED:20251231T225452Z
UID:10004677-1773990000-1773997200@seacolonycommunity.com
SUMMARY:Pool Service
DESCRIPTION:Please be advised that the community pool will be serviced to ensure it remains clean\, safe\, and fully operational for everyone’s use. During this time\, access to the pool may be temporarily limited or unavailable. We appreciate your patience and cooperation as this routine maintenance helps provide a better experience for all residents. Thank you for your understanding.
URL:https://seacolonycommunity.com/event/pool-service/2026-03-20/
LOCATION:Pool\, Sea Colony Drive\, Jupiter\, FL\, 33477\, United States
CATEGORIES:Community Maintenance
ATTACH;FMTTYPE=image/png:https://seacolonycommunity.com/wp-content/uploads/2025/01/Pool.png
ORGANIZER;CN="Castle Property Manager":MAILTO:flucania@castlegroup.com
END:VEVENT
BEGIN:VEVENT
DTSTART;TZID=America/New_York:20260323T070000
DTEND;TZID=America/New_York:20260323T090000
DTSTAMP:20260425T123706
CREATED:20251231T225452Z
LAST-MODIFIED:20251231T225452Z
UID:10004678-1774249200-1774256400@seacolonycommunity.com
SUMMARY:Pool Service
DESCRIPTION:Please be advised that the community pool will be serviced to ensure it remains clean\, safe\, and fully operational for everyone’s use. During this time\, access to the pool may be temporarily limited or unavailable. We appreciate your patience and cooperation as this routine maintenance helps provide a better experience for all residents. Thank you for your understanding.
URL:https://seacolonycommunity.com/event/pool-service/2026-03-23/
LOCATION:Pool\, Sea Colony Drive\, Jupiter\, FL\, 33477\, United States
CATEGORIES:Community Maintenance
ATTACH;FMTTYPE=image/png:https://seacolonycommunity.com/wp-content/uploads/2025/01/Pool.png
ORGANIZER;CN="Castle Property Manager":MAILTO:flucania@castlegroup.com
END:VEVENT
BEGIN:VEVENT
DTSTART;TZID=America/New_York:20260323T080000
DTEND;TZID=America/New_York:20260323T170000
DTSTAMP:20260425T123706
CREATED:20260201T164512Z
LAST-MODIFIED:20260331T164708Z
UID:10005570-1774252800-1774285200@seacolonycommunity.com
SUMMARY:Irrigation Check
DESCRIPTION:Please be advised that irrigation system checks will be conducted throughout the community. This routine maintenance helps ensure that all irrigation lines and equipment are functioning properly and efficiently. You may see maintenance staff accessing landscaped areas during this time. Thank you for your patience and cooperation.
URL:https://seacolonycommunity.com/event/irrigation-check-2/2026-03-23/
LOCATION:Community\, Sea Colony Drive\, Jupiter\, FL\, 33477\, United States
CATEGORIES:Community Maintenance
ATTACH;FMTTYPE=image/jpeg:https://seacolonycommunity.com/wp-content/uploads/2025/11/Lawn-Sprinkler.jpg
ORGANIZER;CN="Castle Property Manager":MAILTO:flucania@castlegroup.com
END:VEVENT
BEGIN:VEVENT
DTSTART;TZID=America/New_York:20260325T070000
DTEND;TZID=America/New_York:20260325T090000
DTSTAMP:20260425T123706
CREATED:20251231T225452Z
LAST-MODIFIED:20251231T225452Z
UID:10004679-1774422000-1774429200@seacolonycommunity.com
SUMMARY:Pool Service
DESCRIPTION:Please be advised that the community pool will be serviced to ensure it remains clean\, safe\, and fully operational for everyone’s use. During this time\, access to the pool may be temporarily limited or unavailable. We appreciate your patience and cooperation as this routine maintenance helps provide a better experience for all residents. Thank you for your understanding.
URL:https://seacolonycommunity.com/event/pool-service/2026-03-25/
LOCATION:Pool\, Sea Colony Drive\, Jupiter\, FL\, 33477\, United States
CATEGORIES:Community Maintenance
ATTACH;FMTTYPE=image/png:https://seacolonycommunity.com/wp-content/uploads/2025/01/Pool.png
ORGANIZER;CN="Castle Property Manager":MAILTO:flucania@castlegroup.com
END:VEVENT
BEGIN:VEVENT
DTSTART;TZID=America/New_York:20260325T080000
DTEND;TZID=America/New_York:20260325T170000
DTSTAMP:20260425T123706
CREATED:20260201T164512Z
LAST-MODIFIED:20260331T164708Z
UID:10005571-1774425600-1774458000@seacolonycommunity.com
SUMMARY:Irrigation Check
DESCRIPTION:Please be advised that irrigation system checks will be conducted throughout the community. This routine maintenance helps ensure that all irrigation lines and equipment are functioning properly and efficiently. You may see maintenance staff accessing landscaped areas during this time. Thank you for your patience and cooperation.
URL:https://seacolonycommunity.com/event/irrigation-check-2/2026-03-25/
LOCATION:Community\, Sea Colony Drive\, Jupiter\, FL\, 33477\, United States
CATEGORIES:Community Maintenance
ATTACH;FMTTYPE=image/jpeg:https://seacolonycommunity.com/wp-content/uploads/2025/11/Lawn-Sprinkler.jpg
ORGANIZER;CN="Castle Property Manager":MAILTO:flucania@castlegroup.com
END:VEVENT
BEGIN:VEVENT
DTSTART;TZID=America/New_York:20260327T070000
DTEND;TZID=America/New_York:20260327T090000
DTSTAMP:20260425T123706
CREATED:20251231T225452Z
LAST-MODIFIED:20251231T225452Z
UID:10004680-1774594800-1774602000@seacolonycommunity.com
SUMMARY:Pool Service
DESCRIPTION:Please be advised that the community pool will be serviced to ensure it remains clean\, safe\, and fully operational for everyone’s use. During this time\, access to the pool may be temporarily limited or unavailable. We appreciate your patience and cooperation as this routine maintenance helps provide a better experience for all residents. Thank you for your understanding.
URL:https://seacolonycommunity.com/event/pool-service/2026-03-27/
LOCATION:Pool\, Sea Colony Drive\, Jupiter\, FL\, 33477\, United States
CATEGORIES:Community Maintenance
ATTACH;FMTTYPE=image/png:https://seacolonycommunity.com/wp-content/uploads/2025/01/Pool.png
ORGANIZER;CN="Castle Property Manager":MAILTO:flucania@castlegroup.com
END:VEVENT
BEGIN:VEVENT
DTSTART;TZID=America/New_York:20260330T070000
DTEND;TZID=America/New_York:20260330T090000
DTSTAMP:20260425T123706
CREATED:20251231T225452Z
LAST-MODIFIED:20251231T225452Z
UID:10004681-1774854000-1774861200@seacolonycommunity.com
SUMMARY:Pool Service
DESCRIPTION:Please be advised that the community pool will be serviced to ensure it remains clean\, safe\, and fully operational for everyone’s use. During this time\, access to the pool may be temporarily limited or unavailable. We appreciate your patience and cooperation as this routine maintenance helps provide a better experience for all residents. Thank you for your understanding.
URL:https://seacolonycommunity.com/event/pool-service/2026-03-30/
LOCATION:Pool\, Sea Colony Drive\, Jupiter\, FL\, 33477\, United States
CATEGORIES:Community Maintenance
ATTACH;FMTTYPE=image/png:https://seacolonycommunity.com/wp-content/uploads/2025/01/Pool.png
ORGANIZER;CN="Castle Property Manager":MAILTO:flucania@castlegroup.com
END:VEVENT
END:VCALENDAR