BEGIN:VCALENDAR
VERSION:2.0
PRODID:-//Sea Colony Community - ECPv6.15.20//NONSGML v1.0//EN
CALSCALE:GREGORIAN
METHOD:PUBLISH
X-ORIGINAL-URL:https://seacolonycommunity.com
X-WR-CALDESC:Events for Sea Colony Community
REFRESH-INTERVAL;VALUE=DURATION:PT1H
X-Robots-Tag:noindex
X-PUBLISHED-TTL:PT1H
BEGIN:VTIMEZONE
TZID:America/New_York
BEGIN:DAYLIGHT
TZOFFSETFROM:-0500
TZOFFSETTO:-0400
TZNAME:EDT
DTSTART:20250309T070000
END:DAYLIGHT
BEGIN:STANDARD
TZOFFSETFROM:-0400
TZOFFSETTO:-0500
TZNAME:EST
DTSTART:20251102T060000
END:STANDARD
BEGIN:DAYLIGHT
TZOFFSETFROM:-0500
TZOFFSETTO:-0400
TZNAME:EDT
DTSTART:20260308T070000
END:DAYLIGHT
BEGIN:STANDARD
TZOFFSETFROM:-0400
TZOFFSETTO:-0500
TZNAME:EST
DTSTART:20261101T060000
END:STANDARD
BEGIN:DAYLIGHT
TZOFFSETFROM:-0500
TZOFFSETTO:-0400
TZNAME:EDT
DTSTART:20270314T070000
END:DAYLIGHT
BEGIN:STANDARD
TZOFFSETFROM:-0400
TZOFFSETTO:-0500
TZNAME:EST
DTSTART:20271107T060000
END:STANDARD
END:VTIMEZONE
BEGIN:VEVENT
DTSTART;TZID=America/New_York:20260501T070000
DTEND;TZID=America/New_York:20260501T090000
DTSTAMP:20260425T123834
CREATED:20251231T225452Z
LAST-MODIFIED:20251231T225452Z
UID:10004695-1777618800-1777626000@seacolonycommunity.com
SUMMARY:Pool Service
DESCRIPTION:Please be advised that the community pool will be serviced to ensure it remains clean\, safe\, and fully operational for everyone’s use. During this time\, access to the pool may be temporarily limited or unavailable. We appreciate your patience and cooperation as this routine maintenance helps provide a better experience for all residents. Thank you for your understanding.
URL:https://seacolonycommunity.com/event/pool-service/2026-05-01/
LOCATION:Pool\, Sea Colony Drive\, Jupiter\, FL\, 33477\, United States
CATEGORIES:Community Maintenance
ATTACH;FMTTYPE=image/png:https://seacolonycommunity.com/wp-content/uploads/2025/01/Pool.png
ORGANIZER;CN="Castle Property Manager":MAILTO:flucania@castlegroup.com
END:VEVENT
BEGIN:VEVENT
DTSTART;TZID=America/New_York:20260504T070000
DTEND;TZID=America/New_York:20260504T090000
DTSTAMP:20260425T123834
CREATED:20251231T225452Z
LAST-MODIFIED:20251231T225452Z
UID:10004696-1777878000-1777885200@seacolonycommunity.com
SUMMARY:Pool Service
DESCRIPTION:Please be advised that the community pool will be serviced to ensure it remains clean\, safe\, and fully operational for everyone’s use. During this time\, access to the pool may be temporarily limited or unavailable. We appreciate your patience and cooperation as this routine maintenance helps provide a better experience for all residents. Thank you for your understanding.
URL:https://seacolonycommunity.com/event/pool-service/2026-05-04/
LOCATION:Pool\, Sea Colony Drive\, Jupiter\, FL\, 33477\, United States
CATEGORIES:Community Maintenance
ATTACH;FMTTYPE=image/png:https://seacolonycommunity.com/wp-content/uploads/2025/01/Pool.png
ORGANIZER;CN="Castle Property Manager":MAILTO:flucania@castlegroup.com
END:VEVENT
BEGIN:VEVENT
DTSTART;TZID=America/New_York:20260506T070000
DTEND;TZID=America/New_York:20260506T090000
DTSTAMP:20260425T123834
CREATED:20251231T225452Z
LAST-MODIFIED:20251231T225452Z
UID:10004697-1778050800-1778058000@seacolonycommunity.com
SUMMARY:Pool Service
DESCRIPTION:Please be advised that the community pool will be serviced to ensure it remains clean\, safe\, and fully operational for everyone’s use. During this time\, access to the pool may be temporarily limited or unavailable. We appreciate your patience and cooperation as this routine maintenance helps provide a better experience for all residents. Thank you for your understanding.
URL:https://seacolonycommunity.com/event/pool-service/2026-05-06/
LOCATION:Pool\, Sea Colony Drive\, Jupiter\, FL\, 33477\, United States
CATEGORIES:Community Maintenance
ATTACH;FMTTYPE=image/png:https://seacolonycommunity.com/wp-content/uploads/2025/01/Pool.png
ORGANIZER;CN="Castle Property Manager":MAILTO:flucania@castlegroup.com
END:VEVENT
BEGIN:VEVENT
DTSTART;TZID=America/New_York:20260508T070000
DTEND;TZID=America/New_York:20260508T090000
DTSTAMP:20260425T123834
CREATED:20251231T225452Z
LAST-MODIFIED:20251231T225452Z
UID:10004698-1778223600-1778230800@seacolonycommunity.com
SUMMARY:Pool Service
DESCRIPTION:Please be advised that the community pool will be serviced to ensure it remains clean\, safe\, and fully operational for everyone’s use. During this time\, access to the pool may be temporarily limited or unavailable. We appreciate your patience and cooperation as this routine maintenance helps provide a better experience for all residents. Thank you for your understanding.
URL:https://seacolonycommunity.com/event/pool-service/2026-05-08/
LOCATION:Pool\, Sea Colony Drive\, Jupiter\, FL\, 33477\, United States
CATEGORIES:Community Maintenance
ATTACH;FMTTYPE=image/png:https://seacolonycommunity.com/wp-content/uploads/2025/01/Pool.png
ORGANIZER;CN="Castle Property Manager":MAILTO:flucania@castlegroup.com
END:VEVENT
BEGIN:VEVENT
DTSTART;TZID=America/New_York:20260511T070000
DTEND;TZID=America/New_York:20260511T090000
DTSTAMP:20260425T123834
CREATED:20251231T225452Z
LAST-MODIFIED:20251231T225452Z
UID:10004699-1778482800-1778490000@seacolonycommunity.com
SUMMARY:Pool Service
DESCRIPTION:Please be advised that the community pool will be serviced to ensure it remains clean\, safe\, and fully operational for everyone’s use. During this time\, access to the pool may be temporarily limited or unavailable. We appreciate your patience and cooperation as this routine maintenance helps provide a better experience for all residents. Thank you for your understanding.
URL:https://seacolonycommunity.com/event/pool-service/2026-05-11/
LOCATION:Pool\, Sea Colony Drive\, Jupiter\, FL\, 33477\, United States
CATEGORIES:Community Maintenance
ATTACH;FMTTYPE=image/png:https://seacolonycommunity.com/wp-content/uploads/2025/01/Pool.png
ORGANIZER;CN="Castle Property Manager":MAILTO:flucania@castlegroup.com
END:VEVENT
BEGIN:VEVENT
DTSTART;TZID=America/New_York:20260513T070000
DTEND;TZID=America/New_York:20260513T090000
DTSTAMP:20260425T123834
CREATED:20251231T225452Z
LAST-MODIFIED:20251231T225452Z
UID:10004700-1778655600-1778662800@seacolonycommunity.com
SUMMARY:Pool Service
DESCRIPTION:Please be advised that the community pool will be serviced to ensure it remains clean\, safe\, and fully operational for everyone’s use. During this time\, access to the pool may be temporarily limited or unavailable. We appreciate your patience and cooperation as this routine maintenance helps provide a better experience for all residents. Thank you for your understanding.
URL:https://seacolonycommunity.com/event/pool-service/2026-05-13/
LOCATION:Pool\, Sea Colony Drive\, Jupiter\, FL\, 33477\, United States
CATEGORIES:Community Maintenance
ATTACH;FMTTYPE=image/png:https://seacolonycommunity.com/wp-content/uploads/2025/01/Pool.png
ORGANIZER;CN="Castle Property Manager":MAILTO:flucania@castlegroup.com
END:VEVENT
BEGIN:VEVENT
DTSTART;TZID=America/New_York:20260515T070000
DTEND;TZID=America/New_York:20260515T090000
DTSTAMP:20260425T123834
CREATED:20251231T225452Z
LAST-MODIFIED:20251231T225452Z
UID:10004701-1778828400-1778835600@seacolonycommunity.com
SUMMARY:Pool Service
DESCRIPTION:Please be advised that the community pool will be serviced to ensure it remains clean\, safe\, and fully operational for everyone’s use. During this time\, access to the pool may be temporarily limited or unavailable. We appreciate your patience and cooperation as this routine maintenance helps provide a better experience for all residents. Thank you for your understanding.
URL:https://seacolonycommunity.com/event/pool-service/2026-05-15/
LOCATION:Pool\, Sea Colony Drive\, Jupiter\, FL\, 33477\, United States
CATEGORIES:Community Maintenance
ATTACH;FMTTYPE=image/png:https://seacolonycommunity.com/wp-content/uploads/2025/01/Pool.png
ORGANIZER;CN="Castle Property Manager":MAILTO:flucania@castlegroup.com
END:VEVENT
BEGIN:VEVENT
DTSTART;TZID=America/New_York:20260518T070000
DTEND;TZID=America/New_York:20260518T090000
DTSTAMP:20260425T123834
CREATED:20251231T225452Z
LAST-MODIFIED:20251231T225452Z
UID:10004702-1779087600-1779094800@seacolonycommunity.com
SUMMARY:Pool Service
DESCRIPTION:Please be advised that the community pool will be serviced to ensure it remains clean\, safe\, and fully operational for everyone’s use. During this time\, access to the pool may be temporarily limited or unavailable. We appreciate your patience and cooperation as this routine maintenance helps provide a better experience for all residents. Thank you for your understanding.
URL:https://seacolonycommunity.com/event/pool-service/2026-05-18/
LOCATION:Pool\, Sea Colony Drive\, Jupiter\, FL\, 33477\, United States
CATEGORIES:Community Maintenance
ATTACH;FMTTYPE=image/png:https://seacolonycommunity.com/wp-content/uploads/2025/01/Pool.png
ORGANIZER;CN="Castle Property Manager":MAILTO:flucania@castlegroup.com
END:VEVENT
BEGIN:VEVENT
DTSTART;TZID=America/New_York:20260520T070000
DTEND;TZID=America/New_York:20260520T090000
DTSTAMP:20260425T123834
CREATED:20251231T225452Z
LAST-MODIFIED:20251231T225452Z
UID:10004703-1779260400-1779267600@seacolonycommunity.com
SUMMARY:Pool Service
DESCRIPTION:Please be advised that the community pool will be serviced to ensure it remains clean\, safe\, and fully operational for everyone’s use. During this time\, access to the pool may be temporarily limited or unavailable. We appreciate your patience and cooperation as this routine maintenance helps provide a better experience for all residents. Thank you for your understanding.
URL:https://seacolonycommunity.com/event/pool-service/2026-05-20/
LOCATION:Pool\, Sea Colony Drive\, Jupiter\, FL\, 33477\, United States
CATEGORIES:Community Maintenance
ATTACH;FMTTYPE=image/png:https://seacolonycommunity.com/wp-content/uploads/2025/01/Pool.png
ORGANIZER;CN="Castle Property Manager":MAILTO:flucania@castlegroup.com
END:VEVENT
BEGIN:VEVENT
DTSTART;TZID=America/New_York:20260522T070000
DTEND;TZID=America/New_York:20260522T090000
DTSTAMP:20260425T123834
CREATED:20251231T225452Z
LAST-MODIFIED:20251231T225452Z
UID:10004704-1779433200-1779440400@seacolonycommunity.com
SUMMARY:Pool Service
DESCRIPTION:Please be advised that the community pool will be serviced to ensure it remains clean\, safe\, and fully operational for everyone’s use. During this time\, access to the pool may be temporarily limited or unavailable. We appreciate your patience and cooperation as this routine maintenance helps provide a better experience for all residents. Thank you for your understanding.
URL:https://seacolonycommunity.com/event/pool-service/2026-05-22/
LOCATION:Pool\, Sea Colony Drive\, Jupiter\, FL\, 33477\, United States
CATEGORIES:Community Maintenance
ATTACH;FMTTYPE=image/png:https://seacolonycommunity.com/wp-content/uploads/2025/01/Pool.png
ORGANIZER;CN="Castle Property Manager":MAILTO:flucania@castlegroup.com
END:VEVENT
BEGIN:VEVENT
DTSTART;TZID=America/New_York:20260525T070000
DTEND;TZID=America/New_York:20260525T090000
DTSTAMP:20260425T123834
CREATED:20251231T225452Z
LAST-MODIFIED:20251231T225452Z
UID:10004705-1779692400-1779699600@seacolonycommunity.com
SUMMARY:Pool Service
DESCRIPTION:Please be advised that the community pool will be serviced to ensure it remains clean\, safe\, and fully operational for everyone’s use. During this time\, access to the pool may be temporarily limited or unavailable. We appreciate your patience and cooperation as this routine maintenance helps provide a better experience for all residents. Thank you for your understanding.
URL:https://seacolonycommunity.com/event/pool-service/2026-05-25/
LOCATION:Pool\, Sea Colony Drive\, Jupiter\, FL\, 33477\, United States
CATEGORIES:Community Maintenance
ATTACH;FMTTYPE=image/png:https://seacolonycommunity.com/wp-content/uploads/2025/01/Pool.png
ORGANIZER;CN="Castle Property Manager":MAILTO:flucania@castlegroup.com
END:VEVENT
BEGIN:VEVENT
DTSTART;TZID=America/New_York:20260527T070000
DTEND;TZID=America/New_York:20260527T090000
DTSTAMP:20260425T123834
CREATED:20251231T225452Z
LAST-MODIFIED:20251231T225452Z
UID:10004706-1779865200-1779872400@seacolonycommunity.com
SUMMARY:Pool Service
DESCRIPTION:Please be advised that the community pool will be serviced to ensure it remains clean\, safe\, and fully operational for everyone’s use. During this time\, access to the pool may be temporarily limited or unavailable. We appreciate your patience and cooperation as this routine maintenance helps provide a better experience for all residents. Thank you for your understanding.
URL:https://seacolonycommunity.com/event/pool-service/2026-05-27/
LOCATION:Pool\, Sea Colony Drive\, Jupiter\, FL\, 33477\, United States
CATEGORIES:Community Maintenance
ATTACH;FMTTYPE=image/png:https://seacolonycommunity.com/wp-content/uploads/2025/01/Pool.png
ORGANIZER;CN="Castle Property Manager":MAILTO:flucania@castlegroup.com
END:VEVENT
BEGIN:VEVENT
DTSTART;TZID=America/New_York:20260529T070000
DTEND;TZID=America/New_York:20260529T090000
DTSTAMP:20260425T123834
CREATED:20251231T225452Z
LAST-MODIFIED:20251231T225452Z
UID:10004707-1780038000-1780045200@seacolonycommunity.com
SUMMARY:Pool Service
DESCRIPTION:Please be advised that the community pool will be serviced to ensure it remains clean\, safe\, and fully operational for everyone’s use. During this time\, access to the pool may be temporarily limited or unavailable. We appreciate your patience and cooperation as this routine maintenance helps provide a better experience for all residents. Thank you for your understanding.
URL:https://seacolonycommunity.com/event/pool-service/2026-05-29/
LOCATION:Pool\, Sea Colony Drive\, Jupiter\, FL\, 33477\, United States
CATEGORIES:Community Maintenance
ATTACH;FMTTYPE=image/png:https://seacolonycommunity.com/wp-content/uploads/2025/01/Pool.png
ORGANIZER;CN="Castle Property Manager":MAILTO:flucania@castlegroup.com
END:VEVENT
END:VCALENDAR