BEGIN:VCALENDAR
VERSION:2.0
PRODID:-//Sea Colony Community - ECPv6.15.20//NONSGML v1.0//EN
CALSCALE:GREGORIAN
METHOD:PUBLISH
X-ORIGINAL-URL:https://seacolonycommunity.com
X-WR-CALDESC:Events for Sea Colony Community
REFRESH-INTERVAL;VALUE=DURATION:PT1H
X-Robots-Tag:noindex
X-PUBLISHED-TTL:PT1H
BEGIN:VTIMEZONE
TZID:America/New_York
BEGIN:DAYLIGHT
TZOFFSETFROM:-0500
TZOFFSETTO:-0400
TZNAME:EDT
DTSTART:20250309T070000
END:DAYLIGHT
BEGIN:STANDARD
TZOFFSETFROM:-0400
TZOFFSETTO:-0500
TZNAME:EST
DTSTART:20251102T060000
END:STANDARD
BEGIN:DAYLIGHT
TZOFFSETFROM:-0500
TZOFFSETTO:-0400
TZNAME:EDT
DTSTART:20260308T070000
END:DAYLIGHT
BEGIN:STANDARD
TZOFFSETFROM:-0400
TZOFFSETTO:-0500
TZNAME:EST
DTSTART:20261101T060000
END:STANDARD
BEGIN:DAYLIGHT
TZOFFSETFROM:-0500
TZOFFSETTO:-0400
TZNAME:EDT
DTSTART:20270314T070000
END:DAYLIGHT
BEGIN:STANDARD
TZOFFSETFROM:-0400
TZOFFSETTO:-0500
TZNAME:EST
DTSTART:20271107T060000
END:STANDARD
END:VTIMEZONE
BEGIN:VEVENT
DTSTART;TZID=America/New_York:20260401T070000
DTEND;TZID=America/New_York:20260401T090000
DTSTAMP:20260425T111445
CREATED:20251231T225452Z
LAST-MODIFIED:20251231T225452Z
UID:10004682-1775026800-1775034000@seacolonycommunity.com
SUMMARY:Pool Service
DESCRIPTION:Please be advised that the community pool will be serviced to ensure it remains clean\, safe\, and fully operational for everyone’s use. During this time\, access to the pool may be temporarily limited or unavailable. We appreciate your patience and cooperation as this routine maintenance helps provide a better experience for all residents. Thank you for your understanding.
URL:https://seacolonycommunity.com/event/pool-service/2026-04-01/
LOCATION:Pool\, Sea Colony Drive\, Jupiter\, FL\, 33477\, United States
CATEGORIES:Community Maintenance
ATTACH;FMTTYPE=image/png:https://seacolonycommunity.com/wp-content/uploads/2025/01/Pool.png
ORGANIZER;CN="Castle Property Manager":MAILTO:flucania@castlegroup.com
END:VEVENT
BEGIN:VEVENT
DTSTART;TZID=America/New_York:20260401T080000
DTEND;TZID=America/New_York:20260401T170000
DTSTAMP:20260425T111445
CREATED:20251230T162832Z
LAST-MODIFIED:20260331T164826Z
UID:10005593-1775030400-1775062800@seacolonycommunity.com
SUMMARY:Mowing
DESCRIPTION:Please be advised that the landscape company will be mowing the grass as part of routine maintenance. Please be aware of crews and equipment during this time\, and thank you for your patience as we work to keep our grounds clean and well maintained.
URL:https://seacolonycommunity.com/event/mowing/2026-04-01/
LOCATION:Community\, Sea Colony Drive\, Jupiter\, FL\, 33477\, United States
CATEGORIES:Community Maintenance
ATTACH;FMTTYPE=image/jpeg:https://seacolonycommunity.com/wp-content/uploads/2025/11/Lawn-Care-Mower.jpg
ORGANIZER;CN="Castle Property Manager":MAILTO:flucania@castlegroup.com
END:VEVENT
END:VCALENDAR