BEGIN:VCALENDAR
VERSION:2.0
PRODID:-//Sea Colony Community - ECPv6.15.20//NONSGML v1.0//EN
CALSCALE:GREGORIAN
METHOD:PUBLISH
X-WR-CALNAME:Sea Colony Community
X-ORIGINAL-URL:https://seacolonycommunity.com
X-WR-CALDESC:Events for Sea Colony Community
REFRESH-INTERVAL;VALUE=DURATION:PT1H
X-Robots-Tag:noindex
X-PUBLISHED-TTL:PT1H
BEGIN:VTIMEZONE
TZID:America/New_York
BEGIN:DAYLIGHT
TZOFFSETFROM:-0500
TZOFFSETTO:-0400
TZNAME:EDT
DTSTART:20250309T070000
END:DAYLIGHT
BEGIN:STANDARD
TZOFFSETFROM:-0400
TZOFFSETTO:-0500
TZNAME:EST
DTSTART:20251102T060000
END:STANDARD
BEGIN:DAYLIGHT
TZOFFSETFROM:-0500
TZOFFSETTO:-0400
TZNAME:EDT
DTSTART:20260308T070000
END:DAYLIGHT
BEGIN:STANDARD
TZOFFSETFROM:-0400
TZOFFSETTO:-0500
TZNAME:EST
DTSTART:20261101T060000
END:STANDARD
BEGIN:DAYLIGHT
TZOFFSETFROM:-0500
TZOFFSETTO:-0400
TZNAME:EDT
DTSTART:20270314T070000
END:DAYLIGHT
BEGIN:STANDARD
TZOFFSETFROM:-0400
TZOFFSETTO:-0500
TZNAME:EST
DTSTART:20271107T060000
END:STANDARD
END:VTIMEZONE
BEGIN:VEVENT
DTSTART;TZID=America/New_York:20260413T070000
DTEND;TZID=America/New_York:20260413T090000
DTSTAMP:20260425T111344
CREATED:20251231T225452Z
LAST-MODIFIED:20251231T225452Z
UID:10004687-1776063600-1776070800@seacolonycommunity.com
SUMMARY:Pool Service
DESCRIPTION:Please be advised that the community pool will be serviced to ensure it remains clean\, safe\, and fully operational for everyone’s use. During this time\, access to the pool may be temporarily limited or unavailable. We appreciate your patience and cooperation as this routine maintenance helps provide a better experience for all residents. Thank you for your understanding.
URL:https://seacolonycommunity.com/event/pool-service/2026-04-13/
LOCATION:Pool\, Sea Colony Drive\, Jupiter\, FL\, 33477\, United States
CATEGORIES:Community Maintenance
ATTACH;FMTTYPE=image/png:https://seacolonycommunity.com/wp-content/uploads/2025/01/Pool.png
ORGANIZER;CN="Castle Property Manager":MAILTO:flucania@castlegroup.com
END:VEVENT
BEGIN:VEVENT
DTSTART;TZID=America/New_York:20260413T080000
DTEND;TZID=America/New_York:20260413T170000
DTSTAMP:20260425T111344
CREATED:20260201T164512Z
LAST-MODIFIED:20260331T164708Z
UID:10005589-1776067200-1776099600@seacolonycommunity.com
SUMMARY:Irrigation Check
DESCRIPTION:Please be advised that irrigation system checks will be conducted throughout the community. This routine maintenance helps ensure that all irrigation lines and equipment are functioning properly and efficiently. You may see maintenance staff accessing landscaped areas during this time. Thank you for your patience and cooperation.
URL:https://seacolonycommunity.com/event/irrigation-check-2/2026-04-13/
LOCATION:Community\, Sea Colony Drive\, Jupiter\, FL\, 33477\, United States
CATEGORIES:Community Maintenance
ATTACH;FMTTYPE=image/jpeg:https://seacolonycommunity.com/wp-content/uploads/2025/11/Lawn-Sprinkler.jpg
ORGANIZER;CN="Castle Property Manager":MAILTO:flucania@castlegroup.com
END:VEVENT
END:VCALENDAR