BEGIN:VCALENDAR
VERSION:2.0
PRODID:-//Sea Colony Community - ECPv6.15.20//NONSGML v1.0//EN
CALSCALE:GREGORIAN
METHOD:PUBLISH
X-WR-CALNAME:Sea Colony Community
X-ORIGINAL-URL:https://seacolonycommunity.com
X-WR-CALDESC:Events for Sea Colony Community
REFRESH-INTERVAL;VALUE=DURATION:PT1H
X-Robots-Tag:noindex
X-PUBLISHED-TTL:PT1H
BEGIN:VTIMEZONE
TZID:America/New_York
BEGIN:DAYLIGHT
TZOFFSETFROM:-0500
TZOFFSETTO:-0400
TZNAME:EDT
DTSTART:20240310T070000
END:DAYLIGHT
BEGIN:STANDARD
TZOFFSETFROM:-0400
TZOFFSETTO:-0500
TZNAME:EST
DTSTART:20241103T060000
END:STANDARD
BEGIN:DAYLIGHT
TZOFFSETFROM:-0500
TZOFFSETTO:-0400
TZNAME:EDT
DTSTART:20250309T070000
END:DAYLIGHT
BEGIN:STANDARD
TZOFFSETFROM:-0400
TZOFFSETTO:-0500
TZNAME:EST
DTSTART:20251102T060000
END:STANDARD
BEGIN:DAYLIGHT
TZOFFSETFROM:-0500
TZOFFSETTO:-0400
TZNAME:EDT
DTSTART:20260308T070000
END:DAYLIGHT
BEGIN:STANDARD
TZOFFSETFROM:-0400
TZOFFSETTO:-0500
TZNAME:EST
DTSTART:20261101T060000
END:STANDARD
BEGIN:DAYLIGHT
TZOFFSETFROM:-0500
TZOFFSETTO:-0400
TZNAME:EDT
DTSTART:20270314T070000
END:DAYLIGHT
BEGIN:STANDARD
TZOFFSETFROM:-0400
TZOFFSETTO:-0500
TZNAME:EST
DTSTART:20271107T060000
END:STANDARD
END:VTIMEZONE
BEGIN:VEVENT
DTSTART;TZID=America/New_York:20260218T080000
DTEND;TZID=America/New_York:20260218T170000
DTSTAMP:20260425T193159
CREATED:20260201T164512Z
LAST-MODIFIED:20260331T164708Z
UID:10005427-1771401600-1771434000@seacolonycommunity.com
SUMMARY:Irrigation Check
DESCRIPTION:Please be advised that irrigation system checks will be conducted throughout the community. This routine maintenance helps ensure that all irrigation lines and equipment are functioning properly and efficiently. You may see maintenance staff accessing landscaped areas during this time. Thank you for your patience and cooperation.
URL:https://seacolonycommunity.com/event/irrigation-check-2/2026-02-18/
LOCATION:Community\, Sea Colony Drive\, Jupiter\, FL\, 33477\, United States
CATEGORIES:Community Maintenance
ATTACH;FMTTYPE=image/jpeg:https://seacolonycommunity.com/wp-content/uploads/2025/11/Lawn-Sprinkler.jpg
ORGANIZER;CN="Castle Property Manager":MAILTO:flucania@castlegroup.com
END:VEVENT
BEGIN:VEVENT
DTSTART;TZID=America/New_York:20260218T070000
DTEND;TZID=America/New_York:20260218T090000
DTSTAMP:20260425T193200
CREATED:20251231T225452Z
LAST-MODIFIED:20251231T225452Z
UID:10004664-1771398000-1771405200@seacolonycommunity.com
SUMMARY:Pool Service
DESCRIPTION:Please be advised that the community pool will be serviced to ensure it remains clean\, safe\, and fully operational for everyone’s use. During this time\, access to the pool may be temporarily limited or unavailable. We appreciate your patience and cooperation as this routine maintenance helps provide a better experience for all residents. Thank you for your understanding.
URL:https://seacolonycommunity.com/event/pool-service/2026-02-18/
LOCATION:Pool\, Sea Colony Drive\, Jupiter\, FL\, 33477\, United States
CATEGORIES:Community Maintenance
ATTACH;FMTTYPE=image/png:https://seacolonycommunity.com/wp-content/uploads/2025/01/Pool.png
ORGANIZER;CN="Castle Property Manager":MAILTO:flucania@castlegroup.com
END:VEVENT
BEGIN:VEVENT
DTSTART;TZID=America/New_York:20260217T080000
DTEND;TZID=America/New_York:20260217T170000
DTSTAMP:20260425T193200
CREATED:20260201T164810Z
LAST-MODIFIED:20260331T165036Z
UID:10005431-1771315200-1771347600@seacolonycommunity.com
SUMMARY:Shrub Trimming
DESCRIPTION:Please be advised that shrub trimming will be taking place throughout the community over the coming days. This work is part of our regular landscape maintenance to keep common areas healthy\, safe\, and attractive. Residents may notice crews and equipment in various locations; please use caution when passing through work areas. Thank you for your understanding and cooperation.
URL:https://seacolonycommunity.com/event/shrub-trimming-2/2026-02-17/
LOCATION:Community\, Sea Colony Drive\, Jupiter\, FL\, 33477\, United States
CATEGORIES:Community Maintenance
ATTACH;FMTTYPE=image/jpeg:https://seacolonycommunity.com/wp-content/uploads/2025/11/Shrub-Trimming.jpg
ORGANIZER;CN="Castle Property Manager":MAILTO:flucania@castlegroup.com
END:VEVENT
BEGIN:VEVENT
DTSTART;TZID=America/New_York:20260216T080000
DTEND;TZID=America/New_York:20260216T170000
DTSTAMP:20260425T193200
CREATED:20260201T164810Z
LAST-MODIFIED:20260331T165036Z
UID:10005430-1771228800-1771261200@seacolonycommunity.com
SUMMARY:Shrub Trimming
DESCRIPTION:Please be advised that shrub trimming will be taking place throughout the community over the coming days. This work is part of our regular landscape maintenance to keep common areas healthy\, safe\, and attractive. Residents may notice crews and equipment in various locations; please use caution when passing through work areas. Thank you for your understanding and cooperation.
URL:https://seacolonycommunity.com/event/shrub-trimming-2/2026-02-16/
LOCATION:Community\, Sea Colony Drive\, Jupiter\, FL\, 33477\, United States
CATEGORIES:Community Maintenance
ATTACH;FMTTYPE=image/jpeg:https://seacolonycommunity.com/wp-content/uploads/2025/11/Shrub-Trimming.jpg
ORGANIZER;CN="Castle Property Manager":MAILTO:flucania@castlegroup.com
END:VEVENT
BEGIN:VEVENT
DTSTART;TZID=America/New_York:20260216T080000
DTEND;TZID=America/New_York:20260216T170000
DTSTAMP:20260425T193200
CREATED:20260201T164512Z
LAST-MODIFIED:20260331T164708Z
UID:10005426-1771228800-1771261200@seacolonycommunity.com
SUMMARY:Irrigation Check
DESCRIPTION:Please be advised that irrigation system checks will be conducted throughout the community. This routine maintenance helps ensure that all irrigation lines and equipment are functioning properly and efficiently. You may see maintenance staff accessing landscaped areas during this time. Thank you for your patience and cooperation.
URL:https://seacolonycommunity.com/event/irrigation-check-2/2026-02-16/
LOCATION:Community\, Sea Colony Drive\, Jupiter\, FL\, 33477\, United States
CATEGORIES:Community Maintenance
ATTACH;FMTTYPE=image/jpeg:https://seacolonycommunity.com/wp-content/uploads/2025/11/Lawn-Sprinkler.jpg
ORGANIZER;CN="Castle Property Manager":MAILTO:flucania@castlegroup.com
END:VEVENT
BEGIN:VEVENT
DTSTART;TZID=America/New_York:20260216T070000
DTEND;TZID=America/New_York:20260216T090000
DTSTAMP:20260425T193200
CREATED:20251231T225452Z
LAST-MODIFIED:20251231T225452Z
UID:10004663-1771225200-1771232400@seacolonycommunity.com
SUMMARY:Pool Service
DESCRIPTION:Please be advised that the community pool will be serviced to ensure it remains clean\, safe\, and fully operational for everyone’s use. During this time\, access to the pool may be temporarily limited or unavailable. We appreciate your patience and cooperation as this routine maintenance helps provide a better experience for all residents. Thank you for your understanding.
URL:https://seacolonycommunity.com/event/pool-service/2026-02-16/
LOCATION:Pool\, Sea Colony Drive\, Jupiter\, FL\, 33477\, United States
CATEGORIES:Community Maintenance
ATTACH;FMTTYPE=image/png:https://seacolonycommunity.com/wp-content/uploads/2025/01/Pool.png
ORGANIZER;CN="Castle Property Manager":MAILTO:flucania@castlegroup.com
END:VEVENT
BEGIN:VEVENT
DTSTART;TZID=America/New_York:20260213T070000
DTEND;TZID=America/New_York:20260213T090000
DTSTAMP:20260425T193200
CREATED:20251231T225452Z
LAST-MODIFIED:20251231T225452Z
UID:10004662-1770966000-1770973200@seacolonycommunity.com
SUMMARY:Pool Service
DESCRIPTION:Please be advised that the community pool will be serviced to ensure it remains clean\, safe\, and fully operational for everyone’s use. During this time\, access to the pool may be temporarily limited or unavailable. We appreciate your patience and cooperation as this routine maintenance helps provide a better experience for all residents. Thank you for your understanding.
URL:https://seacolonycommunity.com/event/pool-service/2026-02-13/
LOCATION:Pool\, Sea Colony Drive\, Jupiter\, FL\, 33477\, United States
CATEGORIES:Community Maintenance
ATTACH;FMTTYPE=image/png:https://seacolonycommunity.com/wp-content/uploads/2025/01/Pool.png
ORGANIZER;CN="Castle Property Manager":MAILTO:flucania@castlegroup.com
END:VEVENT
BEGIN:VEVENT
DTSTART;TZID=America/New_York:20260211T070000
DTEND;TZID=America/New_York:20260211T090000
DTSTAMP:20260425T193200
CREATED:20251231T225452Z
LAST-MODIFIED:20251231T225452Z
UID:10004661-1770793200-1770800400@seacolonycommunity.com
SUMMARY:Pool Service
DESCRIPTION:Please be advised that the community pool will be serviced to ensure it remains clean\, safe\, and fully operational for everyone’s use. During this time\, access to the pool may be temporarily limited or unavailable. We appreciate your patience and cooperation as this routine maintenance helps provide a better experience for all residents. Thank you for your understanding.
URL:https://seacolonycommunity.com/event/pool-service/2026-02-11/
LOCATION:Pool\, Sea Colony Drive\, Jupiter\, FL\, 33477\, United States
CATEGORIES:Community Maintenance
ATTACH;FMTTYPE=image/png:https://seacolonycommunity.com/wp-content/uploads/2025/01/Pool.png
ORGANIZER;CN="Castle Property Manager":MAILTO:flucania@castlegroup.com
END:VEVENT
BEGIN:VEVENT
DTSTART;TZID=America/New_York:20260209T070000
DTEND;TZID=America/New_York:20260209T090000
DTSTAMP:20260425T193200
CREATED:20251231T225452Z
LAST-MODIFIED:20251231T225452Z
UID:10004660-1770620400-1770627600@seacolonycommunity.com
SUMMARY:Pool Service
DESCRIPTION:Please be advised that the community pool will be serviced to ensure it remains clean\, safe\, and fully operational for everyone’s use. During this time\, access to the pool may be temporarily limited or unavailable. We appreciate your patience and cooperation as this routine maintenance helps provide a better experience for all residents. Thank you for your understanding.
URL:https://seacolonycommunity.com/event/pool-service/2026-02-09/
LOCATION:Pool\, Sea Colony Drive\, Jupiter\, FL\, 33477\, United States
CATEGORIES:Community Maintenance
ATTACH;FMTTYPE=image/png:https://seacolonycommunity.com/wp-content/uploads/2025/01/Pool.png
ORGANIZER;CN="Castle Property Manager":MAILTO:flucania@castlegroup.com
END:VEVENT
BEGIN:VEVENT
DTSTART;TZID=America/New_York:20260206T070000
DTEND;TZID=America/New_York:20260206T090000
DTSTAMP:20260425T193200
CREATED:20251231T225452Z
LAST-MODIFIED:20251231T225452Z
UID:10004659-1770361200-1770368400@seacolonycommunity.com
SUMMARY:Pool Service
DESCRIPTION:Please be advised that the community pool will be serviced to ensure it remains clean\, safe\, and fully operational for everyone’s use. During this time\, access to the pool may be temporarily limited or unavailable. We appreciate your patience and cooperation as this routine maintenance helps provide a better experience for all residents. Thank you for your understanding.
URL:https://seacolonycommunity.com/event/pool-service/2026-02-06/
LOCATION:Pool\, Sea Colony Drive\, Jupiter\, FL\, 33477\, United States
CATEGORIES:Community Maintenance
ATTACH;FMTTYPE=image/png:https://seacolonycommunity.com/wp-content/uploads/2025/01/Pool.png
ORGANIZER;CN="Castle Property Manager":MAILTO:flucania@castlegroup.com
END:VEVENT
BEGIN:VEVENT
DTSTART;TZID=America/New_York:20260204T070000
DTEND;TZID=America/New_York:20260204T090000
DTSTAMP:20260425T193200
CREATED:20251231T225452Z
LAST-MODIFIED:20251231T225452Z
UID:10004658-1770188400-1770195600@seacolonycommunity.com
SUMMARY:Pool Service
DESCRIPTION:Please be advised that the community pool will be serviced to ensure it remains clean\, safe\, and fully operational for everyone’s use. During this time\, access to the pool may be temporarily limited or unavailable. We appreciate your patience and cooperation as this routine maintenance helps provide a better experience for all residents. Thank you for your understanding.
URL:https://seacolonycommunity.com/event/pool-service/2026-02-04/
LOCATION:Pool\, Sea Colony Drive\, Jupiter\, FL\, 33477\, United States
CATEGORIES:Community Maintenance
ATTACH;FMTTYPE=image/png:https://seacolonycommunity.com/wp-content/uploads/2025/01/Pool.png
ORGANIZER;CN="Castle Property Manager":MAILTO:flucania@castlegroup.com
END:VEVENT
BEGIN:VEVENT
DTSTART;TZID=America/New_York:20260202T070000
DTEND;TZID=America/New_York:20260202T090000
DTSTAMP:20260425T193200
CREATED:20251231T225452Z
LAST-MODIFIED:20251231T225452Z
UID:10004657-1770015600-1770022800@seacolonycommunity.com
SUMMARY:Pool Service
DESCRIPTION:Please be advised that the community pool will be serviced to ensure it remains clean\, safe\, and fully operational for everyone’s use. During this time\, access to the pool may be temporarily limited or unavailable. We appreciate your patience and cooperation as this routine maintenance helps provide a better experience for all residents. Thank you for your understanding.
URL:https://seacolonycommunity.com/event/pool-service/2026-02-02/
LOCATION:Pool\, Sea Colony Drive\, Jupiter\, FL\, 33477\, United States
CATEGORIES:Community Maintenance
ATTACH;FMTTYPE=image/png:https://seacolonycommunity.com/wp-content/uploads/2025/01/Pool.png
ORGANIZER;CN="Castle Property Manager":MAILTO:flucania@castlegroup.com
END:VEVENT
BEGIN:VEVENT
DTSTART;TZID=America/New_York:20260130T070000
DTEND;TZID=America/New_York:20260130T090000
DTSTAMP:20260425T193200
CREATED:20251231T225452Z
LAST-MODIFIED:20251231T225452Z
UID:10004656-1769756400-1769763600@seacolonycommunity.com
SUMMARY:Pool Service
DESCRIPTION:Please be advised that the community pool will be serviced to ensure it remains clean\, safe\, and fully operational for everyone’s use. During this time\, access to the pool may be temporarily limited or unavailable. We appreciate your patience and cooperation as this routine maintenance helps provide a better experience for all residents. Thank you for your understanding.
URL:https://seacolonycommunity.com/event/pool-service/2026-01-30/
LOCATION:Pool\, Sea Colony Drive\, Jupiter\, FL\, 33477\, United States
CATEGORIES:Community Maintenance
ATTACH;FMTTYPE=image/png:https://seacolonycommunity.com/wp-content/uploads/2025/01/Pool.png
ORGANIZER;CN="Castle Property Manager":MAILTO:flucania@castlegroup.com
END:VEVENT
BEGIN:VEVENT
DTSTART;TZID=America/New_York:20260128T070000
DTEND;TZID=America/New_York:20260128T090000
DTSTAMP:20260425T193200
CREATED:20251231T225452Z
LAST-MODIFIED:20251231T225452Z
UID:10004655-1769583600-1769590800@seacolonycommunity.com
SUMMARY:Pool Service
DESCRIPTION:Please be advised that the community pool will be serviced to ensure it remains clean\, safe\, and fully operational for everyone’s use. During this time\, access to the pool may be temporarily limited or unavailable. We appreciate your patience and cooperation as this routine maintenance helps provide a better experience for all residents. Thank you for your understanding.
URL:https://seacolonycommunity.com/event/pool-service/2026-01-28/
LOCATION:Pool\, Sea Colony Drive\, Jupiter\, FL\, 33477\, United States
CATEGORIES:Community Maintenance
ATTACH;FMTTYPE=image/png:https://seacolonycommunity.com/wp-content/uploads/2025/01/Pool.png
ORGANIZER;CN="Castle Property Manager":MAILTO:flucania@castlegroup.com
END:VEVENT
BEGIN:VEVENT
DTSTART;TZID=America/New_York:20260126T070000
DTEND;TZID=America/New_York:20260126T090000
DTSTAMP:20260425T193200
CREATED:20251231T225452Z
LAST-MODIFIED:20251231T225452Z
UID:10004654-1769410800-1769418000@seacolonycommunity.com
SUMMARY:Pool Service
DESCRIPTION:Please be advised that the community pool will be serviced to ensure it remains clean\, safe\, and fully operational for everyone’s use. During this time\, access to the pool may be temporarily limited or unavailable. We appreciate your patience and cooperation as this routine maintenance helps provide a better experience for all residents. Thank you for your understanding.
URL:https://seacolonycommunity.com/event/pool-service/2026-01-26/
LOCATION:Pool\, Sea Colony Drive\, Jupiter\, FL\, 33477\, United States
CATEGORIES:Community Maintenance
ATTACH;FMTTYPE=image/png:https://seacolonycommunity.com/wp-content/uploads/2025/01/Pool.png
ORGANIZER;CN="Castle Property Manager":MAILTO:flucania@castlegroup.com
END:VEVENT
BEGIN:VEVENT
DTSTART;TZID=America/New_York:20260123T070000
DTEND;TZID=America/New_York:20260123T090000
DTSTAMP:20260425T193200
CREATED:20251231T225452Z
LAST-MODIFIED:20251231T225452Z
UID:10004653-1769151600-1769158800@seacolonycommunity.com
SUMMARY:Pool Service
DESCRIPTION:Please be advised that the community pool will be serviced to ensure it remains clean\, safe\, and fully operational for everyone’s use. During this time\, access to the pool may be temporarily limited or unavailable. We appreciate your patience and cooperation as this routine maintenance helps provide a better experience for all residents. Thank you for your understanding.
URL:https://seacolonycommunity.com/event/pool-service/2026-01-23/
LOCATION:Pool\, Sea Colony Drive\, Jupiter\, FL\, 33477\, United States
CATEGORIES:Community Maintenance
ATTACH;FMTTYPE=image/png:https://seacolonycommunity.com/wp-content/uploads/2025/01/Pool.png
ORGANIZER;CN="Castle Property Manager":MAILTO:flucania@castlegroup.com
END:VEVENT
BEGIN:VEVENT
DTSTART;TZID=America/New_York:20260121T070000
DTEND;TZID=America/New_York:20260121T090000
DTSTAMP:20260425T193200
CREATED:20251231T225452Z
LAST-MODIFIED:20251231T225452Z
UID:10004652-1768978800-1768986000@seacolonycommunity.com
SUMMARY:Pool Service
DESCRIPTION:Please be advised that the community pool will be serviced to ensure it remains clean\, safe\, and fully operational for everyone’s use. During this time\, access to the pool may be temporarily limited or unavailable. We appreciate your patience and cooperation as this routine maintenance helps provide a better experience for all residents. Thank you for your understanding.
URL:https://seacolonycommunity.com/event/pool-service/2026-01-21/
LOCATION:Pool\, Sea Colony Drive\, Jupiter\, FL\, 33477\, United States
CATEGORIES:Community Maintenance
ATTACH;FMTTYPE=image/png:https://seacolonycommunity.com/wp-content/uploads/2025/01/Pool.png
ORGANIZER;CN="Castle Property Manager":MAILTO:flucania@castlegroup.com
END:VEVENT
BEGIN:VEVENT
DTSTART;TZID=America/New_York:20260120T080000
DTEND;TZID=America/New_York:20260120T170000
DTSTAMP:20260425T193200
CREATED:20251209T165704Z
LAST-MODIFIED:20260305T172059Z
UID:10004643-1768896000-1768928400@seacolonycommunity.com
SUMMARY:Insecticide / Fertilizer Maintenance
DESCRIPTION:Please be advised that pesticides and/or fertilizers will be applied throughout the community. These applications are part of our routine maintenance.
URL:https://seacolonycommunity.com/event/insecticide-fertilizer-maintenance/2026-01-20/
LOCATION:Community\, Sea Colony Drive\, Jupiter\, FL\, 33477\, United States
CATEGORIES:Community Maintenance
ATTACH;FMTTYPE=image/jpeg:https://seacolonycommunity.com/wp-content/uploads/2025/12/Fertizer-Application.jpg
ORGANIZER;CN="Castle Property Manager":MAILTO:flucania@castlegroup.com
END:VEVENT
BEGIN:VEVENT
DTSTART;TZID=America/New_York:20260119T070000
DTEND;TZID=America/New_York:20260119T090000
DTSTAMP:20260425T193200
CREATED:20251231T225452Z
LAST-MODIFIED:20251231T225452Z
UID:10004651-1768806000-1768813200@seacolonycommunity.com
SUMMARY:Pool Service
DESCRIPTION:Please be advised that the community pool will be serviced to ensure it remains clean\, safe\, and fully operational for everyone’s use. During this time\, access to the pool may be temporarily limited or unavailable. We appreciate your patience and cooperation as this routine maintenance helps provide a better experience for all residents. Thank you for your understanding.
URL:https://seacolonycommunity.com/event/pool-service/2026-01-19/
LOCATION:Pool\, Sea Colony Drive\, Jupiter\, FL\, 33477\, United States
CATEGORIES:Community Maintenance
ATTACH;FMTTYPE=image/png:https://seacolonycommunity.com/wp-content/uploads/2025/01/Pool.png
ORGANIZER;CN="Castle Property Manager":MAILTO:flucania@castlegroup.com
END:VEVENT
BEGIN:VEVENT
DTSTART;TZID=America/New_York:20260116T070000
DTEND;TZID=America/New_York:20260116T090000
DTSTAMP:20260425T193200
CREATED:20251231T225452Z
LAST-MODIFIED:20251231T225452Z
UID:10004650-1768546800-1768554000@seacolonycommunity.com
SUMMARY:Pool Service
DESCRIPTION:Please be advised that the community pool will be serviced to ensure it remains clean\, safe\, and fully operational for everyone’s use. During this time\, access to the pool may be temporarily limited or unavailable. We appreciate your patience and cooperation as this routine maintenance helps provide a better experience for all residents. Thank you for your understanding.
URL:https://seacolonycommunity.com/event/pool-service/2026-01-16/
LOCATION:Pool\, Sea Colony Drive\, Jupiter\, FL\, 33477\, United States
CATEGORIES:Community Maintenance
ATTACH;FMTTYPE=image/png:https://seacolonycommunity.com/wp-content/uploads/2025/01/Pool.png
ORGANIZER;CN="Castle Property Manager":MAILTO:flucania@castlegroup.com
END:VEVENT
BEGIN:VEVENT
DTSTART;TZID=America/New_York:20260114T070000
DTEND;TZID=America/New_York:20260114T090000
DTSTAMP:20260425T193200
CREATED:20251231T225452Z
LAST-MODIFIED:20251231T225452Z
UID:10004649-1768374000-1768381200@seacolonycommunity.com
SUMMARY:Pool Service
DESCRIPTION:Please be advised that the community pool will be serviced to ensure it remains clean\, safe\, and fully operational for everyone’s use. During this time\, access to the pool may be temporarily limited or unavailable. We appreciate your patience and cooperation as this routine maintenance helps provide a better experience for all residents. Thank you for your understanding.
URL:https://seacolonycommunity.com/event/pool-service/2026-01-14/
LOCATION:Pool\, Sea Colony Drive\, Jupiter\, FL\, 33477\, United States
CATEGORIES:Community Maintenance
ATTACH;FMTTYPE=image/png:https://seacolonycommunity.com/wp-content/uploads/2025/01/Pool.png
ORGANIZER;CN="Castle Property Manager":MAILTO:flucania@castlegroup.com
END:VEVENT
BEGIN:VEVENT
DTSTART;TZID=America/New_York:20260112T080000
DTEND;TZID=America/New_York:20260112T170000
DTSTAMP:20260425T193200
CREATED:20251230T162832Z
LAST-MODIFIED:20260331T164826Z
UID:10004586-1768204800-1768237200@seacolonycommunity.com
SUMMARY:Mowing
DESCRIPTION:Please be advised that the landscape company will be mowing the grass as part of routine maintenance. Please be aware of crews and equipment during this time\, and thank you for your patience as we work to keep our grounds clean and well maintained.
URL:https://seacolonycommunity.com/event/mowing/2026-01-12/
LOCATION:Community\, Sea Colony Drive\, Jupiter\, FL\, 33477\, United States
CATEGORIES:Community Maintenance
ATTACH;FMTTYPE=image/jpeg:https://seacolonycommunity.com/wp-content/uploads/2025/11/Lawn-Care-Mower.jpg
ORGANIZER;CN="Castle Property Manager":MAILTO:flucania@castlegroup.com
END:VEVENT
BEGIN:VEVENT
DTSTART;TZID=America/New_York:20260112T070000
DTEND;TZID=America/New_York:20260112T090000
DTSTAMP:20260425T193200
CREATED:20251231T225452Z
LAST-MODIFIED:20251231T225452Z
UID:10004648-1768201200-1768208400@seacolonycommunity.com
SUMMARY:Pool Service
DESCRIPTION:Please be advised that the community pool will be serviced to ensure it remains clean\, safe\, and fully operational for everyone’s use. During this time\, access to the pool may be temporarily limited or unavailable. We appreciate your patience and cooperation as this routine maintenance helps provide a better experience for all residents. Thank you for your understanding.
URL:https://seacolonycommunity.com/event/pool-service/2026-01-12/
LOCATION:Pool\, Sea Colony Drive\, Jupiter\, FL\, 33477\, United States
CATEGORIES:Community Maintenance
ATTACH;FMTTYPE=image/png:https://seacolonycommunity.com/wp-content/uploads/2025/01/Pool.png
ORGANIZER;CN="Castle Property Manager":MAILTO:flucania@castlegroup.com
END:VEVENT
BEGIN:VEVENT
DTSTART;TZID=America/New_York:20260109T070000
DTEND;TZID=America/New_York:20260109T090000
DTSTAMP:20260425T193200
CREATED:20251231T225452Z
LAST-MODIFIED:20251231T225452Z
UID:10004647-1767942000-1767949200@seacolonycommunity.com
SUMMARY:Pool Service
DESCRIPTION:Please be advised that the community pool will be serviced to ensure it remains clean\, safe\, and fully operational for everyone’s use. During this time\, access to the pool may be temporarily limited or unavailable. We appreciate your patience and cooperation as this routine maintenance helps provide a better experience for all residents. Thank you for your understanding.
URL:https://seacolonycommunity.com/event/pool-service/2026-01-09/
LOCATION:Pool\, Sea Colony Drive\, Jupiter\, FL\, 33477\, United States
CATEGORIES:Community Maintenance
ATTACH;FMTTYPE=image/png:https://seacolonycommunity.com/wp-content/uploads/2025/01/Pool.png
ORGANIZER;CN="Castle Property Manager":MAILTO:flucania@castlegroup.com
END:VEVENT
BEGIN:VEVENT
DTSTART;TZID=America/New_York:20260107T070000
DTEND;TZID=America/New_York:20260107T090000
DTSTAMP:20260425T193200
CREATED:20251231T225452Z
LAST-MODIFIED:20251231T225452Z
UID:10004646-1767769200-1767776400@seacolonycommunity.com
SUMMARY:Pool Service
DESCRIPTION:Please be advised that the community pool will be serviced to ensure it remains clean\, safe\, and fully operational for everyone’s use. During this time\, access to the pool may be temporarily limited or unavailable. We appreciate your patience and cooperation as this routine maintenance helps provide a better experience for all residents. Thank you for your understanding.
URL:https://seacolonycommunity.com/event/pool-service/2026-01-07/
LOCATION:Pool\, Sea Colony Drive\, Jupiter\, FL\, 33477\, United States
CATEGORIES:Community Maintenance
ATTACH;FMTTYPE=image/png:https://seacolonycommunity.com/wp-content/uploads/2025/01/Pool.png
ORGANIZER;CN="Castle Property Manager":MAILTO:flucania@castlegroup.com
END:VEVENT
BEGIN:VEVENT
DTSTART;TZID=America/New_York:20260105T070000
DTEND;TZID=America/New_York:20260105T090000
DTSTAMP:20260425T193200
CREATED:20251231T225452Z
LAST-MODIFIED:20251231T225452Z
UID:10004645-1767596400-1767603600@seacolonycommunity.com
SUMMARY:Pool Service
DESCRIPTION:Please be advised that the community pool will be serviced to ensure it remains clean\, safe\, and fully operational for everyone’s use. During this time\, access to the pool may be temporarily limited or unavailable. We appreciate your patience and cooperation as this routine maintenance helps provide a better experience for all residents. Thank you for your understanding.
URL:https://seacolonycommunity.com/event/pool-service/2026-01-05/
LOCATION:Pool\, Sea Colony Drive\, Jupiter\, FL\, 33477\, United States
CATEGORIES:Community Maintenance
ATTACH;FMTTYPE=image/png:https://seacolonycommunity.com/wp-content/uploads/2025/01/Pool.png
ORGANIZER;CN="Castle Property Manager":MAILTO:flucania@castlegroup.com
END:VEVENT
BEGIN:VEVENT
DTSTART;TZID=America/New_York:20260102T070000
DTEND;TZID=America/New_York:20260102T090000
DTSTAMP:20260425T193200
CREATED:20251231T225452Z
LAST-MODIFIED:20251231T225452Z
UID:10004644-1767337200-1767344400@seacolonycommunity.com
SUMMARY:Pool Service
DESCRIPTION:Please be advised that the community pool will be serviced to ensure it remains clean\, safe\, and fully operational for everyone’s use. During this time\, access to the pool may be temporarily limited or unavailable. We appreciate your patience and cooperation as this routine maintenance helps provide a better experience for all residents. Thank you for your understanding.
URL:https://seacolonycommunity.com/event/pool-service/2026-01-02/
LOCATION:Pool\, Sea Colony Drive\, Jupiter\, FL\, 33477\, United States
CATEGORIES:Community Maintenance
ATTACH;FMTTYPE=image/png:https://seacolonycommunity.com/wp-content/uploads/2025/01/Pool.png
ORGANIZER;CN="Castle Property Manager":MAILTO:flucania@castlegroup.com
END:VEVENT
BEGIN:VEVENT
DTSTART;TZID=America/New_York:20251216T000000
DTEND;TZID=America/New_York:20251216T235959
DTSTAMP:20260425T193200
CREATED:20251209T165704Z
LAST-MODIFIED:20260305T172059Z
UID:10003248-1765843200-1765929599@seacolonycommunity.com
SUMMARY:Insecticide / Fertilizer Maintenance
DESCRIPTION:Please be advised that pesticides and/or fertilizers will be applied throughout the community. These applications are part of our routine maintenance.
URL:https://seacolonycommunity.com/event/insecticide-fertilizer-maintenance/2025-12-16/
LOCATION:Community\, Sea Colony Drive\, Jupiter\, FL\, 33477\, United States
CATEGORIES:Community Maintenance
ATTACH;FMTTYPE=image/jpeg:https://seacolonycommunity.com/wp-content/uploads/2025/12/Fertizer-Application.jpg
ORGANIZER;CN="Castle Property Manager":MAILTO:flucania@castlegroup.com
END:VEVENT
END:VCALENDAR