BEGIN:VCALENDAR
VERSION:2.0
PRODID:-//Sea Colony Community - ECPv6.15.20//NONSGML v1.0//EN
CALSCALE:GREGORIAN
METHOD:PUBLISH
X-ORIGINAL-URL:https://seacolonycommunity.com
X-WR-CALDESC:Events for Sea Colony Community
REFRESH-INTERVAL;VALUE=DURATION:PT1H
X-Robots-Tag:noindex
X-PUBLISHED-TTL:PT1H
BEGIN:VTIMEZONE
TZID:America/New_York
BEGIN:DAYLIGHT
TZOFFSETFROM:-0500
TZOFFSETTO:-0400
TZNAME:EDT
DTSTART:20250309T070000
END:DAYLIGHT
BEGIN:STANDARD
TZOFFSETFROM:-0400
TZOFFSETTO:-0500
TZNAME:EST
DTSTART:20251102T060000
END:STANDARD
BEGIN:DAYLIGHT
TZOFFSETFROM:-0500
TZOFFSETTO:-0400
TZNAME:EDT
DTSTART:20260308T070000
END:DAYLIGHT
BEGIN:STANDARD
TZOFFSETFROM:-0400
TZOFFSETTO:-0500
TZNAME:EST
DTSTART:20261101T060000
END:STANDARD
BEGIN:DAYLIGHT
TZOFFSETFROM:-0500
TZOFFSETTO:-0400
TZNAME:EDT
DTSTART:20270314T070000
END:DAYLIGHT
BEGIN:STANDARD
TZOFFSETFROM:-0400
TZOFFSETTO:-0500
TZNAME:EST
DTSTART:20271107T060000
END:STANDARD
END:VTIMEZONE
BEGIN:VEVENT
DTSTART;TZID=America/New_York:20260313T120000
DTEND;TZID=America/New_York:20260313T130000
DTSTAMP:20260425T212404
CREATED:20260225T230338Z
LAST-MODIFIED:20260301T001936Z
UID:10005563-1773403200-1773406800@seacolonycommunity.com
SUMMARY:Free Food and Demo Day
DESCRIPTION:We Need Your Help!\nPlease RSVP: traceyfiske@yahoo.com \nPlease support the work of the Sea Colony volunteers!  Attend the demonstration and Free lunch March 13th\, 12 PM at the Pool Pavilion! \nThe Front Entrance Advisory Group\, in partnership with the Sea Colony Board of Directors\, is pleased to collaborate with Storm Smart\, of Lake Worth Beach\, on an exciting enhancement for our community. Storm Smart has generously offered to provide and install Bahama Shutters for the guardhouse at no cost—representing an estimated $3\,000 value. \nIn appreciation\, they have asked for the opportunity to visit our community\, provide lunch\, and briefly introduce their product lines to interested residents. The complimentary shutters are not contingent on any sales or purchases. \nAs always\, the board remains committed to being fiscally responsible and pursuing opportunities that positively benefit the community. We are simply inviting residents to consider attending this one-hour presentation to help support this effort. \nShould you choose to make any purchases\, please remember that all community rules and architectural approval procedures must be followed. \nFor more information\, please visit https://www.stormsmart.com/ \nThe Sea Colony HOA’s agreement with Storm Smart is provided for the Association’s purposes only and does not constitute a recommendation\, endorsement\, warranty\, or guarantee of Storm Smart’s products or services. Homeowners are encouraged to conduct their own due diligence before engaging any vendor. \n 
URL:https://seacolonycommunity.com/event/free-food-and-demo-day/
LOCATION:Pool Pavilion\, Sea Colony Drive\, Jupiter\, FL\, 33477\, United States
CATEGORIES:Community Service
ATTACH;FMTTYPE=image/png:https://seacolonycommunity.com/wp-content/uploads/2026/02/Demo-Day-Free-Food.png
END:VEVENT
END:VCALENDAR