BEGIN:VCALENDAR
VERSION:2.0
PRODID:-//Sea Colony Community - ECPv6.15.20//NONSGML v1.0//EN
CALSCALE:GREGORIAN
METHOD:PUBLISH
X-ORIGINAL-URL:https://seacolonycommunity.com
X-WR-CALDESC:Events for Sea Colony Community
REFRESH-INTERVAL;VALUE=DURATION:PT1H
X-Robots-Tag:noindex
X-PUBLISHED-TTL:PT1H
BEGIN:VTIMEZONE
TZID:America/New_York
BEGIN:DAYLIGHT
TZOFFSETFROM:-0500
TZOFFSETTO:-0400
TZNAME:EDT
DTSTART:20250309T070000
END:DAYLIGHT
BEGIN:STANDARD
TZOFFSETFROM:-0400
TZOFFSETTO:-0500
TZNAME:EST
DTSTART:20251102T060000
END:STANDARD
BEGIN:DAYLIGHT
TZOFFSETFROM:-0500
TZOFFSETTO:-0400
TZNAME:EDT
DTSTART:20260308T070000
END:DAYLIGHT
BEGIN:STANDARD
TZOFFSETFROM:-0400
TZOFFSETTO:-0500
TZNAME:EST
DTSTART:20261101T060000
END:STANDARD
BEGIN:DAYLIGHT
TZOFFSETFROM:-0500
TZOFFSETTO:-0400
TZNAME:EDT
DTSTART:20270314T070000
END:DAYLIGHT
BEGIN:STANDARD
TZOFFSETFROM:-0400
TZOFFSETTO:-0500
TZNAME:EST
DTSTART:20271107T060000
END:STANDARD
END:VTIMEZONE
BEGIN:VEVENT
DTSTART;TZID=America/New_York:20260509T080000
DTEND;TZID=America/New_York:20260509T120000
DTSTAMP:20260425T211443
CREATED:20251212T184759Z
LAST-MODIFIED:20251222T133948Z
UID:10004530-1778313600-1778328000@seacolonycommunity.com
SUMMARY:Palm Beach Food Project Donation
DESCRIPTION:Donating food to the Palm Beach Food Project is a simple way to fight local hunger. Just fill a bag with non-perishable items (canned goods\, pasta\, rice\, peanut butter) and drop it off at 1605 Mizzenmast Way before 9:30 a.m. on the second Saturday of every other month. If you prefer\, neighborhood volunteers can also pick up your donation directly from your mailbox or garage door that same morning. Volunteers collect all donations and deliver them to the Palm Beach County food bank\, helping feed families\, seniors\, and children in need. Sign up at palmbeachfoodproject.org—every donation makes a real difference.
URL:https://seacolonycommunity.com/event/palm-beach-food-project-donation/2026-05-09/
LOCATION:Community\, Sea Colony Drive\, Jupiter\, FL\, 33477\, United States
CATEGORIES:Community Service
ATTACH;FMTTYPE=image/jpeg:https://seacolonycommunity.com/wp-content/uploads/2025/12/Food-Bank.jpg
END:VEVENT
END:VCALENDAR