BEGIN:VCALENDAR
VERSION:2.0
PRODID:-//Sea Colony Community - ECPv6.15.20//NONSGML v1.0//EN
CALSCALE:GREGORIAN
METHOD:PUBLISH
X-ORIGINAL-URL:https://seacolonycommunity.com
X-WR-CALDESC:Events for Sea Colony Community
REFRESH-INTERVAL;VALUE=DURATION:PT1H
X-Robots-Tag:noindex
X-PUBLISHED-TTL:PT1H
BEGIN:VTIMEZONE
TZID:America/New_York
BEGIN:DAYLIGHT
TZOFFSETFROM:-0500
TZOFFSETTO:-0400
TZNAME:EDT
DTSTART:20240310T070000
END:DAYLIGHT
BEGIN:STANDARD
TZOFFSETFROM:-0400
TZOFFSETTO:-0500
TZNAME:EST
DTSTART:20241103T060000
END:STANDARD
BEGIN:DAYLIGHT
TZOFFSETFROM:-0500
TZOFFSETTO:-0400
TZNAME:EDT
DTSTART:20250309T070000
END:DAYLIGHT
BEGIN:STANDARD
TZOFFSETFROM:-0400
TZOFFSETTO:-0500
TZNAME:EST
DTSTART:20251102T060000
END:STANDARD
BEGIN:DAYLIGHT
TZOFFSETFROM:-0500
TZOFFSETTO:-0400
TZNAME:EDT
DTSTART:20260308T070000
END:DAYLIGHT
BEGIN:STANDARD
TZOFFSETFROM:-0400
TZOFFSETTO:-0500
TZNAME:EST
DTSTART:20261101T060000
END:STANDARD
BEGIN:DAYLIGHT
TZOFFSETFROM:-0500
TZOFFSETTO:-0400
TZNAME:EDT
DTSTART:20270314T070000
END:DAYLIGHT
BEGIN:STANDARD
TZOFFSETFROM:-0400
TZOFFSETTO:-0500
TZNAME:EST
DTSTART:20271107T060000
END:STANDARD
END:VTIMEZONE
BEGIN:VEVENT
DTSTART;TZID=America/New_York:20260411T080000
DTEND;TZID=America/New_York:20260411T120000
DTSTAMP:20260425T155841
CREATED:20251212T184759Z
LAST-MODIFIED:20251222T133948Z
UID:10004529-1775894400-1775908800@seacolonycommunity.com
SUMMARY:Palm Beach Food Project Donation
DESCRIPTION:Donating food to the Palm Beach Food Project is a simple way to fight local hunger. Just fill a bag with non-perishable items (canned goods\, pasta\, rice\, peanut butter) and drop it off at 1605 Mizzenmast Way before 9:30 a.m. on the second Saturday of every other month. If you prefer\, neighborhood volunteers can also pick up your donation directly from your mailbox or garage door that same morning. Volunteers collect all donations and deliver them to the Palm Beach County food bank\, helping feed families\, seniors\, and children in need. Sign up at palmbeachfoodproject.org—every donation makes a real difference.
URL:https://seacolonycommunity.com/event/palm-beach-food-project-donation/2026-04-11/
LOCATION:Community\, Sea Colony Drive\, Jupiter\, FL\, 33477\, United States
CATEGORIES:Community Service
ATTACH;FMTTYPE=image/jpeg:https://seacolonycommunity.com/wp-content/uploads/2025/12/Food-Bank.jpg
END:VEVENT
BEGIN:VEVENT
DTSTART;TZID=America/New_York:20260314T080000
DTEND;TZID=America/New_York:20260314T120000
DTSTAMP:20260425T155841
CREATED:20251212T184759Z
LAST-MODIFIED:20251222T133948Z
UID:10004528-1773475200-1773489600@seacolonycommunity.com
SUMMARY:Palm Beach Food Project Donation
DESCRIPTION:Donating food to the Palm Beach Food Project is a simple way to fight local hunger. Just fill a bag with non-perishable items (canned goods\, pasta\, rice\, peanut butter) and drop it off at 1605 Mizzenmast Way before 9:30 a.m. on the second Saturday of every other month. If you prefer\, neighborhood volunteers can also pick up your donation directly from your mailbox or garage door that same morning. Volunteers collect all donations and deliver them to the Palm Beach County food bank\, helping feed families\, seniors\, and children in need. Sign up at palmbeachfoodproject.org—every donation makes a real difference.
URL:https://seacolonycommunity.com/event/palm-beach-food-project-donation/2026-03-14/
LOCATION:Community\, Sea Colony Drive\, Jupiter\, FL\, 33477\, United States
CATEGORIES:Community Service
ATTACH;FMTTYPE=image/jpeg:https://seacolonycommunity.com/wp-content/uploads/2025/12/Food-Bank.jpg
END:VEVENT
BEGIN:VEVENT
DTSTART;TZID=America/New_York:20260313T120000
DTEND;TZID=America/New_York:20260313T130000
DTSTAMP:20260425T155841
CREATED:20260225T230338Z
LAST-MODIFIED:20260301T001936Z
UID:10005563-1773403200-1773406800@seacolonycommunity.com
SUMMARY:Free Food and Demo Day
DESCRIPTION:We Need Your Help!\nPlease RSVP: traceyfiske@yahoo.com \nPlease support the work of the Sea Colony volunteers!  Attend the demonstration and Free lunch March 13th\, 12 PM at the Pool Pavilion! \nThe Front Entrance Advisory Group\, in partnership with the Sea Colony Board of Directors\, is pleased to collaborate with Storm Smart\, of Lake Worth Beach\, on an exciting enhancement for our community. Storm Smart has generously offered to provide and install Bahama Shutters for the guardhouse at no cost—representing an estimated $3\,000 value. \nIn appreciation\, they have asked for the opportunity to visit our community\, provide lunch\, and briefly introduce their product lines to interested residents. The complimentary shutters are not contingent on any sales or purchases. \nAs always\, the board remains committed to being fiscally responsible and pursuing opportunities that positively benefit the community. We are simply inviting residents to consider attending this one-hour presentation to help support this effort. \nShould you choose to make any purchases\, please remember that all community rules and architectural approval procedures must be followed. \nFor more information\, please visit https://www.stormsmart.com/ \nThe Sea Colony HOA’s agreement with Storm Smart is provided for the Association’s purposes only and does not constitute a recommendation\, endorsement\, warranty\, or guarantee of Storm Smart’s products or services. Homeowners are encouraged to conduct their own due diligence before engaging any vendor. \n 
URL:https://seacolonycommunity.com/event/free-food-and-demo-day/
LOCATION:Pool Pavilion\, Sea Colony Drive\, Jupiter\, FL\, 33477\, United States
CATEGORIES:Community Service
ATTACH;FMTTYPE=image/png:https://seacolonycommunity.com/wp-content/uploads/2026/02/Demo-Day-Free-Food.png
END:VEVENT
BEGIN:VEVENT
DTSTART;TZID=America/New_York:20260228T100000
DTEND;TZID=America/New_York:20260228T120000
DTSTAMP:20260425T155841
CREATED:20260217T200258Z
LAST-MODIFIED:20260225T225729Z
UID:10005560-1772272800-1772280000@seacolonycommunity.com
SUMMARY:Bake Sale
DESCRIPTION:Our community bake sale is a wonderful opportunity to come together\, share homemade treats\, and support a great cause while strengthening neighborhood connections. We warmly invite residents to contribute baked goods such as cookies\, cakes\, breads\, or any favorite family recipe to help make the event a success. Every donation\, big or small\, helps create a welcoming table and shows the spirit of generosity that makes our community so special. Thank you in advance for your support—we look forward to baking\, sharing\, and celebrating together! \nProceeds to benefit the Sea Colony Social Events
URL:https://seacolonycommunity.com/event/bake-sale/
LOCATION:Pool Pavilion\, Sea Colony Drive\, Jupiter\, FL\, 33477\, United States
CATEGORIES:Community Service
ATTACH;FMTTYPE=image/png:https://seacolonycommunity.com/wp-content/uploads/2026/02/Community-Bake-Sale.png
END:VEVENT
BEGIN:VEVENT
DTSTART;TZID=America/New_York:20260214T080000
DTEND;TZID=America/New_York:20260214T120000
DTSTAMP:20260425T155841
CREATED:20251212T184759Z
LAST-MODIFIED:20251222T133948Z
UID:10004527-1771056000-1771070400@seacolonycommunity.com
SUMMARY:Palm Beach Food Project Donation
DESCRIPTION:Donating food to the Palm Beach Food Project is a simple way to fight local hunger. Just fill a bag with non-perishable items (canned goods\, pasta\, rice\, peanut butter) and drop it off at 1605 Mizzenmast Way before 9:30 a.m. on the second Saturday of every other month. If you prefer\, neighborhood volunteers can also pick up your donation directly from your mailbox or garage door that same morning. Volunteers collect all donations and deliver them to the Palm Beach County food bank\, helping feed families\, seniors\, and children in need. Sign up at palmbeachfoodproject.org—every donation makes a real difference.
URL:https://seacolonycommunity.com/event/palm-beach-food-project-donation/2026-02-14/
LOCATION:Community\, Sea Colony Drive\, Jupiter\, FL\, 33477\, United States
CATEGORIES:Community Service
ATTACH;FMTTYPE=image/jpeg:https://seacolonycommunity.com/wp-content/uploads/2025/12/Food-Bank.jpg
END:VEVENT
BEGIN:VEVENT
DTSTART;TZID=America/New_York:20260110T080000
DTEND;TZID=America/New_York:20260110T120000
DTSTAMP:20260425T155841
CREATED:20251212T184759Z
LAST-MODIFIED:20251222T133948Z
UID:10004526-1768032000-1768046400@seacolonycommunity.com
SUMMARY:Palm Beach Food Project Donation
DESCRIPTION:Donating food to the Palm Beach Food Project is a simple way to fight local hunger. Just fill a bag with non-perishable items (canned goods\, pasta\, rice\, peanut butter) and drop it off at 1605 Mizzenmast Way before 9:30 a.m. on the second Saturday of every other month. If you prefer\, neighborhood volunteers can also pick up your donation directly from your mailbox or garage door that same morning. Volunteers collect all donations and deliver them to the Palm Beach County food bank\, helping feed families\, seniors\, and children in need. Sign up at palmbeachfoodproject.org—every donation makes a real difference.
URL:https://seacolonycommunity.com/event/palm-beach-food-project-donation/2026-01-10/
LOCATION:Community\, Sea Colony Drive\, Jupiter\, FL\, 33477\, United States
CATEGORIES:Community Service
ATTACH;FMTTYPE=image/jpeg:https://seacolonycommunity.com/wp-content/uploads/2025/12/Food-Bank.jpg
END:VEVENT
BEGIN:VEVENT
DTSTART;TZID=America/New_York:20251213T080000
DTEND;TZID=America/New_York:20251213T120000
DTSTAMP:20260425T155841
CREATED:20251212T184759Z
LAST-MODIFIED:20251222T133948Z
UID:10004525-1765612800-1765627200@seacolonycommunity.com
SUMMARY:Palm Beach Food Project Donation
DESCRIPTION:Donating food to the Palm Beach Food Project is a simple way to fight local hunger. Just fill a bag with non-perishable items (canned goods\, pasta\, rice\, peanut butter) and drop it off at 1605 Mizzenmast Way before 9:30 a.m. on the second Saturday of every other month. If you prefer\, neighborhood volunteers can also pick up your donation directly from your mailbox or garage door that same morning. Volunteers collect all donations and deliver them to the Palm Beach County food bank\, helping feed families\, seniors\, and children in need. Sign up at palmbeachfoodproject.org—every donation makes a real difference.
URL:https://seacolonycommunity.com/event/palm-beach-food-project-donation/2025-12-13/
LOCATION:Community\, Sea Colony Drive\, Jupiter\, FL\, 33477\, United States
CATEGORIES:Community Service
ATTACH;FMTTYPE=image/jpeg:https://seacolonycommunity.com/wp-content/uploads/2025/12/Food-Bank.jpg
END:VEVENT
END:VCALENDAR