BEGIN:VCALENDAR
VERSION:2.0
PRODID:-//Sea Colony Community - ECPv6.15.20//NONSGML v1.0//EN
CALSCALE:GREGORIAN
METHOD:PUBLISH
X-ORIGINAL-URL:https://seacolonycommunity.com
X-WR-CALDESC:Events for Sea Colony Community
REFRESH-INTERVAL;VALUE=DURATION:PT1H
X-Robots-Tag:noindex
X-PUBLISHED-TTL:PT1H
BEGIN:VTIMEZONE
TZID:America/New_York
BEGIN:DAYLIGHT
TZOFFSETFROM:-0500
TZOFFSETTO:-0400
TZNAME:EDT
DTSTART:20250309T070000
END:DAYLIGHT
BEGIN:STANDARD
TZOFFSETFROM:-0400
TZOFFSETTO:-0500
TZNAME:EST
DTSTART:20251102T060000
END:STANDARD
BEGIN:DAYLIGHT
TZOFFSETFROM:-0500
TZOFFSETTO:-0400
TZNAME:EDT
DTSTART:20260308T070000
END:DAYLIGHT
BEGIN:STANDARD
TZOFFSETFROM:-0400
TZOFFSETTO:-0500
TZNAME:EST
DTSTART:20261101T060000
END:STANDARD
BEGIN:DAYLIGHT
TZOFFSETFROM:-0500
TZOFFSETTO:-0400
TZNAME:EDT
DTSTART:20270314T070000
END:DAYLIGHT
BEGIN:STANDARD
TZOFFSETFROM:-0400
TZOFFSETTO:-0500
TZNAME:EST
DTSTART:20271107T060000
END:STANDARD
END:VTIMEZONE
BEGIN:VEVENT
DTSTART;TZID=America/New_York:20260601T130000
DTEND;TZID=America/New_York:20260601T150000
DTSTAMP:20260425T111338
CREATED:20251209T225552Z
LAST-MODIFIED:20251209T230021Z
UID:10003651-1780318800-1780326000@seacolonycommunity.com
SUMMARY:Mahjong
DESCRIPTION:Join our Community Mahjong Meetup — perfect for beginners\, casual players\, and seasoned tile-tappers alike! Learn\, play\, strategize\, and enjoy a relaxed\, welcoming atmosphere with great company and engaging games. All levels welcome — and don’t forget to bring your quarters!
URL:https://seacolonycommunity.com/event/mahjong-2/2026-06-01/
LOCATION:Pool Pavilion\, Sea Colony Drive\, Jupiter\, FL\, 33477\, United States
CATEGORIES:Mahjong
ATTACH;FMTTYPE=image/png:https://seacolonycommunity.com/wp-content/uploads/2025/11/Mahjong.png
END:VEVENT
BEGIN:VEVENT
DTSTART;TZID=America/New_York:20260608T130000
DTEND;TZID=America/New_York:20260608T150000
DTSTAMP:20260425T111338
CREATED:20251209T225552Z
LAST-MODIFIED:20251209T230021Z
UID:10003652-1780923600-1780930800@seacolonycommunity.com
SUMMARY:Mahjong
DESCRIPTION:Join our Community Mahjong Meetup — perfect for beginners\, casual players\, and seasoned tile-tappers alike! Learn\, play\, strategize\, and enjoy a relaxed\, welcoming atmosphere with great company and engaging games. All levels welcome — and don’t forget to bring your quarters!
URL:https://seacolonycommunity.com/event/mahjong-2/2026-06-08/
LOCATION:Pool Pavilion\, Sea Colony Drive\, Jupiter\, FL\, 33477\, United States
CATEGORIES:Mahjong
ATTACH;FMTTYPE=image/png:https://seacolonycommunity.com/wp-content/uploads/2025/11/Mahjong.png
END:VEVENT
BEGIN:VEVENT
DTSTART;TZID=America/New_York:20260615T130000
DTEND;TZID=America/New_York:20260615T150000
DTSTAMP:20260425T111338
CREATED:20251209T225552Z
LAST-MODIFIED:20251209T230021Z
UID:10003653-1781528400-1781535600@seacolonycommunity.com
SUMMARY:Mahjong
DESCRIPTION:Join our Community Mahjong Meetup — perfect for beginners\, casual players\, and seasoned tile-tappers alike! Learn\, play\, strategize\, and enjoy a relaxed\, welcoming atmosphere with great company and engaging games. All levels welcome — and don’t forget to bring your quarters!
URL:https://seacolonycommunity.com/event/mahjong-2/2026-06-15/
LOCATION:Pool Pavilion\, Sea Colony Drive\, Jupiter\, FL\, 33477\, United States
CATEGORIES:Mahjong
ATTACH;FMTTYPE=image/png:https://seacolonycommunity.com/wp-content/uploads/2025/11/Mahjong.png
END:VEVENT
BEGIN:VEVENT
DTSTART;TZID=America/New_York:20260622T130000
DTEND;TZID=America/New_York:20260622T150000
DTSTAMP:20260425T111338
CREATED:20251209T225552Z
LAST-MODIFIED:20251209T230021Z
UID:10003654-1782133200-1782140400@seacolonycommunity.com
SUMMARY:Mahjong
DESCRIPTION:Join our Community Mahjong Meetup — perfect for beginners\, casual players\, and seasoned tile-tappers alike! Learn\, play\, strategize\, and enjoy a relaxed\, welcoming atmosphere with great company and engaging games. All levels welcome — and don’t forget to bring your quarters!
URL:https://seacolonycommunity.com/event/mahjong-2/2026-06-22/
LOCATION:Pool Pavilion\, Sea Colony Drive\, Jupiter\, FL\, 33477\, United States
CATEGORIES:Mahjong
ATTACH;FMTTYPE=image/png:https://seacolonycommunity.com/wp-content/uploads/2025/11/Mahjong.png
END:VEVENT
BEGIN:VEVENT
DTSTART;TZID=America/New_York:20260629T130000
DTEND;TZID=America/New_York:20260629T150000
DTSTAMP:20260425T111338
CREATED:20251209T225552Z
LAST-MODIFIED:20251209T230021Z
UID:10003655-1782738000-1782745200@seacolonycommunity.com
SUMMARY:Mahjong
DESCRIPTION:Join our Community Mahjong Meetup — perfect for beginners\, casual players\, and seasoned tile-tappers alike! Learn\, play\, strategize\, and enjoy a relaxed\, welcoming atmosphere with great company and engaging games. All levels welcome — and don’t forget to bring your quarters!
URL:https://seacolonycommunity.com/event/mahjong-2/2026-06-29/
LOCATION:Pool Pavilion\, Sea Colony Drive\, Jupiter\, FL\, 33477\, United States
CATEGORIES:Mahjong
ATTACH;FMTTYPE=image/png:https://seacolonycommunity.com/wp-content/uploads/2025/11/Mahjong.png
END:VEVENT
END:VCALENDAR