BEGIN:VCALENDAR
VERSION:2.0
PRODID:-//Sea Colony Community - ECPv6.15.20//NONSGML v1.0//EN
CALSCALE:GREGORIAN
METHOD:PUBLISH
X-ORIGINAL-URL:https://seacolonycommunity.com
X-WR-CALDESC:Events for Sea Colony Community
REFRESH-INTERVAL;VALUE=DURATION:PT1H
X-Robots-Tag:noindex
X-PUBLISHED-TTL:PT1H
BEGIN:VTIMEZONE
TZID:America/New_York
BEGIN:DAYLIGHT
TZOFFSETFROM:-0500
TZOFFSETTO:-0400
TZNAME:EDT
DTSTART:20250309T070000
END:DAYLIGHT
BEGIN:STANDARD
TZOFFSETFROM:-0400
TZOFFSETTO:-0500
TZNAME:EST
DTSTART:20251102T060000
END:STANDARD
BEGIN:DAYLIGHT
TZOFFSETFROM:-0500
TZOFFSETTO:-0400
TZNAME:EDT
DTSTART:20260308T070000
END:DAYLIGHT
BEGIN:STANDARD
TZOFFSETFROM:-0400
TZOFFSETTO:-0500
TZNAME:EST
DTSTART:20261101T060000
END:STANDARD
BEGIN:DAYLIGHT
TZOFFSETFROM:-0500
TZOFFSETTO:-0400
TZNAME:EDT
DTSTART:20270314T070000
END:DAYLIGHT
BEGIN:STANDARD
TZOFFSETFROM:-0400
TZOFFSETTO:-0500
TZNAME:EST
DTSTART:20271107T060000
END:STANDARD
END:VTIMEZONE
BEGIN:VEVENT
DTSTART;TZID=America/New_York:20260518T130000
DTEND;TZID=America/New_York:20260518T150000
DTSTAMP:20260425T112352
CREATED:20251209T225552Z
LAST-MODIFIED:20251209T230021Z
UID:10003649-1779109200-1779116400@seacolonycommunity.com
SUMMARY:Mahjong
DESCRIPTION:Join our Community Mahjong Meetup — perfect for beginners\, casual players\, and seasoned tile-tappers alike! Learn\, play\, strategize\, and enjoy a relaxed\, welcoming atmosphere with great company and engaging games. All levels welcome — and don’t forget to bring your quarters!
URL:https://seacolonycommunity.com/event/mahjong-2/2026-05-18/
LOCATION:Pool Pavilion\, Sea Colony Drive\, Jupiter\, FL\, 33477\, United States
CATEGORIES:Mahjong
ATTACH;FMTTYPE=image/png:https://seacolonycommunity.com/wp-content/uploads/2025/11/Mahjong.png
END:VEVENT
END:VCALENDAR