BEGIN:VCALENDAR
VERSION:2.0
PRODID:-//Sea Colony Community - ECPv6.15.20//NONSGML v1.0//EN
CALSCALE:GREGORIAN
METHOD:PUBLISH
X-WR-CALNAME:Sea Colony Community
X-ORIGINAL-URL:https://seacolonycommunity.com
X-WR-CALDESC:Events for Sea Colony Community
REFRESH-INTERVAL;VALUE=DURATION:PT1H
X-Robots-Tag:noindex
X-PUBLISHED-TTL:PT1H
BEGIN:VTIMEZONE
TZID:America/New_York
BEGIN:DAYLIGHT
TZOFFSETFROM:-0500
TZOFFSETTO:-0400
TZNAME:EDT
DTSTART:20250309T070000
END:DAYLIGHT
BEGIN:STANDARD
TZOFFSETFROM:-0400
TZOFFSETTO:-0500
TZNAME:EST
DTSTART:20251102T060000
END:STANDARD
BEGIN:DAYLIGHT
TZOFFSETFROM:-0500
TZOFFSETTO:-0400
TZNAME:EDT
DTSTART:20260308T070000
END:DAYLIGHT
BEGIN:STANDARD
TZOFFSETFROM:-0400
TZOFFSETTO:-0500
TZNAME:EST
DTSTART:20261101T060000
END:STANDARD
BEGIN:DAYLIGHT
TZOFFSETFROM:-0500
TZOFFSETTO:-0400
TZNAME:EDT
DTSTART:20270314T070000
END:DAYLIGHT
BEGIN:STANDARD
TZOFFSETFROM:-0400
TZOFFSETTO:-0500
TZNAME:EST
DTSTART:20271107T060000
END:STANDARD
END:VTIMEZONE
BEGIN:VEVENT
DTSTART;TZID=America/New_York:20260720T130000
DTEND;TZID=America/New_York:20260720T150000
DTSTAMP:20260425T112632
CREATED:20251209T225552Z
LAST-MODIFIED:20251209T230021Z
UID:10003658-1784552400-1784559600@seacolonycommunity.com
SUMMARY:Mahjong
DESCRIPTION:Join our Community Mahjong Meetup — perfect for beginners\, casual players\, and seasoned tile-tappers alike! Learn\, play\, strategize\, and enjoy a relaxed\, welcoming atmosphere with great company and engaging games. All levels welcome — and don’t forget to bring your quarters!
URL:https://seacolonycommunity.com/event/mahjong-2/2026-07-20/
LOCATION:Pool Pavilion\, Sea Colony Drive\, Jupiter\, FL\, 33477\, United States
CATEGORIES:Mahjong
ATTACH;FMTTYPE=image/png:https://seacolonycommunity.com/wp-content/uploads/2025/11/Mahjong.png
END:VEVENT
BEGIN:VEVENT
DTSTART;TZID=America/New_York:20260727T130000
DTEND;TZID=America/New_York:20260727T150000
DTSTAMP:20260425T112632
CREATED:20251209T225552Z
LAST-MODIFIED:20251209T230021Z
UID:10003659-1785157200-1785164400@seacolonycommunity.com
SUMMARY:Mahjong
DESCRIPTION:Join our Community Mahjong Meetup — perfect for beginners\, casual players\, and seasoned tile-tappers alike! Learn\, play\, strategize\, and enjoy a relaxed\, welcoming atmosphere with great company and engaging games. All levels welcome — and don’t forget to bring your quarters!
URL:https://seacolonycommunity.com/event/mahjong-2/2026-07-27/
LOCATION:Pool Pavilion\, Sea Colony Drive\, Jupiter\, FL\, 33477\, United States
CATEGORIES:Mahjong
ATTACH;FMTTYPE=image/png:https://seacolonycommunity.com/wp-content/uploads/2025/11/Mahjong.png
END:VEVENT
BEGIN:VEVENT
DTSTART;TZID=America/New_York:20260803T130000
DTEND;TZID=America/New_York:20260803T150000
DTSTAMP:20260425T112632
CREATED:20251209T225552Z
LAST-MODIFIED:20251209T230021Z
UID:10003660-1785762000-1785769200@seacolonycommunity.com
SUMMARY:Mahjong
DESCRIPTION:Join our Community Mahjong Meetup — perfect for beginners\, casual players\, and seasoned tile-tappers alike! Learn\, play\, strategize\, and enjoy a relaxed\, welcoming atmosphere with great company and engaging games. All levels welcome — and don’t forget to bring your quarters!
URL:https://seacolonycommunity.com/event/mahjong-2/2026-08-03/
LOCATION:Pool Pavilion\, Sea Colony Drive\, Jupiter\, FL\, 33477\, United States
CATEGORIES:Mahjong
ATTACH;FMTTYPE=image/png:https://seacolonycommunity.com/wp-content/uploads/2025/11/Mahjong.png
END:VEVENT
BEGIN:VEVENT
DTSTART;TZID=America/New_York:20260810T130000
DTEND;TZID=America/New_York:20260810T150000
DTSTAMP:20260425T112632
CREATED:20251209T225552Z
LAST-MODIFIED:20251209T230021Z
UID:10003661-1786366800-1786374000@seacolonycommunity.com
SUMMARY:Mahjong
DESCRIPTION:Join our Community Mahjong Meetup — perfect for beginners\, casual players\, and seasoned tile-tappers alike! Learn\, play\, strategize\, and enjoy a relaxed\, welcoming atmosphere with great company and engaging games. All levels welcome — and don’t forget to bring your quarters!
URL:https://seacolonycommunity.com/event/mahjong-2/2026-08-10/
LOCATION:Pool Pavilion\, Sea Colony Drive\, Jupiter\, FL\, 33477\, United States
CATEGORIES:Mahjong
ATTACH;FMTTYPE=image/png:https://seacolonycommunity.com/wp-content/uploads/2025/11/Mahjong.png
END:VEVENT
BEGIN:VEVENT
DTSTART;TZID=America/New_York:20260817T130000
DTEND;TZID=America/New_York:20260817T150000
DTSTAMP:20260425T112632
CREATED:20251209T225552Z
LAST-MODIFIED:20251209T230021Z
UID:10003662-1786971600-1786978800@seacolonycommunity.com
SUMMARY:Mahjong
DESCRIPTION:Join our Community Mahjong Meetup — perfect for beginners\, casual players\, and seasoned tile-tappers alike! Learn\, play\, strategize\, and enjoy a relaxed\, welcoming atmosphere with great company and engaging games. All levels welcome — and don’t forget to bring your quarters!
URL:https://seacolonycommunity.com/event/mahjong-2/2026-08-17/
LOCATION:Pool Pavilion\, Sea Colony Drive\, Jupiter\, FL\, 33477\, United States
CATEGORIES:Mahjong
ATTACH;FMTTYPE=image/png:https://seacolonycommunity.com/wp-content/uploads/2025/11/Mahjong.png
END:VEVENT
BEGIN:VEVENT
DTSTART;TZID=America/New_York:20260824T130000
DTEND;TZID=America/New_York:20260824T150000
DTSTAMP:20260425T112632
CREATED:20251209T225552Z
LAST-MODIFIED:20251209T230021Z
UID:10003663-1787576400-1787583600@seacolonycommunity.com
SUMMARY:Mahjong
DESCRIPTION:Join our Community Mahjong Meetup — perfect for beginners\, casual players\, and seasoned tile-tappers alike! Learn\, play\, strategize\, and enjoy a relaxed\, welcoming atmosphere with great company and engaging games. All levels welcome — and don’t forget to bring your quarters!
URL:https://seacolonycommunity.com/event/mahjong-2/2026-08-24/
LOCATION:Pool Pavilion\, Sea Colony Drive\, Jupiter\, FL\, 33477\, United States
CATEGORIES:Mahjong
ATTACH;FMTTYPE=image/png:https://seacolonycommunity.com/wp-content/uploads/2025/11/Mahjong.png
END:VEVENT
BEGIN:VEVENT
DTSTART;TZID=America/New_York:20260831T130000
DTEND;TZID=America/New_York:20260831T150000
DTSTAMP:20260425T112632
CREATED:20251209T225552Z
LAST-MODIFIED:20251209T230021Z
UID:10003664-1788181200-1788188400@seacolonycommunity.com
SUMMARY:Mahjong
DESCRIPTION:Join our Community Mahjong Meetup — perfect for beginners\, casual players\, and seasoned tile-tappers alike! Learn\, play\, strategize\, and enjoy a relaxed\, welcoming atmosphere with great company and engaging games. All levels welcome — and don’t forget to bring your quarters!
URL:https://seacolonycommunity.com/event/mahjong-2/2026-08-31/
LOCATION:Pool Pavilion\, Sea Colony Drive\, Jupiter\, FL\, 33477\, United States
CATEGORIES:Mahjong
ATTACH;FMTTYPE=image/png:https://seacolonycommunity.com/wp-content/uploads/2025/11/Mahjong.png
END:VEVENT
BEGIN:VEVENT
DTSTART;TZID=America/New_York:20260907T130000
DTEND;TZID=America/New_York:20260907T150000
DTSTAMP:20260425T112632
CREATED:20251209T225552Z
LAST-MODIFIED:20251209T230021Z
UID:10003665-1788786000-1788793200@seacolonycommunity.com
SUMMARY:Mahjong
DESCRIPTION:Join our Community Mahjong Meetup — perfect for beginners\, casual players\, and seasoned tile-tappers alike! Learn\, play\, strategize\, and enjoy a relaxed\, welcoming atmosphere with great company and engaging games. All levels welcome — and don’t forget to bring your quarters!
URL:https://seacolonycommunity.com/event/mahjong-2/2026-09-07/
LOCATION:Pool Pavilion\, Sea Colony Drive\, Jupiter\, FL\, 33477\, United States
CATEGORIES:Mahjong
ATTACH;FMTTYPE=image/png:https://seacolonycommunity.com/wp-content/uploads/2025/11/Mahjong.png
END:VEVENT
BEGIN:VEVENT
DTSTART;TZID=America/New_York:20260914T130000
DTEND;TZID=America/New_York:20260914T150000
DTSTAMP:20260425T112632
CREATED:20251209T225552Z
LAST-MODIFIED:20251209T230021Z
UID:10003666-1789390800-1789398000@seacolonycommunity.com
SUMMARY:Mahjong
DESCRIPTION:Join our Community Mahjong Meetup — perfect for beginners\, casual players\, and seasoned tile-tappers alike! Learn\, play\, strategize\, and enjoy a relaxed\, welcoming atmosphere with great company and engaging games. All levels welcome — and don’t forget to bring your quarters!
URL:https://seacolonycommunity.com/event/mahjong-2/2026-09-14/
LOCATION:Pool Pavilion\, Sea Colony Drive\, Jupiter\, FL\, 33477\, United States
CATEGORIES:Mahjong
ATTACH;FMTTYPE=image/png:https://seacolonycommunity.com/wp-content/uploads/2025/11/Mahjong.png
END:VEVENT
BEGIN:VEVENT
DTSTART;TZID=America/New_York:20260921T130000
DTEND;TZID=America/New_York:20260921T150000
DTSTAMP:20260425T112632
CREATED:20251209T225552Z
LAST-MODIFIED:20251209T230021Z
UID:10003667-1789995600-1790002800@seacolonycommunity.com
SUMMARY:Mahjong
DESCRIPTION:Join our Community Mahjong Meetup — perfect for beginners\, casual players\, and seasoned tile-tappers alike! Learn\, play\, strategize\, and enjoy a relaxed\, welcoming atmosphere with great company and engaging games. All levels welcome — and don’t forget to bring your quarters!
URL:https://seacolonycommunity.com/event/mahjong-2/2026-09-21/
LOCATION:Pool Pavilion\, Sea Colony Drive\, Jupiter\, FL\, 33477\, United States
CATEGORIES:Mahjong
ATTACH;FMTTYPE=image/png:https://seacolonycommunity.com/wp-content/uploads/2025/11/Mahjong.png
END:VEVENT
BEGIN:VEVENT
DTSTART;TZID=America/New_York:20260928T130000
DTEND;TZID=America/New_York:20260928T150000
DTSTAMP:20260425T112632
CREATED:20251209T225552Z
LAST-MODIFIED:20251209T230021Z
UID:10003668-1790600400-1790607600@seacolonycommunity.com
SUMMARY:Mahjong
DESCRIPTION:Join our Community Mahjong Meetup — perfect for beginners\, casual players\, and seasoned tile-tappers alike! Learn\, play\, strategize\, and enjoy a relaxed\, welcoming atmosphere with great company and engaging games. All levels welcome — and don’t forget to bring your quarters!
URL:https://seacolonycommunity.com/event/mahjong-2/2026-09-28/
LOCATION:Pool Pavilion\, Sea Colony Drive\, Jupiter\, FL\, 33477\, United States
CATEGORIES:Mahjong
ATTACH;FMTTYPE=image/png:https://seacolonycommunity.com/wp-content/uploads/2025/11/Mahjong.png
END:VEVENT
BEGIN:VEVENT
DTSTART;TZID=America/New_York:20261005T130000
DTEND;TZID=America/New_York:20261005T150000
DTSTAMP:20260425T112632
CREATED:20251209T225552Z
LAST-MODIFIED:20251209T230021Z
UID:10003669-1791205200-1791212400@seacolonycommunity.com
SUMMARY:Mahjong
DESCRIPTION:Join our Community Mahjong Meetup — perfect for beginners\, casual players\, and seasoned tile-tappers alike! Learn\, play\, strategize\, and enjoy a relaxed\, welcoming atmosphere with great company and engaging games. All levels welcome — and don’t forget to bring your quarters!
URL:https://seacolonycommunity.com/event/mahjong-2/2026-10-05/
LOCATION:Pool Pavilion\, Sea Colony Drive\, Jupiter\, FL\, 33477\, United States
CATEGORIES:Mahjong
ATTACH;FMTTYPE=image/png:https://seacolonycommunity.com/wp-content/uploads/2025/11/Mahjong.png
END:VEVENT
BEGIN:VEVENT
DTSTART;TZID=America/New_York:20261012T130000
DTEND;TZID=America/New_York:20261012T150000
DTSTAMP:20260425T112632
CREATED:20251209T225552Z
LAST-MODIFIED:20251209T230021Z
UID:10003670-1791810000-1791817200@seacolonycommunity.com
SUMMARY:Mahjong
DESCRIPTION:Join our Community Mahjong Meetup — perfect for beginners\, casual players\, and seasoned tile-tappers alike! Learn\, play\, strategize\, and enjoy a relaxed\, welcoming atmosphere with great company and engaging games. All levels welcome — and don’t forget to bring your quarters!
URL:https://seacolonycommunity.com/event/mahjong-2/2026-10-12/
LOCATION:Pool Pavilion\, Sea Colony Drive\, Jupiter\, FL\, 33477\, United States
CATEGORIES:Mahjong
ATTACH;FMTTYPE=image/png:https://seacolonycommunity.com/wp-content/uploads/2025/11/Mahjong.png
END:VEVENT
BEGIN:VEVENT
DTSTART;TZID=America/New_York:20261019T130000
DTEND;TZID=America/New_York:20261019T150000
DTSTAMP:20260425T112632
CREATED:20251209T225552Z
LAST-MODIFIED:20251209T230021Z
UID:10003671-1792414800-1792422000@seacolonycommunity.com
SUMMARY:Mahjong
DESCRIPTION:Join our Community Mahjong Meetup — perfect for beginners\, casual players\, and seasoned tile-tappers alike! Learn\, play\, strategize\, and enjoy a relaxed\, welcoming atmosphere with great company and engaging games. All levels welcome — and don’t forget to bring your quarters!
URL:https://seacolonycommunity.com/event/mahjong-2/2026-10-19/
LOCATION:Pool Pavilion\, Sea Colony Drive\, Jupiter\, FL\, 33477\, United States
CATEGORIES:Mahjong
ATTACH;FMTTYPE=image/png:https://seacolonycommunity.com/wp-content/uploads/2025/11/Mahjong.png
END:VEVENT
BEGIN:VEVENT
DTSTART;TZID=America/New_York:20261026T130000
DTEND;TZID=America/New_York:20261026T150000
DTSTAMP:20260425T112632
CREATED:20251209T225552Z
LAST-MODIFIED:20251209T230021Z
UID:10003672-1793019600-1793026800@seacolonycommunity.com
SUMMARY:Mahjong
DESCRIPTION:Join our Community Mahjong Meetup — perfect for beginners\, casual players\, and seasoned tile-tappers alike! Learn\, play\, strategize\, and enjoy a relaxed\, welcoming atmosphere with great company and engaging games. All levels welcome — and don’t forget to bring your quarters!
URL:https://seacolonycommunity.com/event/mahjong-2/2026-10-26/
LOCATION:Pool Pavilion\, Sea Colony Drive\, Jupiter\, FL\, 33477\, United States
CATEGORIES:Mahjong
ATTACH;FMTTYPE=image/png:https://seacolonycommunity.com/wp-content/uploads/2025/11/Mahjong.png
END:VEVENT
BEGIN:VEVENT
DTSTART;TZID=America/New_York:20261102T130000
DTEND;TZID=America/New_York:20261102T150000
DTSTAMP:20260425T112632
CREATED:20251209T225552Z
LAST-MODIFIED:20251209T230021Z
UID:10003673-1793624400-1793631600@seacolonycommunity.com
SUMMARY:Mahjong
DESCRIPTION:Join our Community Mahjong Meetup — perfect for beginners\, casual players\, and seasoned tile-tappers alike! Learn\, play\, strategize\, and enjoy a relaxed\, welcoming atmosphere with great company and engaging games. All levels welcome — and don’t forget to bring your quarters!
URL:https://seacolonycommunity.com/event/mahjong-2/2026-11-02/
LOCATION:Pool Pavilion\, Sea Colony Drive\, Jupiter\, FL\, 33477\, United States
CATEGORIES:Mahjong
ATTACH;FMTTYPE=image/png:https://seacolonycommunity.com/wp-content/uploads/2025/11/Mahjong.png
END:VEVENT
BEGIN:VEVENT
DTSTART;TZID=America/New_York:20261109T130000
DTEND;TZID=America/New_York:20261109T150000
DTSTAMP:20260425T112632
CREATED:20251209T225552Z
LAST-MODIFIED:20251209T230021Z
UID:10003674-1794229200-1794236400@seacolonycommunity.com
SUMMARY:Mahjong
DESCRIPTION:Join our Community Mahjong Meetup — perfect for beginners\, casual players\, and seasoned tile-tappers alike! Learn\, play\, strategize\, and enjoy a relaxed\, welcoming atmosphere with great company and engaging games. All levels welcome — and don’t forget to bring your quarters!
URL:https://seacolonycommunity.com/event/mahjong-2/2026-11-09/
LOCATION:Pool Pavilion\, Sea Colony Drive\, Jupiter\, FL\, 33477\, United States
CATEGORIES:Mahjong
ATTACH;FMTTYPE=image/png:https://seacolonycommunity.com/wp-content/uploads/2025/11/Mahjong.png
END:VEVENT
BEGIN:VEVENT
DTSTART;TZID=America/New_York:20261116T130000
DTEND;TZID=America/New_York:20261116T150000
DTSTAMP:20260425T112632
CREATED:20251209T225552Z
LAST-MODIFIED:20251209T230021Z
UID:10003675-1794834000-1794841200@seacolonycommunity.com
SUMMARY:Mahjong
DESCRIPTION:Join our Community Mahjong Meetup — perfect for beginners\, casual players\, and seasoned tile-tappers alike! Learn\, play\, strategize\, and enjoy a relaxed\, welcoming atmosphere with great company and engaging games. All levels welcome — and don’t forget to bring your quarters!
URL:https://seacolonycommunity.com/event/mahjong-2/2026-11-16/
LOCATION:Pool Pavilion\, Sea Colony Drive\, Jupiter\, FL\, 33477\, United States
CATEGORIES:Mahjong
ATTACH;FMTTYPE=image/png:https://seacolonycommunity.com/wp-content/uploads/2025/11/Mahjong.png
END:VEVENT
BEGIN:VEVENT
DTSTART;TZID=America/New_York:20261123T130000
DTEND;TZID=America/New_York:20261123T150000
DTSTAMP:20260425T112632
CREATED:20251209T225552Z
LAST-MODIFIED:20251209T230021Z
UID:10003676-1795438800-1795446000@seacolonycommunity.com
SUMMARY:Mahjong
DESCRIPTION:Join our Community Mahjong Meetup — perfect for beginners\, casual players\, and seasoned tile-tappers alike! Learn\, play\, strategize\, and enjoy a relaxed\, welcoming atmosphere with great company and engaging games. All levels welcome — and don’t forget to bring your quarters!
URL:https://seacolonycommunity.com/event/mahjong-2/2026-11-23/
LOCATION:Pool Pavilion\, Sea Colony Drive\, Jupiter\, FL\, 33477\, United States
CATEGORIES:Mahjong
ATTACH;FMTTYPE=image/png:https://seacolonycommunity.com/wp-content/uploads/2025/11/Mahjong.png
END:VEVENT
BEGIN:VEVENT
DTSTART;TZID=America/New_York:20261130T130000
DTEND;TZID=America/New_York:20261130T150000
DTSTAMP:20260425T112632
CREATED:20251209T225552Z
LAST-MODIFIED:20251209T230021Z
UID:10003677-1796043600-1796050800@seacolonycommunity.com
SUMMARY:Mahjong
DESCRIPTION:Join our Community Mahjong Meetup — perfect for beginners\, casual players\, and seasoned tile-tappers alike! Learn\, play\, strategize\, and enjoy a relaxed\, welcoming atmosphere with great company and engaging games. All levels welcome — and don’t forget to bring your quarters!
URL:https://seacolonycommunity.com/event/mahjong-2/2026-11-30/
LOCATION:Pool Pavilion\, Sea Colony Drive\, Jupiter\, FL\, 33477\, United States
CATEGORIES:Mahjong
ATTACH;FMTTYPE=image/png:https://seacolonycommunity.com/wp-content/uploads/2025/11/Mahjong.png
END:VEVENT
BEGIN:VEVENT
DTSTART;TZID=America/New_York:20261207T130000
DTEND;TZID=America/New_York:20261207T150000
DTSTAMP:20260425T112632
CREATED:20251209T225552Z
LAST-MODIFIED:20251209T230021Z
UID:10003678-1796648400-1796655600@seacolonycommunity.com
SUMMARY:Mahjong
DESCRIPTION:Join our Community Mahjong Meetup — perfect for beginners\, casual players\, and seasoned tile-tappers alike! Learn\, play\, strategize\, and enjoy a relaxed\, welcoming atmosphere with great company and engaging games. All levels welcome — and don’t forget to bring your quarters!
URL:https://seacolonycommunity.com/event/mahjong-2/2026-12-07/
LOCATION:Pool Pavilion\, Sea Colony Drive\, Jupiter\, FL\, 33477\, United States
CATEGORIES:Mahjong
ATTACH;FMTTYPE=image/png:https://seacolonycommunity.com/wp-content/uploads/2025/11/Mahjong.png
END:VEVENT
BEGIN:VEVENT
DTSTART;TZID=America/New_York:20261214T130000
DTEND;TZID=America/New_York:20261214T150000
DTSTAMP:20260425T112632
CREATED:20251209T225552Z
LAST-MODIFIED:20251209T230021Z
UID:10003679-1797253200-1797260400@seacolonycommunity.com
SUMMARY:Mahjong
DESCRIPTION:Join our Community Mahjong Meetup — perfect for beginners\, casual players\, and seasoned tile-tappers alike! Learn\, play\, strategize\, and enjoy a relaxed\, welcoming atmosphere with great company and engaging games. All levels welcome — and don’t forget to bring your quarters!
URL:https://seacolonycommunity.com/event/mahjong-2/2026-12-14/
LOCATION:Pool Pavilion\, Sea Colony Drive\, Jupiter\, FL\, 33477\, United States
CATEGORIES:Mahjong
ATTACH;FMTTYPE=image/png:https://seacolonycommunity.com/wp-content/uploads/2025/11/Mahjong.png
END:VEVENT
BEGIN:VEVENT
DTSTART;TZID=America/New_York:20261221T130000
DTEND;TZID=America/New_York:20261221T150000
DTSTAMP:20260425T112632
CREATED:20251209T225552Z
LAST-MODIFIED:20251209T230021Z
UID:10003680-1797858000-1797865200@seacolonycommunity.com
SUMMARY:Mahjong
DESCRIPTION:Join our Community Mahjong Meetup — perfect for beginners\, casual players\, and seasoned tile-tappers alike! Learn\, play\, strategize\, and enjoy a relaxed\, welcoming atmosphere with great company and engaging games. All levels welcome — and don’t forget to bring your quarters!
URL:https://seacolonycommunity.com/event/mahjong-2/2026-12-21/
LOCATION:Pool Pavilion\, Sea Colony Drive\, Jupiter\, FL\, 33477\, United States
CATEGORIES:Mahjong
ATTACH;FMTTYPE=image/png:https://seacolonycommunity.com/wp-content/uploads/2025/11/Mahjong.png
END:VEVENT
BEGIN:VEVENT
DTSTART;TZID=America/New_York:20261228T130000
DTEND;TZID=America/New_York:20261228T150000
DTSTAMP:20260425T112632
CREATED:20251209T225552Z
LAST-MODIFIED:20251209T230021Z
UID:10003681-1798462800-1798470000@seacolonycommunity.com
SUMMARY:Mahjong
DESCRIPTION:Join our Community Mahjong Meetup — perfect for beginners\, casual players\, and seasoned tile-tappers alike! Learn\, play\, strategize\, and enjoy a relaxed\, welcoming atmosphere with great company and engaging games. All levels welcome — and don’t forget to bring your quarters!
URL:https://seacolonycommunity.com/event/mahjong-2/2026-12-28/
LOCATION:Pool Pavilion\, Sea Colony Drive\, Jupiter\, FL\, 33477\, United States
CATEGORIES:Mahjong
ATTACH;FMTTYPE=image/png:https://seacolonycommunity.com/wp-content/uploads/2025/11/Mahjong.png
END:VEVENT
END:VCALENDAR