BEGIN:VCALENDAR
VERSION:2.0
PRODID:-//Sea Colony Community - ECPv6.15.20//NONSGML v1.0//EN
CALSCALE:GREGORIAN
METHOD:PUBLISH
X-WR-CALNAME:Sea Colony Community
X-ORIGINAL-URL:https://seacolonycommunity.com
X-WR-CALDESC:Events for Sea Colony Community
REFRESH-INTERVAL;VALUE=DURATION:PT1H
X-Robots-Tag:noindex
X-PUBLISHED-TTL:PT1H
BEGIN:VTIMEZONE
TZID:America/New_York
BEGIN:DAYLIGHT
TZOFFSETFROM:-0500
TZOFFSETTO:-0400
TZNAME:EDT
DTSTART:20250309T070000
END:DAYLIGHT
BEGIN:STANDARD
TZOFFSETFROM:-0400
TZOFFSETTO:-0500
TZNAME:EST
DTSTART:20251102T060000
END:STANDARD
BEGIN:DAYLIGHT
TZOFFSETFROM:-0500
TZOFFSETTO:-0400
TZNAME:EDT
DTSTART:20260308T070000
END:DAYLIGHT
BEGIN:STANDARD
TZOFFSETFROM:-0400
TZOFFSETTO:-0500
TZNAME:EST
DTSTART:20261101T060000
END:STANDARD
BEGIN:DAYLIGHT
TZOFFSETFROM:-0500
TZOFFSETTO:-0400
TZNAME:EDT
DTSTART:20270314T070000
END:DAYLIGHT
BEGIN:STANDARD
TZOFFSETFROM:-0400
TZOFFSETTO:-0500
TZNAME:EST
DTSTART:20271107T060000
END:STANDARD
END:VTIMEZONE
BEGIN:VEVENT
DTSTART;TZID=America/New_York:20260328T083000
DTEND;TZID=America/New_York:20260328T110000
DTSTAMP:20260425T143601
CREATED:20251125T012626Z
LAST-MODIFIED:20251222T133622Z
UID:10003979-1774686600-1774695600@seacolonycommunity.com
SUMMARY:Pickleball
DESCRIPTION:Join our Pickleball Community — where newcomers\, casual players\, and seasoned competitors all meet for fast-paced fun and friendly connection! Whether you’re learning the basics or fine-tuning your finesse\, you’ll find an inviting court\, great camaraderie\, and a game that keeps everyone moving and smiling. All levels welcome — come play\, connect\, and enjoy the excitement of pickleball!
URL:https://seacolonycommunity.com/event/pickleball/2026-03-28/
LOCATION:Pickleball Courts\, Sea Colony Drive\, Jupiter\, FL\, 33477\, United States
CATEGORIES:Pickleball
ATTACH;FMTTYPE=image/jpeg:https://seacolonycommunity.com/wp-content/uploads/2025/11/Pickleball.jpeg
END:VEVENT
BEGIN:VEVENT
DTSTART;TZID=America/New_York:20260326T083000
DTEND;TZID=America/New_York:20260326T110000
DTSTAMP:20260425T143601
CREATED:20251125T012626Z
LAST-MODIFIED:20251222T133622Z
UID:10003978-1774513800-1774522800@seacolonycommunity.com
SUMMARY:Pickleball
DESCRIPTION:Join our Pickleball Community — where newcomers\, casual players\, and seasoned competitors all meet for fast-paced fun and friendly connection! Whether you’re learning the basics or fine-tuning your finesse\, you’ll find an inviting court\, great camaraderie\, and a game that keeps everyone moving and smiling. All levels welcome — come play\, connect\, and enjoy the excitement of pickleball!
URL:https://seacolonycommunity.com/event/pickleball/2026-03-26/
LOCATION:Pickleball Courts\, Sea Colony Drive\, Jupiter\, FL\, 33477\, United States
CATEGORIES:Pickleball
ATTACH;FMTTYPE=image/jpeg:https://seacolonycommunity.com/wp-content/uploads/2025/11/Pickleball.jpeg
END:VEVENT
BEGIN:VEVENT
DTSTART;TZID=America/New_York:20260324T083000
DTEND;TZID=America/New_York:20260324T110000
DTSTAMP:20260425T143601
CREATED:20251125T012626Z
LAST-MODIFIED:20251222T133622Z
UID:10000137-1774341000-1774350000@seacolonycommunity.com
SUMMARY:Pickleball
DESCRIPTION:Join our Pickleball Community — where newcomers\, casual players\, and seasoned competitors all meet for fast-paced fun and friendly connection! Whether you’re learning the basics or fine-tuning your finesse\, you’ll find an inviting court\, great camaraderie\, and a game that keeps everyone moving and smiling. All levels welcome — come play\, connect\, and enjoy the excitement of pickleball!
URL:https://seacolonycommunity.com/event/pickleball/2026-03-24/
LOCATION:Pickleball Courts\, Sea Colony Drive\, Jupiter\, FL\, 33477\, United States
CATEGORIES:Pickleball
ATTACH;FMTTYPE=image/jpeg:https://seacolonycommunity.com/wp-content/uploads/2025/11/Pickleball.jpeg
END:VEVENT
BEGIN:VEVENT
DTSTART;TZID=America/New_York:20260321T083000
DTEND;TZID=America/New_York:20260321T110000
DTSTAMP:20260425T143601
CREATED:20251125T012626Z
LAST-MODIFIED:20251222T133622Z
UID:10003977-1774081800-1774090800@seacolonycommunity.com
SUMMARY:Pickleball
DESCRIPTION:Join our Pickleball Community — where newcomers\, casual players\, and seasoned competitors all meet for fast-paced fun and friendly connection! Whether you’re learning the basics or fine-tuning your finesse\, you’ll find an inviting court\, great camaraderie\, and a game that keeps everyone moving and smiling. All levels welcome — come play\, connect\, and enjoy the excitement of pickleball!
URL:https://seacolonycommunity.com/event/pickleball/2026-03-21/
LOCATION:Pickleball Courts\, Sea Colony Drive\, Jupiter\, FL\, 33477\, United States
CATEGORIES:Pickleball
ATTACH;FMTTYPE=image/jpeg:https://seacolonycommunity.com/wp-content/uploads/2025/11/Pickleball.jpeg
END:VEVENT
BEGIN:VEVENT
DTSTART;TZID=America/New_York:20260319T083000
DTEND;TZID=America/New_York:20260319T110000
DTSTAMP:20260425T143601
CREATED:20251125T012626Z
LAST-MODIFIED:20251222T133622Z
UID:10003976-1773909000-1773918000@seacolonycommunity.com
SUMMARY:Pickleball
DESCRIPTION:Join our Pickleball Community — where newcomers\, casual players\, and seasoned competitors all meet for fast-paced fun and friendly connection! Whether you’re learning the basics or fine-tuning your finesse\, you’ll find an inviting court\, great camaraderie\, and a game that keeps everyone moving and smiling. All levels welcome — come play\, connect\, and enjoy the excitement of pickleball!
URL:https://seacolonycommunity.com/event/pickleball/2026-03-19/
LOCATION:Pickleball Courts\, Sea Colony Drive\, Jupiter\, FL\, 33477\, United States
CATEGORIES:Pickleball
ATTACH;FMTTYPE=image/jpeg:https://seacolonycommunity.com/wp-content/uploads/2025/11/Pickleball.jpeg
END:VEVENT
BEGIN:VEVENT
DTSTART;TZID=America/New_York:20260317T083000
DTEND;TZID=America/New_York:20260317T110000
DTSTAMP:20260425T143601
CREATED:20251125T012626Z
LAST-MODIFIED:20251222T133622Z
UID:10000136-1773736200-1773745200@seacolonycommunity.com
SUMMARY:Pickleball
DESCRIPTION:Join our Pickleball Community — where newcomers\, casual players\, and seasoned competitors all meet for fast-paced fun and friendly connection! Whether you’re learning the basics or fine-tuning your finesse\, you’ll find an inviting court\, great camaraderie\, and a game that keeps everyone moving and smiling. All levels welcome — come play\, connect\, and enjoy the excitement of pickleball!
URL:https://seacolonycommunity.com/event/pickleball/2026-03-17/
LOCATION:Pickleball Courts\, Sea Colony Drive\, Jupiter\, FL\, 33477\, United States
CATEGORIES:Pickleball
ATTACH;FMTTYPE=image/jpeg:https://seacolonycommunity.com/wp-content/uploads/2025/11/Pickleball.jpeg
END:VEVENT
BEGIN:VEVENT
DTSTART;TZID=America/New_York:20260314T083000
DTEND;TZID=America/New_York:20260314T110000
DTSTAMP:20260425T143601
CREATED:20251125T012626Z
LAST-MODIFIED:20251222T133622Z
UID:10003975-1773477000-1773486000@seacolonycommunity.com
SUMMARY:Pickleball
DESCRIPTION:Join our Pickleball Community — where newcomers\, casual players\, and seasoned competitors all meet for fast-paced fun and friendly connection! Whether you’re learning the basics or fine-tuning your finesse\, you’ll find an inviting court\, great camaraderie\, and a game that keeps everyone moving and smiling. All levels welcome — come play\, connect\, and enjoy the excitement of pickleball!
URL:https://seacolonycommunity.com/event/pickleball/2026-03-14/
LOCATION:Pickleball Courts\, Sea Colony Drive\, Jupiter\, FL\, 33477\, United States
CATEGORIES:Pickleball
ATTACH;FMTTYPE=image/jpeg:https://seacolonycommunity.com/wp-content/uploads/2025/11/Pickleball.jpeg
END:VEVENT
BEGIN:VEVENT
DTSTART;TZID=America/New_York:20260312T083000
DTEND;TZID=America/New_York:20260312T110000
DTSTAMP:20260425T143601
CREATED:20251125T012626Z
LAST-MODIFIED:20251222T133622Z
UID:10003974-1773304200-1773313200@seacolonycommunity.com
SUMMARY:Pickleball
DESCRIPTION:Join our Pickleball Community — where newcomers\, casual players\, and seasoned competitors all meet for fast-paced fun and friendly connection! Whether you’re learning the basics or fine-tuning your finesse\, you’ll find an inviting court\, great camaraderie\, and a game that keeps everyone moving and smiling. All levels welcome — come play\, connect\, and enjoy the excitement of pickleball!
URL:https://seacolonycommunity.com/event/pickleball/2026-03-12/
LOCATION:Pickleball Courts\, Sea Colony Drive\, Jupiter\, FL\, 33477\, United States
CATEGORIES:Pickleball
ATTACH;FMTTYPE=image/jpeg:https://seacolonycommunity.com/wp-content/uploads/2025/11/Pickleball.jpeg
END:VEVENT
BEGIN:VEVENT
DTSTART;TZID=America/New_York:20260310T083000
DTEND;TZID=America/New_York:20260310T110000
DTSTAMP:20260425T143601
CREATED:20251125T012626Z
LAST-MODIFIED:20251222T133622Z
UID:10000135-1773131400-1773140400@seacolonycommunity.com
SUMMARY:Pickleball
DESCRIPTION:Join our Pickleball Community — where newcomers\, casual players\, and seasoned competitors all meet for fast-paced fun and friendly connection! Whether you’re learning the basics or fine-tuning your finesse\, you’ll find an inviting court\, great camaraderie\, and a game that keeps everyone moving and smiling. All levels welcome — come play\, connect\, and enjoy the excitement of pickleball!
URL:https://seacolonycommunity.com/event/pickleball/2026-03-10/
LOCATION:Pickleball Courts\, Sea Colony Drive\, Jupiter\, FL\, 33477\, United States
CATEGORIES:Pickleball
ATTACH;FMTTYPE=image/jpeg:https://seacolonycommunity.com/wp-content/uploads/2025/11/Pickleball.jpeg
END:VEVENT
BEGIN:VEVENT
DTSTART;TZID=America/New_York:20260307T083000
DTEND;TZID=America/New_York:20260307T110000
DTSTAMP:20260425T143601
CREATED:20251125T012626Z
LAST-MODIFIED:20251222T133622Z
UID:10003973-1772872200-1772881200@seacolonycommunity.com
SUMMARY:Pickleball
DESCRIPTION:Join our Pickleball Community — where newcomers\, casual players\, and seasoned competitors all meet for fast-paced fun and friendly connection! Whether you’re learning the basics or fine-tuning your finesse\, you’ll find an inviting court\, great camaraderie\, and a game that keeps everyone moving and smiling. All levels welcome — come play\, connect\, and enjoy the excitement of pickleball!
URL:https://seacolonycommunity.com/event/pickleball/2026-03-07/
LOCATION:Pickleball Courts\, Sea Colony Drive\, Jupiter\, FL\, 33477\, United States
CATEGORIES:Pickleball
ATTACH;FMTTYPE=image/jpeg:https://seacolonycommunity.com/wp-content/uploads/2025/11/Pickleball.jpeg
END:VEVENT
BEGIN:VEVENT
DTSTART;TZID=America/New_York:20260305T083000
DTEND;TZID=America/New_York:20260305T110000
DTSTAMP:20260425T143601
CREATED:20251125T012626Z
LAST-MODIFIED:20251222T133622Z
UID:10003972-1772699400-1772708400@seacolonycommunity.com
SUMMARY:Pickleball
DESCRIPTION:Join our Pickleball Community — where newcomers\, casual players\, and seasoned competitors all meet for fast-paced fun and friendly connection! Whether you’re learning the basics or fine-tuning your finesse\, you’ll find an inviting court\, great camaraderie\, and a game that keeps everyone moving and smiling. All levels welcome — come play\, connect\, and enjoy the excitement of pickleball!
URL:https://seacolonycommunity.com/event/pickleball/2026-03-05/
LOCATION:Pickleball Courts\, Sea Colony Drive\, Jupiter\, FL\, 33477\, United States
CATEGORIES:Pickleball
ATTACH;FMTTYPE=image/jpeg:https://seacolonycommunity.com/wp-content/uploads/2025/11/Pickleball.jpeg
END:VEVENT
BEGIN:VEVENT
DTSTART;TZID=America/New_York:20260303T083000
DTEND;TZID=America/New_York:20260303T110000
DTSTAMP:20260425T143601
CREATED:20251125T012626Z
LAST-MODIFIED:20251222T133622Z
UID:10000134-1772526600-1772535600@seacolonycommunity.com
SUMMARY:Pickleball
DESCRIPTION:Join our Pickleball Community — where newcomers\, casual players\, and seasoned competitors all meet for fast-paced fun and friendly connection! Whether you’re learning the basics or fine-tuning your finesse\, you’ll find an inviting court\, great camaraderie\, and a game that keeps everyone moving and smiling. All levels welcome — come play\, connect\, and enjoy the excitement of pickleball!
URL:https://seacolonycommunity.com/event/pickleball/2026-03-03/
LOCATION:Pickleball Courts\, Sea Colony Drive\, Jupiter\, FL\, 33477\, United States
CATEGORIES:Pickleball
ATTACH;FMTTYPE=image/jpeg:https://seacolonycommunity.com/wp-content/uploads/2025/11/Pickleball.jpeg
END:VEVENT
BEGIN:VEVENT
DTSTART;TZID=America/New_York:20260228T083000
DTEND;TZID=America/New_York:20260228T110000
DTSTAMP:20260425T143601
CREATED:20251125T012626Z
LAST-MODIFIED:20251222T133622Z
UID:10003971-1772267400-1772276400@seacolonycommunity.com
SUMMARY:Pickleball
DESCRIPTION:Join our Pickleball Community — where newcomers\, casual players\, and seasoned competitors all meet for fast-paced fun and friendly connection! Whether you’re learning the basics or fine-tuning your finesse\, you’ll find an inviting court\, great camaraderie\, and a game that keeps everyone moving and smiling. All levels welcome — come play\, connect\, and enjoy the excitement of pickleball!
URL:https://seacolonycommunity.com/event/pickleball/2026-02-28/
LOCATION:Pickleball Courts\, Sea Colony Drive\, Jupiter\, FL\, 33477\, United States
CATEGORIES:Pickleball
ATTACH;FMTTYPE=image/jpeg:https://seacolonycommunity.com/wp-content/uploads/2025/11/Pickleball.jpeg
END:VEVENT
BEGIN:VEVENT
DTSTART;TZID=America/New_York:20260226T083000
DTEND;TZID=America/New_York:20260226T110000
DTSTAMP:20260425T143601
CREATED:20251125T012626Z
LAST-MODIFIED:20251222T133622Z
UID:10003970-1772094600-1772103600@seacolonycommunity.com
SUMMARY:Pickleball
DESCRIPTION:Join our Pickleball Community — where newcomers\, casual players\, and seasoned competitors all meet for fast-paced fun and friendly connection! Whether you’re learning the basics or fine-tuning your finesse\, you’ll find an inviting court\, great camaraderie\, and a game that keeps everyone moving and smiling. All levels welcome — come play\, connect\, and enjoy the excitement of pickleball!
URL:https://seacolonycommunity.com/event/pickleball/2026-02-26/
LOCATION:Pickleball Courts\, Sea Colony Drive\, Jupiter\, FL\, 33477\, United States
CATEGORIES:Pickleball
ATTACH;FMTTYPE=image/jpeg:https://seacolonycommunity.com/wp-content/uploads/2025/11/Pickleball.jpeg
END:VEVENT
BEGIN:VEVENT
DTSTART;TZID=America/New_York:20260224T083000
DTEND;TZID=America/New_York:20260224T110000
DTSTAMP:20260425T143601
CREATED:20251125T012626Z
LAST-MODIFIED:20251222T133622Z
UID:10000133-1771921800-1771930800@seacolonycommunity.com
SUMMARY:Pickleball
DESCRIPTION:Join our Pickleball Community — where newcomers\, casual players\, and seasoned competitors all meet for fast-paced fun and friendly connection! Whether you’re learning the basics or fine-tuning your finesse\, you’ll find an inviting court\, great camaraderie\, and a game that keeps everyone moving and smiling. All levels welcome — come play\, connect\, and enjoy the excitement of pickleball!
URL:https://seacolonycommunity.com/event/pickleball/2026-02-24/
LOCATION:Pickleball Courts\, Sea Colony Drive\, Jupiter\, FL\, 33477\, United States
CATEGORIES:Pickleball
ATTACH;FMTTYPE=image/jpeg:https://seacolonycommunity.com/wp-content/uploads/2025/11/Pickleball.jpeg
END:VEVENT
BEGIN:VEVENT
DTSTART;TZID=America/New_York:20260221T083000
DTEND;TZID=America/New_York:20260221T110000
DTSTAMP:20260425T143601
CREATED:20251125T012626Z
LAST-MODIFIED:20251222T133622Z
UID:10003969-1771662600-1771671600@seacolonycommunity.com
SUMMARY:Pickleball
DESCRIPTION:Join our Pickleball Community — where newcomers\, casual players\, and seasoned competitors all meet for fast-paced fun and friendly connection! Whether you’re learning the basics or fine-tuning your finesse\, you’ll find an inviting court\, great camaraderie\, and a game that keeps everyone moving and smiling. All levels welcome — come play\, connect\, and enjoy the excitement of pickleball!
URL:https://seacolonycommunity.com/event/pickleball/2026-02-21/
LOCATION:Pickleball Courts\, Sea Colony Drive\, Jupiter\, FL\, 33477\, United States
CATEGORIES:Pickleball
ATTACH;FMTTYPE=image/jpeg:https://seacolonycommunity.com/wp-content/uploads/2025/11/Pickleball.jpeg
END:VEVENT
BEGIN:VEVENT
DTSTART;TZID=America/New_York:20260219T083000
DTEND;TZID=America/New_York:20260219T110000
DTSTAMP:20260425T143601
CREATED:20251125T012626Z
LAST-MODIFIED:20251222T133622Z
UID:10003968-1771489800-1771498800@seacolonycommunity.com
SUMMARY:Pickleball
DESCRIPTION:Join our Pickleball Community — where newcomers\, casual players\, and seasoned competitors all meet for fast-paced fun and friendly connection! Whether you’re learning the basics or fine-tuning your finesse\, you’ll find an inviting court\, great camaraderie\, and a game that keeps everyone moving and smiling. All levels welcome — come play\, connect\, and enjoy the excitement of pickleball!
URL:https://seacolonycommunity.com/event/pickleball/2026-02-19/
LOCATION:Pickleball Courts\, Sea Colony Drive\, Jupiter\, FL\, 33477\, United States
CATEGORIES:Pickleball
ATTACH;FMTTYPE=image/jpeg:https://seacolonycommunity.com/wp-content/uploads/2025/11/Pickleball.jpeg
END:VEVENT
BEGIN:VEVENT
DTSTART;TZID=America/New_York:20260217T083000
DTEND;TZID=America/New_York:20260217T110000
DTSTAMP:20260425T143601
CREATED:20251125T012626Z
LAST-MODIFIED:20251222T133622Z
UID:10000132-1771317000-1771326000@seacolonycommunity.com
SUMMARY:Pickleball
DESCRIPTION:Join our Pickleball Community — where newcomers\, casual players\, and seasoned competitors all meet for fast-paced fun and friendly connection! Whether you’re learning the basics or fine-tuning your finesse\, you’ll find an inviting court\, great camaraderie\, and a game that keeps everyone moving and smiling. All levels welcome — come play\, connect\, and enjoy the excitement of pickleball!
URL:https://seacolonycommunity.com/event/pickleball/2026-02-17/
LOCATION:Pickleball Courts\, Sea Colony Drive\, Jupiter\, FL\, 33477\, United States
CATEGORIES:Pickleball
ATTACH;FMTTYPE=image/jpeg:https://seacolonycommunity.com/wp-content/uploads/2025/11/Pickleball.jpeg
END:VEVENT
BEGIN:VEVENT
DTSTART;TZID=America/New_York:20260214T083000
DTEND;TZID=America/New_York:20260214T110000
DTSTAMP:20260425T143601
CREATED:20251125T012626Z
LAST-MODIFIED:20251222T133622Z
UID:10003967-1771057800-1771066800@seacolonycommunity.com
SUMMARY:Pickleball
DESCRIPTION:Join our Pickleball Community — where newcomers\, casual players\, and seasoned competitors all meet for fast-paced fun and friendly connection! Whether you’re learning the basics or fine-tuning your finesse\, you’ll find an inviting court\, great camaraderie\, and a game that keeps everyone moving and smiling. All levels welcome — come play\, connect\, and enjoy the excitement of pickleball!
URL:https://seacolonycommunity.com/event/pickleball/2026-02-14/
LOCATION:Pickleball Courts\, Sea Colony Drive\, Jupiter\, FL\, 33477\, United States
CATEGORIES:Pickleball
ATTACH;FMTTYPE=image/jpeg:https://seacolonycommunity.com/wp-content/uploads/2025/11/Pickleball.jpeg
END:VEVENT
BEGIN:VEVENT
DTSTART;TZID=America/New_York:20260212T083000
DTEND;TZID=America/New_York:20260212T110000
DTSTAMP:20260425T143601
CREATED:20251125T012626Z
LAST-MODIFIED:20251222T133622Z
UID:10003966-1770885000-1770894000@seacolonycommunity.com
SUMMARY:Pickleball
DESCRIPTION:Join our Pickleball Community — where newcomers\, casual players\, and seasoned competitors all meet for fast-paced fun and friendly connection! Whether you’re learning the basics or fine-tuning your finesse\, you’ll find an inviting court\, great camaraderie\, and a game that keeps everyone moving and smiling. All levels welcome — come play\, connect\, and enjoy the excitement of pickleball!
URL:https://seacolonycommunity.com/event/pickleball/2026-02-12/
LOCATION:Pickleball Courts\, Sea Colony Drive\, Jupiter\, FL\, 33477\, United States
CATEGORIES:Pickleball
ATTACH;FMTTYPE=image/jpeg:https://seacolonycommunity.com/wp-content/uploads/2025/11/Pickleball.jpeg
END:VEVENT
BEGIN:VEVENT
DTSTART;TZID=America/New_York:20260210T083000
DTEND;TZID=America/New_York:20260210T110000
DTSTAMP:20260425T143601
CREATED:20251125T012626Z
LAST-MODIFIED:20251222T133622Z
UID:10000131-1770712200-1770721200@seacolonycommunity.com
SUMMARY:Pickleball
DESCRIPTION:Join our Pickleball Community — where newcomers\, casual players\, and seasoned competitors all meet for fast-paced fun and friendly connection! Whether you’re learning the basics or fine-tuning your finesse\, you’ll find an inviting court\, great camaraderie\, and a game that keeps everyone moving and smiling. All levels welcome — come play\, connect\, and enjoy the excitement of pickleball!
URL:https://seacolonycommunity.com/event/pickleball/2026-02-10/
LOCATION:Pickleball Courts\, Sea Colony Drive\, Jupiter\, FL\, 33477\, United States
CATEGORIES:Pickleball
ATTACH;FMTTYPE=image/jpeg:https://seacolonycommunity.com/wp-content/uploads/2025/11/Pickleball.jpeg
END:VEVENT
BEGIN:VEVENT
DTSTART;TZID=America/New_York:20260207T083000
DTEND;TZID=America/New_York:20260207T110000
DTSTAMP:20260425T143601
CREATED:20251125T012626Z
LAST-MODIFIED:20251222T133622Z
UID:10003965-1770453000-1770462000@seacolonycommunity.com
SUMMARY:Pickleball
DESCRIPTION:Join our Pickleball Community — where newcomers\, casual players\, and seasoned competitors all meet for fast-paced fun and friendly connection! Whether you’re learning the basics or fine-tuning your finesse\, you’ll find an inviting court\, great camaraderie\, and a game that keeps everyone moving and smiling. All levels welcome — come play\, connect\, and enjoy the excitement of pickleball!
URL:https://seacolonycommunity.com/event/pickleball/2026-02-07/
LOCATION:Pickleball Courts\, Sea Colony Drive\, Jupiter\, FL\, 33477\, United States
CATEGORIES:Pickleball
ATTACH;FMTTYPE=image/jpeg:https://seacolonycommunity.com/wp-content/uploads/2025/11/Pickleball.jpeg
END:VEVENT
BEGIN:VEVENT
DTSTART;TZID=America/New_York:20260205T083000
DTEND;TZID=America/New_York:20260205T110000
DTSTAMP:20260425T143601
CREATED:20251125T012626Z
LAST-MODIFIED:20251222T133622Z
UID:10003964-1770280200-1770289200@seacolonycommunity.com
SUMMARY:Pickleball
DESCRIPTION:Join our Pickleball Community — where newcomers\, casual players\, and seasoned competitors all meet for fast-paced fun and friendly connection! Whether you’re learning the basics or fine-tuning your finesse\, you’ll find an inviting court\, great camaraderie\, and a game that keeps everyone moving and smiling. All levels welcome — come play\, connect\, and enjoy the excitement of pickleball!
URL:https://seacolonycommunity.com/event/pickleball/2026-02-05/
LOCATION:Pickleball Courts\, Sea Colony Drive\, Jupiter\, FL\, 33477\, United States
CATEGORIES:Pickleball
ATTACH;FMTTYPE=image/jpeg:https://seacolonycommunity.com/wp-content/uploads/2025/11/Pickleball.jpeg
END:VEVENT
BEGIN:VEVENT
DTSTART;TZID=America/New_York:20260203T083000
DTEND;TZID=America/New_York:20260203T110000
DTSTAMP:20260425T143601
CREATED:20251125T012626Z
LAST-MODIFIED:20251222T133622Z
UID:10000130-1770107400-1770116400@seacolonycommunity.com
SUMMARY:Pickleball
DESCRIPTION:Join our Pickleball Community — where newcomers\, casual players\, and seasoned competitors all meet for fast-paced fun and friendly connection! Whether you’re learning the basics or fine-tuning your finesse\, you’ll find an inviting court\, great camaraderie\, and a game that keeps everyone moving and smiling. All levels welcome — come play\, connect\, and enjoy the excitement of pickleball!
URL:https://seacolonycommunity.com/event/pickleball/2026-02-03/
LOCATION:Pickleball Courts\, Sea Colony Drive\, Jupiter\, FL\, 33477\, United States
CATEGORIES:Pickleball
ATTACH;FMTTYPE=image/jpeg:https://seacolonycommunity.com/wp-content/uploads/2025/11/Pickleball.jpeg
END:VEVENT
BEGIN:VEVENT
DTSTART;TZID=America/New_York:20260131T083000
DTEND;TZID=America/New_York:20260131T110000
DTSTAMP:20260425T143601
CREATED:20251125T012626Z
LAST-MODIFIED:20251222T133622Z
UID:10003963-1769848200-1769857200@seacolonycommunity.com
SUMMARY:Pickleball
DESCRIPTION:Join our Pickleball Community — where newcomers\, casual players\, and seasoned competitors all meet for fast-paced fun and friendly connection! Whether you’re learning the basics or fine-tuning your finesse\, you’ll find an inviting court\, great camaraderie\, and a game that keeps everyone moving and smiling. All levels welcome — come play\, connect\, and enjoy the excitement of pickleball!
URL:https://seacolonycommunity.com/event/pickleball/2026-01-31/
LOCATION:Pickleball Courts\, Sea Colony Drive\, Jupiter\, FL\, 33477\, United States
CATEGORIES:Pickleball
ATTACH;FMTTYPE=image/jpeg:https://seacolonycommunity.com/wp-content/uploads/2025/11/Pickleball.jpeg
END:VEVENT
BEGIN:VEVENT
DTSTART;TZID=America/New_York:20260129T083000
DTEND;TZID=America/New_York:20260129T110000
DTSTAMP:20260425T143601
CREATED:20251125T012626Z
LAST-MODIFIED:20251222T133622Z
UID:10003962-1769675400-1769684400@seacolonycommunity.com
SUMMARY:Pickleball
DESCRIPTION:Join our Pickleball Community — where newcomers\, casual players\, and seasoned competitors all meet for fast-paced fun and friendly connection! Whether you’re learning the basics or fine-tuning your finesse\, you’ll find an inviting court\, great camaraderie\, and a game that keeps everyone moving and smiling. All levels welcome — come play\, connect\, and enjoy the excitement of pickleball!
URL:https://seacolonycommunity.com/event/pickleball/2026-01-29/
LOCATION:Pickleball Courts\, Sea Colony Drive\, Jupiter\, FL\, 33477\, United States
CATEGORIES:Pickleball
ATTACH;FMTTYPE=image/jpeg:https://seacolonycommunity.com/wp-content/uploads/2025/11/Pickleball.jpeg
END:VEVENT
BEGIN:VEVENT
DTSTART;TZID=America/New_York:20260127T083000
DTEND;TZID=America/New_York:20260127T110000
DTSTAMP:20260425T143601
CREATED:20251125T012626Z
LAST-MODIFIED:20251222T133622Z
UID:10000129-1769502600-1769511600@seacolonycommunity.com
SUMMARY:Pickleball
DESCRIPTION:Join our Pickleball Community — where newcomers\, casual players\, and seasoned competitors all meet for fast-paced fun and friendly connection! Whether you’re learning the basics or fine-tuning your finesse\, you’ll find an inviting court\, great camaraderie\, and a game that keeps everyone moving and smiling. All levels welcome — come play\, connect\, and enjoy the excitement of pickleball!
URL:https://seacolonycommunity.com/event/pickleball/2026-01-27/
LOCATION:Pickleball Courts\, Sea Colony Drive\, Jupiter\, FL\, 33477\, United States
CATEGORIES:Pickleball
ATTACH;FMTTYPE=image/jpeg:https://seacolonycommunity.com/wp-content/uploads/2025/11/Pickleball.jpeg
END:VEVENT
BEGIN:VEVENT
DTSTART;TZID=America/New_York:20260124T083000
DTEND;TZID=America/New_York:20260124T110000
DTSTAMP:20260425T143601
CREATED:20251125T012626Z
LAST-MODIFIED:20251222T133622Z
UID:10003961-1769243400-1769252400@seacolonycommunity.com
SUMMARY:Pickleball
DESCRIPTION:Join our Pickleball Community — where newcomers\, casual players\, and seasoned competitors all meet for fast-paced fun and friendly connection! Whether you’re learning the basics or fine-tuning your finesse\, you’ll find an inviting court\, great camaraderie\, and a game that keeps everyone moving and smiling. All levels welcome — come play\, connect\, and enjoy the excitement of pickleball!
URL:https://seacolonycommunity.com/event/pickleball/2026-01-24/
LOCATION:Pickleball Courts\, Sea Colony Drive\, Jupiter\, FL\, 33477\, United States
CATEGORIES:Pickleball
ATTACH;FMTTYPE=image/jpeg:https://seacolonycommunity.com/wp-content/uploads/2025/11/Pickleball.jpeg
END:VEVENT
BEGIN:VEVENT
DTSTART;TZID=America/New_York:20260122T083000
DTEND;TZID=America/New_York:20260122T110000
DTSTAMP:20260425T143601
CREATED:20251125T012626Z
LAST-MODIFIED:20251222T133622Z
UID:10003960-1769070600-1769079600@seacolonycommunity.com
SUMMARY:Pickleball
DESCRIPTION:Join our Pickleball Community — where newcomers\, casual players\, and seasoned competitors all meet for fast-paced fun and friendly connection! Whether you’re learning the basics or fine-tuning your finesse\, you’ll find an inviting court\, great camaraderie\, and a game that keeps everyone moving and smiling. All levels welcome — come play\, connect\, and enjoy the excitement of pickleball!
URL:https://seacolonycommunity.com/event/pickleball/2026-01-22/
LOCATION:Pickleball Courts\, Sea Colony Drive\, Jupiter\, FL\, 33477\, United States
CATEGORIES:Pickleball
ATTACH;FMTTYPE=image/jpeg:https://seacolonycommunity.com/wp-content/uploads/2025/11/Pickleball.jpeg
END:VEVENT
BEGIN:VEVENT
DTSTART;TZID=America/New_York:20260120T083000
DTEND;TZID=America/New_York:20260120T110000
DTSTAMP:20260425T143601
CREATED:20251125T012626Z
LAST-MODIFIED:20251222T133622Z
UID:10000128-1768897800-1768906800@seacolonycommunity.com
SUMMARY:Pickleball
DESCRIPTION:Join our Pickleball Community — where newcomers\, casual players\, and seasoned competitors all meet for fast-paced fun and friendly connection! Whether you’re learning the basics or fine-tuning your finesse\, you’ll find an inviting court\, great camaraderie\, and a game that keeps everyone moving and smiling. All levels welcome — come play\, connect\, and enjoy the excitement of pickleball!
URL:https://seacolonycommunity.com/event/pickleball/2026-01-20/
LOCATION:Pickleball Courts\, Sea Colony Drive\, Jupiter\, FL\, 33477\, United States
CATEGORIES:Pickleball
ATTACH;FMTTYPE=image/jpeg:https://seacolonycommunity.com/wp-content/uploads/2025/11/Pickleball.jpeg
END:VEVENT
END:VCALENDAR