BEGIN:VCALENDAR
VERSION:2.0
PRODID:-//Sea Colony Community - ECPv6.15.20//NONSGML v1.0//EN
CALSCALE:GREGORIAN
METHOD:PUBLISH
X-ORIGINAL-URL:https://seacolonycommunity.com
X-WR-CALDESC:Events for Sea Colony Community
REFRESH-INTERVAL;VALUE=DURATION:PT1H
X-Robots-Tag:noindex
X-PUBLISHED-TTL:PT1H
BEGIN:VTIMEZONE
TZID:America/New_York
BEGIN:DAYLIGHT
TZOFFSETFROM:-0500
TZOFFSETTO:-0400
TZNAME:EDT
DTSTART:20250309T070000
END:DAYLIGHT
BEGIN:STANDARD
TZOFFSETFROM:-0400
TZOFFSETTO:-0500
TZNAME:EST
DTSTART:20251102T060000
END:STANDARD
BEGIN:DAYLIGHT
TZOFFSETFROM:-0500
TZOFFSETTO:-0400
TZNAME:EDT
DTSTART:20260308T070000
END:DAYLIGHT
BEGIN:STANDARD
TZOFFSETFROM:-0400
TZOFFSETTO:-0500
TZNAME:EST
DTSTART:20261101T060000
END:STANDARD
BEGIN:DAYLIGHT
TZOFFSETFROM:-0500
TZOFFSETTO:-0400
TZNAME:EDT
DTSTART:20270314T070000
END:DAYLIGHT
BEGIN:STANDARD
TZOFFSETFROM:-0400
TZOFFSETTO:-0500
TZNAME:EST
DTSTART:20271107T060000
END:STANDARD
END:VTIMEZONE
BEGIN:VEVENT
DTSTART;TZID=America/New_York:20260331T083000
DTEND;TZID=America/New_York:20260331T110000
DTSTAMP:20260425T212043
CREATED:20251125T012626Z
LAST-MODIFIED:20251222T133622Z
UID:10000138-1774945800-1774954800@seacolonycommunity.com
SUMMARY:Pickleball
DESCRIPTION:Join our Pickleball Community — where newcomers\, casual players\, and seasoned competitors all meet for fast-paced fun and friendly connection! Whether you’re learning the basics or fine-tuning your finesse\, you’ll find an inviting court\, great camaraderie\, and a game that keeps everyone moving and smiling. All levels welcome — come play\, connect\, and enjoy the excitement of pickleball!
URL:https://seacolonycommunity.com/event/pickleball/2026-03-31/
LOCATION:Pickleball Courts\, Sea Colony Drive\, Jupiter\, FL\, 33477\, United States
CATEGORIES:Pickleball
ATTACH;FMTTYPE=image/jpeg:https://seacolonycommunity.com/wp-content/uploads/2025/11/Pickleball.jpeg
END:VEVENT
BEGIN:VEVENT
DTSTART;TZID=America/New_York:20260402T083000
DTEND;TZID=America/New_York:20260402T110000
DTSTAMP:20260425T212043
CREATED:20251125T012626Z
LAST-MODIFIED:20251222T133622Z
UID:10003980-1775118600-1775127600@seacolonycommunity.com
SUMMARY:Pickleball
DESCRIPTION:Join our Pickleball Community — where newcomers\, casual players\, and seasoned competitors all meet for fast-paced fun and friendly connection! Whether you’re learning the basics or fine-tuning your finesse\, you’ll find an inviting court\, great camaraderie\, and a game that keeps everyone moving and smiling. All levels welcome — come play\, connect\, and enjoy the excitement of pickleball!
URL:https://seacolonycommunity.com/event/pickleball/2026-04-02/
LOCATION:Pickleball Courts\, Sea Colony Drive\, Jupiter\, FL\, 33477\, United States
CATEGORIES:Pickleball
ATTACH;FMTTYPE=image/jpeg:https://seacolonycommunity.com/wp-content/uploads/2025/11/Pickleball.jpeg
END:VEVENT
BEGIN:VEVENT
DTSTART;TZID=America/New_York:20260404T083000
DTEND;TZID=America/New_York:20260404T110000
DTSTAMP:20260425T212043
CREATED:20251125T012626Z
LAST-MODIFIED:20251222T133622Z
UID:10003981-1775291400-1775300400@seacolonycommunity.com
SUMMARY:Pickleball
DESCRIPTION:Join our Pickleball Community — where newcomers\, casual players\, and seasoned competitors all meet for fast-paced fun and friendly connection! Whether you’re learning the basics or fine-tuning your finesse\, you’ll find an inviting court\, great camaraderie\, and a game that keeps everyone moving and smiling. All levels welcome — come play\, connect\, and enjoy the excitement of pickleball!
URL:https://seacolonycommunity.com/event/pickleball/2026-04-04/
LOCATION:Pickleball Courts\, Sea Colony Drive\, Jupiter\, FL\, 33477\, United States
CATEGORIES:Pickleball
ATTACH;FMTTYPE=image/jpeg:https://seacolonycommunity.com/wp-content/uploads/2025/11/Pickleball.jpeg
END:VEVENT
BEGIN:VEVENT
DTSTART;TZID=America/New_York:20260407T083000
DTEND;TZID=America/New_York:20260407T110000
DTSTAMP:20260425T212043
CREATED:20251125T012626Z
LAST-MODIFIED:20251222T133622Z
UID:10000139-1775550600-1775559600@seacolonycommunity.com
SUMMARY:Pickleball
DESCRIPTION:Join our Pickleball Community — where newcomers\, casual players\, and seasoned competitors all meet for fast-paced fun and friendly connection! Whether you’re learning the basics or fine-tuning your finesse\, you’ll find an inviting court\, great camaraderie\, and a game that keeps everyone moving and smiling. All levels welcome — come play\, connect\, and enjoy the excitement of pickleball!
URL:https://seacolonycommunity.com/event/pickleball/2026-04-07/
LOCATION:Pickleball Courts\, Sea Colony Drive\, Jupiter\, FL\, 33477\, United States
CATEGORIES:Pickleball
ATTACH;FMTTYPE=image/jpeg:https://seacolonycommunity.com/wp-content/uploads/2025/11/Pickleball.jpeg
END:VEVENT
BEGIN:VEVENT
DTSTART;TZID=America/New_York:20260409T083000
DTEND;TZID=America/New_York:20260409T110000
DTSTAMP:20260425T212043
CREATED:20251125T012626Z
LAST-MODIFIED:20251222T133622Z
UID:10003982-1775723400-1775732400@seacolonycommunity.com
SUMMARY:Pickleball
DESCRIPTION:Join our Pickleball Community — where newcomers\, casual players\, and seasoned competitors all meet for fast-paced fun and friendly connection! Whether you’re learning the basics or fine-tuning your finesse\, you’ll find an inviting court\, great camaraderie\, and a game that keeps everyone moving and smiling. All levels welcome — come play\, connect\, and enjoy the excitement of pickleball!
URL:https://seacolonycommunity.com/event/pickleball/2026-04-09/
LOCATION:Pickleball Courts\, Sea Colony Drive\, Jupiter\, FL\, 33477\, United States
CATEGORIES:Pickleball
ATTACH;FMTTYPE=image/jpeg:https://seacolonycommunity.com/wp-content/uploads/2025/11/Pickleball.jpeg
END:VEVENT
BEGIN:VEVENT
DTSTART;TZID=America/New_York:20260411T083000
DTEND;TZID=America/New_York:20260411T110000
DTSTAMP:20260425T212043
CREATED:20251125T012626Z
LAST-MODIFIED:20251222T133622Z
UID:10003983-1775896200-1775905200@seacolonycommunity.com
SUMMARY:Pickleball
DESCRIPTION:Join our Pickleball Community — where newcomers\, casual players\, and seasoned competitors all meet for fast-paced fun and friendly connection! Whether you’re learning the basics or fine-tuning your finesse\, you’ll find an inviting court\, great camaraderie\, and a game that keeps everyone moving and smiling. All levels welcome — come play\, connect\, and enjoy the excitement of pickleball!
URL:https://seacolonycommunity.com/event/pickleball/2026-04-11/
LOCATION:Pickleball Courts\, Sea Colony Drive\, Jupiter\, FL\, 33477\, United States
CATEGORIES:Pickleball
ATTACH;FMTTYPE=image/jpeg:https://seacolonycommunity.com/wp-content/uploads/2025/11/Pickleball.jpeg
END:VEVENT
BEGIN:VEVENT
DTSTART;TZID=America/New_York:20260414T083000
DTEND;TZID=America/New_York:20260414T110000
DTSTAMP:20260425T212043
CREATED:20251125T012626Z
LAST-MODIFIED:20251222T133622Z
UID:10000140-1776155400-1776164400@seacolonycommunity.com
SUMMARY:Pickleball
DESCRIPTION:Join our Pickleball Community — where newcomers\, casual players\, and seasoned competitors all meet for fast-paced fun and friendly connection! Whether you’re learning the basics or fine-tuning your finesse\, you’ll find an inviting court\, great camaraderie\, and a game that keeps everyone moving and smiling. All levels welcome — come play\, connect\, and enjoy the excitement of pickleball!
URL:https://seacolonycommunity.com/event/pickleball/2026-04-14/
LOCATION:Pickleball Courts\, Sea Colony Drive\, Jupiter\, FL\, 33477\, United States
CATEGORIES:Pickleball
ATTACH;FMTTYPE=image/jpeg:https://seacolonycommunity.com/wp-content/uploads/2025/11/Pickleball.jpeg
END:VEVENT
BEGIN:VEVENT
DTSTART;TZID=America/New_York:20260416T083000
DTEND;TZID=America/New_York:20260416T110000
DTSTAMP:20260425T212043
CREATED:20251125T012626Z
LAST-MODIFIED:20251222T133622Z
UID:10003984-1776328200-1776337200@seacolonycommunity.com
SUMMARY:Pickleball
DESCRIPTION:Join our Pickleball Community — where newcomers\, casual players\, and seasoned competitors all meet for fast-paced fun and friendly connection! Whether you’re learning the basics or fine-tuning your finesse\, you’ll find an inviting court\, great camaraderie\, and a game that keeps everyone moving and smiling. All levels welcome — come play\, connect\, and enjoy the excitement of pickleball!
URL:https://seacolonycommunity.com/event/pickleball/2026-04-16/
LOCATION:Pickleball Courts\, Sea Colony Drive\, Jupiter\, FL\, 33477\, United States
CATEGORIES:Pickleball
ATTACH;FMTTYPE=image/jpeg:https://seacolonycommunity.com/wp-content/uploads/2025/11/Pickleball.jpeg
END:VEVENT
BEGIN:VEVENT
DTSTART;TZID=America/New_York:20260418T083000
DTEND;TZID=America/New_York:20260418T110000
DTSTAMP:20260425T212043
CREATED:20251125T012626Z
LAST-MODIFIED:20251222T133622Z
UID:10003985-1776501000-1776510000@seacolonycommunity.com
SUMMARY:Pickleball
DESCRIPTION:Join our Pickleball Community — where newcomers\, casual players\, and seasoned competitors all meet for fast-paced fun and friendly connection! Whether you’re learning the basics or fine-tuning your finesse\, you’ll find an inviting court\, great camaraderie\, and a game that keeps everyone moving and smiling. All levels welcome — come play\, connect\, and enjoy the excitement of pickleball!
URL:https://seacolonycommunity.com/event/pickleball/2026-04-18/
LOCATION:Pickleball Courts\, Sea Colony Drive\, Jupiter\, FL\, 33477\, United States
CATEGORIES:Pickleball
ATTACH;FMTTYPE=image/jpeg:https://seacolonycommunity.com/wp-content/uploads/2025/11/Pickleball.jpeg
END:VEVENT
BEGIN:VEVENT
DTSTART;TZID=America/New_York:20260421T083000
DTEND;TZID=America/New_York:20260421T110000
DTSTAMP:20260425T212043
CREATED:20251125T012626Z
LAST-MODIFIED:20251222T133622Z
UID:10000141-1776760200-1776769200@seacolonycommunity.com
SUMMARY:Pickleball
DESCRIPTION:Join our Pickleball Community — where newcomers\, casual players\, and seasoned competitors all meet for fast-paced fun and friendly connection! Whether you’re learning the basics or fine-tuning your finesse\, you’ll find an inviting court\, great camaraderie\, and a game that keeps everyone moving and smiling. All levels welcome — come play\, connect\, and enjoy the excitement of pickleball!
URL:https://seacolonycommunity.com/event/pickleball/2026-04-21/
LOCATION:Pickleball Courts\, Sea Colony Drive\, Jupiter\, FL\, 33477\, United States
CATEGORIES:Pickleball
ATTACH;FMTTYPE=image/jpeg:https://seacolonycommunity.com/wp-content/uploads/2025/11/Pickleball.jpeg
END:VEVENT
BEGIN:VEVENT
DTSTART;TZID=America/New_York:20260423T083000
DTEND;TZID=America/New_York:20260423T110000
DTSTAMP:20260425T212043
CREATED:20251125T012626Z
LAST-MODIFIED:20251222T133622Z
UID:10003986-1776933000-1776942000@seacolonycommunity.com
SUMMARY:Pickleball
DESCRIPTION:Join our Pickleball Community — where newcomers\, casual players\, and seasoned competitors all meet for fast-paced fun and friendly connection! Whether you’re learning the basics or fine-tuning your finesse\, you’ll find an inviting court\, great camaraderie\, and a game that keeps everyone moving and smiling. All levels welcome — come play\, connect\, and enjoy the excitement of pickleball!
URL:https://seacolonycommunity.com/event/pickleball/2026-04-23/
LOCATION:Pickleball Courts\, Sea Colony Drive\, Jupiter\, FL\, 33477\, United States
CATEGORIES:Pickleball
ATTACH;FMTTYPE=image/jpeg:https://seacolonycommunity.com/wp-content/uploads/2025/11/Pickleball.jpeg
END:VEVENT
BEGIN:VEVENT
DTSTART;TZID=America/New_York:20260425T083000
DTEND;TZID=America/New_York:20260425T110000
DTSTAMP:20260425T212043
CREATED:20251125T012626Z
LAST-MODIFIED:20251222T133622Z
UID:10003987-1777105800-1777114800@seacolonycommunity.com
SUMMARY:Pickleball
DESCRIPTION:Join our Pickleball Community — where newcomers\, casual players\, and seasoned competitors all meet for fast-paced fun and friendly connection! Whether you’re learning the basics or fine-tuning your finesse\, you’ll find an inviting court\, great camaraderie\, and a game that keeps everyone moving and smiling. All levels welcome — come play\, connect\, and enjoy the excitement of pickleball!
URL:https://seacolonycommunity.com/event/pickleball/2026-04-25/
LOCATION:Pickleball Courts\, Sea Colony Drive\, Jupiter\, FL\, 33477\, United States
CATEGORIES:Pickleball
ATTACH;FMTTYPE=image/jpeg:https://seacolonycommunity.com/wp-content/uploads/2025/11/Pickleball.jpeg
END:VEVENT
BEGIN:VEVENT
DTSTART;TZID=America/New_York:20260428T083000
DTEND;TZID=America/New_York:20260428T110000
DTSTAMP:20260425T212043
CREATED:20251125T012626Z
LAST-MODIFIED:20251222T133622Z
UID:10000142-1777365000-1777374000@seacolonycommunity.com
SUMMARY:Pickleball
DESCRIPTION:Join our Pickleball Community — where newcomers\, casual players\, and seasoned competitors all meet for fast-paced fun and friendly connection! Whether you’re learning the basics or fine-tuning your finesse\, you’ll find an inviting court\, great camaraderie\, and a game that keeps everyone moving and smiling. All levels welcome — come play\, connect\, and enjoy the excitement of pickleball!
URL:https://seacolonycommunity.com/event/pickleball/2026-04-28/
LOCATION:Pickleball Courts\, Sea Colony Drive\, Jupiter\, FL\, 33477\, United States
CATEGORIES:Pickleball
ATTACH;FMTTYPE=image/jpeg:https://seacolonycommunity.com/wp-content/uploads/2025/11/Pickleball.jpeg
END:VEVENT
BEGIN:VEVENT
DTSTART;TZID=America/New_York:20260430T083000
DTEND;TZID=America/New_York:20260430T110000
DTSTAMP:20260425T212043
CREATED:20251125T012626Z
LAST-MODIFIED:20251222T133622Z
UID:10003988-1777537800-1777546800@seacolonycommunity.com
SUMMARY:Pickleball
DESCRIPTION:Join our Pickleball Community — where newcomers\, casual players\, and seasoned competitors all meet for fast-paced fun and friendly connection! Whether you’re learning the basics or fine-tuning your finesse\, you’ll find an inviting court\, great camaraderie\, and a game that keeps everyone moving and smiling. All levels welcome — come play\, connect\, and enjoy the excitement of pickleball!
URL:https://seacolonycommunity.com/event/pickleball/2026-04-30/
LOCATION:Pickleball Courts\, Sea Colony Drive\, Jupiter\, FL\, 33477\, United States
CATEGORIES:Pickleball
ATTACH;FMTTYPE=image/jpeg:https://seacolonycommunity.com/wp-content/uploads/2025/11/Pickleball.jpeg
END:VEVENT
BEGIN:VEVENT
DTSTART;TZID=America/New_York:20260502T083000
DTEND;TZID=America/New_York:20260502T110000
DTSTAMP:20260425T212043
CREATED:20251125T012626Z
LAST-MODIFIED:20251222T133622Z
UID:10003989-1777710600-1777719600@seacolonycommunity.com
SUMMARY:Pickleball
DESCRIPTION:Join our Pickleball Community — where newcomers\, casual players\, and seasoned competitors all meet for fast-paced fun and friendly connection! Whether you’re learning the basics or fine-tuning your finesse\, you’ll find an inviting court\, great camaraderie\, and a game that keeps everyone moving and smiling. All levels welcome — come play\, connect\, and enjoy the excitement of pickleball!
URL:https://seacolonycommunity.com/event/pickleball/2026-05-02/
LOCATION:Pickleball Courts\, Sea Colony Drive\, Jupiter\, FL\, 33477\, United States
CATEGORIES:Pickleball
ATTACH;FMTTYPE=image/jpeg:https://seacolonycommunity.com/wp-content/uploads/2025/11/Pickleball.jpeg
END:VEVENT
BEGIN:VEVENT
DTSTART;TZID=America/New_York:20260505T083000
DTEND;TZID=America/New_York:20260505T110000
DTSTAMP:20260425T212043
CREATED:20251125T012626Z
LAST-MODIFIED:20251222T133622Z
UID:10000143-1777969800-1777978800@seacolonycommunity.com
SUMMARY:Pickleball
DESCRIPTION:Join our Pickleball Community — where newcomers\, casual players\, and seasoned competitors all meet for fast-paced fun and friendly connection! Whether you’re learning the basics or fine-tuning your finesse\, you’ll find an inviting court\, great camaraderie\, and a game that keeps everyone moving and smiling. All levels welcome — come play\, connect\, and enjoy the excitement of pickleball!
URL:https://seacolonycommunity.com/event/pickleball/2026-05-05/
LOCATION:Pickleball Courts\, Sea Colony Drive\, Jupiter\, FL\, 33477\, United States
CATEGORIES:Pickleball
ATTACH;FMTTYPE=image/jpeg:https://seacolonycommunity.com/wp-content/uploads/2025/11/Pickleball.jpeg
END:VEVENT
BEGIN:VEVENT
DTSTART;TZID=America/New_York:20260507T083000
DTEND;TZID=America/New_York:20260507T110000
DTSTAMP:20260425T212043
CREATED:20251125T012626Z
LAST-MODIFIED:20251222T133622Z
UID:10003990-1778142600-1778151600@seacolonycommunity.com
SUMMARY:Pickleball
DESCRIPTION:Join our Pickleball Community — where newcomers\, casual players\, and seasoned competitors all meet for fast-paced fun and friendly connection! Whether you’re learning the basics or fine-tuning your finesse\, you’ll find an inviting court\, great camaraderie\, and a game that keeps everyone moving and smiling. All levels welcome — come play\, connect\, and enjoy the excitement of pickleball!
URL:https://seacolonycommunity.com/event/pickleball/2026-05-07/
LOCATION:Pickleball Courts\, Sea Colony Drive\, Jupiter\, FL\, 33477\, United States
CATEGORIES:Pickleball
ATTACH;FMTTYPE=image/jpeg:https://seacolonycommunity.com/wp-content/uploads/2025/11/Pickleball.jpeg
END:VEVENT
BEGIN:VEVENT
DTSTART;TZID=America/New_York:20260509T083000
DTEND;TZID=America/New_York:20260509T110000
DTSTAMP:20260425T212043
CREATED:20251125T012626Z
LAST-MODIFIED:20251222T133622Z
UID:10003991-1778315400-1778324400@seacolonycommunity.com
SUMMARY:Pickleball
DESCRIPTION:Join our Pickleball Community — where newcomers\, casual players\, and seasoned competitors all meet for fast-paced fun and friendly connection! Whether you’re learning the basics or fine-tuning your finesse\, you’ll find an inviting court\, great camaraderie\, and a game that keeps everyone moving and smiling. All levels welcome — come play\, connect\, and enjoy the excitement of pickleball!
URL:https://seacolonycommunity.com/event/pickleball/2026-05-09/
LOCATION:Pickleball Courts\, Sea Colony Drive\, Jupiter\, FL\, 33477\, United States
CATEGORIES:Pickleball
ATTACH;FMTTYPE=image/jpeg:https://seacolonycommunity.com/wp-content/uploads/2025/11/Pickleball.jpeg
END:VEVENT
BEGIN:VEVENT
DTSTART;TZID=America/New_York:20260512T083000
DTEND;TZID=America/New_York:20260512T110000
DTSTAMP:20260425T212043
CREATED:20251125T012626Z
LAST-MODIFIED:20251222T133622Z
UID:10000144-1778574600-1778583600@seacolonycommunity.com
SUMMARY:Pickleball
DESCRIPTION:Join our Pickleball Community — where newcomers\, casual players\, and seasoned competitors all meet for fast-paced fun and friendly connection! Whether you’re learning the basics or fine-tuning your finesse\, you’ll find an inviting court\, great camaraderie\, and a game that keeps everyone moving and smiling. All levels welcome — come play\, connect\, and enjoy the excitement of pickleball!
URL:https://seacolonycommunity.com/event/pickleball/2026-05-12/
LOCATION:Pickleball Courts\, Sea Colony Drive\, Jupiter\, FL\, 33477\, United States
CATEGORIES:Pickleball
ATTACH;FMTTYPE=image/jpeg:https://seacolonycommunity.com/wp-content/uploads/2025/11/Pickleball.jpeg
END:VEVENT
BEGIN:VEVENT
DTSTART;TZID=America/New_York:20260514T083000
DTEND;TZID=America/New_York:20260514T110000
DTSTAMP:20260425T212043
CREATED:20251125T012626Z
LAST-MODIFIED:20251222T133622Z
UID:10003992-1778747400-1778756400@seacolonycommunity.com
SUMMARY:Pickleball
DESCRIPTION:Join our Pickleball Community — where newcomers\, casual players\, and seasoned competitors all meet for fast-paced fun and friendly connection! Whether you’re learning the basics or fine-tuning your finesse\, you’ll find an inviting court\, great camaraderie\, and a game that keeps everyone moving and smiling. All levels welcome — come play\, connect\, and enjoy the excitement of pickleball!
URL:https://seacolonycommunity.com/event/pickleball/2026-05-14/
LOCATION:Pickleball Courts\, Sea Colony Drive\, Jupiter\, FL\, 33477\, United States
CATEGORIES:Pickleball
ATTACH;FMTTYPE=image/jpeg:https://seacolonycommunity.com/wp-content/uploads/2025/11/Pickleball.jpeg
END:VEVENT
BEGIN:VEVENT
DTSTART;TZID=America/New_York:20260516T083000
DTEND;TZID=America/New_York:20260516T110000
DTSTAMP:20260425T212043
CREATED:20251125T012626Z
LAST-MODIFIED:20251222T133622Z
UID:10003993-1778920200-1778929200@seacolonycommunity.com
SUMMARY:Pickleball
DESCRIPTION:Join our Pickleball Community — where newcomers\, casual players\, and seasoned competitors all meet for fast-paced fun and friendly connection! Whether you’re learning the basics or fine-tuning your finesse\, you’ll find an inviting court\, great camaraderie\, and a game that keeps everyone moving and smiling. All levels welcome — come play\, connect\, and enjoy the excitement of pickleball!
URL:https://seacolonycommunity.com/event/pickleball/2026-05-16/
LOCATION:Pickleball Courts\, Sea Colony Drive\, Jupiter\, FL\, 33477\, United States
CATEGORIES:Pickleball
ATTACH;FMTTYPE=image/jpeg:https://seacolonycommunity.com/wp-content/uploads/2025/11/Pickleball.jpeg
END:VEVENT
BEGIN:VEVENT
DTSTART;TZID=America/New_York:20260519T083000
DTEND;TZID=America/New_York:20260519T110000
DTSTAMP:20260425T212043
CREATED:20251125T012626Z
LAST-MODIFIED:20251222T133622Z
UID:10000145-1779179400-1779188400@seacolonycommunity.com
SUMMARY:Pickleball
DESCRIPTION:Join our Pickleball Community — where newcomers\, casual players\, and seasoned competitors all meet for fast-paced fun and friendly connection! Whether you’re learning the basics or fine-tuning your finesse\, you’ll find an inviting court\, great camaraderie\, and a game that keeps everyone moving and smiling. All levels welcome — come play\, connect\, and enjoy the excitement of pickleball!
URL:https://seacolonycommunity.com/event/pickleball/2026-05-19/
LOCATION:Pickleball Courts\, Sea Colony Drive\, Jupiter\, FL\, 33477\, United States
CATEGORIES:Pickleball
ATTACH;FMTTYPE=image/jpeg:https://seacolonycommunity.com/wp-content/uploads/2025/11/Pickleball.jpeg
END:VEVENT
BEGIN:VEVENT
DTSTART;TZID=America/New_York:20260521T083000
DTEND;TZID=America/New_York:20260521T110000
DTSTAMP:20260425T212043
CREATED:20251125T012626Z
LAST-MODIFIED:20251222T133622Z
UID:10003994-1779352200-1779361200@seacolonycommunity.com
SUMMARY:Pickleball
DESCRIPTION:Join our Pickleball Community — where newcomers\, casual players\, and seasoned competitors all meet for fast-paced fun and friendly connection! Whether you’re learning the basics or fine-tuning your finesse\, you’ll find an inviting court\, great camaraderie\, and a game that keeps everyone moving and smiling. All levels welcome — come play\, connect\, and enjoy the excitement of pickleball!
URL:https://seacolonycommunity.com/event/pickleball/2026-05-21/
LOCATION:Pickleball Courts\, Sea Colony Drive\, Jupiter\, FL\, 33477\, United States
CATEGORIES:Pickleball
ATTACH;FMTTYPE=image/jpeg:https://seacolonycommunity.com/wp-content/uploads/2025/11/Pickleball.jpeg
END:VEVENT
BEGIN:VEVENT
DTSTART;TZID=America/New_York:20260523T083000
DTEND;TZID=America/New_York:20260523T110000
DTSTAMP:20260425T212043
CREATED:20251125T012626Z
LAST-MODIFIED:20251222T133622Z
UID:10003995-1779525000-1779534000@seacolonycommunity.com
SUMMARY:Pickleball
DESCRIPTION:Join our Pickleball Community — where newcomers\, casual players\, and seasoned competitors all meet for fast-paced fun and friendly connection! Whether you’re learning the basics or fine-tuning your finesse\, you’ll find an inviting court\, great camaraderie\, and a game that keeps everyone moving and smiling. All levels welcome — come play\, connect\, and enjoy the excitement of pickleball!
URL:https://seacolonycommunity.com/event/pickleball/2026-05-23/
LOCATION:Pickleball Courts\, Sea Colony Drive\, Jupiter\, FL\, 33477\, United States
CATEGORIES:Pickleball
ATTACH;FMTTYPE=image/jpeg:https://seacolonycommunity.com/wp-content/uploads/2025/11/Pickleball.jpeg
END:VEVENT
BEGIN:VEVENT
DTSTART;TZID=America/New_York:20260526T083000
DTEND;TZID=America/New_York:20260526T110000
DTSTAMP:20260425T212043
CREATED:20251125T012626Z
LAST-MODIFIED:20251222T133622Z
UID:10000146-1779784200-1779793200@seacolonycommunity.com
SUMMARY:Pickleball
DESCRIPTION:Join our Pickleball Community — where newcomers\, casual players\, and seasoned competitors all meet for fast-paced fun and friendly connection! Whether you’re learning the basics or fine-tuning your finesse\, you’ll find an inviting court\, great camaraderie\, and a game that keeps everyone moving and smiling. All levels welcome — come play\, connect\, and enjoy the excitement of pickleball!
URL:https://seacolonycommunity.com/event/pickleball/2026-05-26/
LOCATION:Pickleball Courts\, Sea Colony Drive\, Jupiter\, FL\, 33477\, United States
CATEGORIES:Pickleball
ATTACH;FMTTYPE=image/jpeg:https://seacolonycommunity.com/wp-content/uploads/2025/11/Pickleball.jpeg
END:VEVENT
BEGIN:VEVENT
DTSTART;TZID=America/New_York:20260528T083000
DTEND;TZID=America/New_York:20260528T110000
DTSTAMP:20260425T212043
CREATED:20251125T012626Z
LAST-MODIFIED:20251222T133622Z
UID:10003996-1779957000-1779966000@seacolonycommunity.com
SUMMARY:Pickleball
DESCRIPTION:Join our Pickleball Community — where newcomers\, casual players\, and seasoned competitors all meet for fast-paced fun and friendly connection! Whether you’re learning the basics or fine-tuning your finesse\, you’ll find an inviting court\, great camaraderie\, and a game that keeps everyone moving and smiling. All levels welcome — come play\, connect\, and enjoy the excitement of pickleball!
URL:https://seacolonycommunity.com/event/pickleball/2026-05-28/
LOCATION:Pickleball Courts\, Sea Colony Drive\, Jupiter\, FL\, 33477\, United States
CATEGORIES:Pickleball
ATTACH;FMTTYPE=image/jpeg:https://seacolonycommunity.com/wp-content/uploads/2025/11/Pickleball.jpeg
END:VEVENT
BEGIN:VEVENT
DTSTART;TZID=America/New_York:20260530T083000
DTEND;TZID=America/New_York:20260530T110000
DTSTAMP:20260425T212043
CREATED:20251125T012626Z
LAST-MODIFIED:20251222T133622Z
UID:10003997-1780129800-1780138800@seacolonycommunity.com
SUMMARY:Pickleball
DESCRIPTION:Join our Pickleball Community — where newcomers\, casual players\, and seasoned competitors all meet for fast-paced fun and friendly connection! Whether you’re learning the basics or fine-tuning your finesse\, you’ll find an inviting court\, great camaraderie\, and a game that keeps everyone moving and smiling. All levels welcome — come play\, connect\, and enjoy the excitement of pickleball!
URL:https://seacolonycommunity.com/event/pickleball/2026-05-30/
LOCATION:Pickleball Courts\, Sea Colony Drive\, Jupiter\, FL\, 33477\, United States
CATEGORIES:Pickleball
ATTACH;FMTTYPE=image/jpeg:https://seacolonycommunity.com/wp-content/uploads/2025/11/Pickleball.jpeg
END:VEVENT
BEGIN:VEVENT
DTSTART;TZID=America/New_York:20260602T083000
DTEND;TZID=America/New_York:20260602T110000
DTSTAMP:20260425T212043
CREATED:20251125T012626Z
LAST-MODIFIED:20251222T133622Z
UID:10000147-1780389000-1780398000@seacolonycommunity.com
SUMMARY:Pickleball
DESCRIPTION:Join our Pickleball Community — where newcomers\, casual players\, and seasoned competitors all meet for fast-paced fun and friendly connection! Whether you’re learning the basics or fine-tuning your finesse\, you’ll find an inviting court\, great camaraderie\, and a game that keeps everyone moving and smiling. All levels welcome — come play\, connect\, and enjoy the excitement of pickleball!
URL:https://seacolonycommunity.com/event/pickleball/2026-06-02/
LOCATION:Pickleball Courts\, Sea Colony Drive\, Jupiter\, FL\, 33477\, United States
CATEGORIES:Pickleball
ATTACH;FMTTYPE=image/jpeg:https://seacolonycommunity.com/wp-content/uploads/2025/11/Pickleball.jpeg
END:VEVENT
BEGIN:VEVENT
DTSTART;TZID=America/New_York:20260604T083000
DTEND;TZID=America/New_York:20260604T110000
DTSTAMP:20260425T212043
CREATED:20251125T012626Z
LAST-MODIFIED:20251222T133622Z
UID:10003998-1780561800-1780570800@seacolonycommunity.com
SUMMARY:Pickleball
DESCRIPTION:Join our Pickleball Community — where newcomers\, casual players\, and seasoned competitors all meet for fast-paced fun and friendly connection! Whether you’re learning the basics or fine-tuning your finesse\, you’ll find an inviting court\, great camaraderie\, and a game that keeps everyone moving and smiling. All levels welcome — come play\, connect\, and enjoy the excitement of pickleball!
URL:https://seacolonycommunity.com/event/pickleball/2026-06-04/
LOCATION:Pickleball Courts\, Sea Colony Drive\, Jupiter\, FL\, 33477\, United States
CATEGORIES:Pickleball
ATTACH;FMTTYPE=image/jpeg:https://seacolonycommunity.com/wp-content/uploads/2025/11/Pickleball.jpeg
END:VEVENT
BEGIN:VEVENT
DTSTART;TZID=America/New_York:20260606T083000
DTEND;TZID=America/New_York:20260606T110000
DTSTAMP:20260425T212043
CREATED:20251125T012626Z
LAST-MODIFIED:20251222T133622Z
UID:10003999-1780734600-1780743600@seacolonycommunity.com
SUMMARY:Pickleball
DESCRIPTION:Join our Pickleball Community — where newcomers\, casual players\, and seasoned competitors all meet for fast-paced fun and friendly connection! Whether you’re learning the basics or fine-tuning your finesse\, you’ll find an inviting court\, great camaraderie\, and a game that keeps everyone moving and smiling. All levels welcome — come play\, connect\, and enjoy the excitement of pickleball!
URL:https://seacolonycommunity.com/event/pickleball/2026-06-06/
LOCATION:Pickleball Courts\, Sea Colony Drive\, Jupiter\, FL\, 33477\, United States
CATEGORIES:Pickleball
ATTACH;FMTTYPE=image/jpeg:https://seacolonycommunity.com/wp-content/uploads/2025/11/Pickleball.jpeg
END:VEVENT
END:VCALENDAR