BEGIN:VCALENDAR
VERSION:2.0
PRODID:-//Sea Colony Community - ECPv6.15.20//NONSGML v1.0//EN
CALSCALE:GREGORIAN
METHOD:PUBLISH
X-WR-CALNAME:Sea Colony Community
X-ORIGINAL-URL:https://seacolonycommunity.com
X-WR-CALDESC:Events for Sea Colony Community
REFRESH-INTERVAL;VALUE=DURATION:PT1H
X-Robots-Tag:noindex
X-PUBLISHED-TTL:PT1H
BEGIN:VTIMEZONE
TZID:America/New_York
BEGIN:DAYLIGHT
TZOFFSETFROM:-0500
TZOFFSETTO:-0400
TZNAME:EDT
DTSTART:20240310T070000
END:DAYLIGHT
BEGIN:STANDARD
TZOFFSETFROM:-0400
TZOFFSETTO:-0500
TZNAME:EST
DTSTART:20241103T060000
END:STANDARD
BEGIN:DAYLIGHT
TZOFFSETFROM:-0500
TZOFFSETTO:-0400
TZNAME:EDT
DTSTART:20250309T070000
END:DAYLIGHT
BEGIN:STANDARD
TZOFFSETFROM:-0400
TZOFFSETTO:-0500
TZNAME:EST
DTSTART:20251102T060000
END:STANDARD
BEGIN:DAYLIGHT
TZOFFSETFROM:-0500
TZOFFSETTO:-0400
TZNAME:EDT
DTSTART:20260308T070000
END:DAYLIGHT
BEGIN:STANDARD
TZOFFSETFROM:-0400
TZOFFSETTO:-0500
TZNAME:EST
DTSTART:20261101T060000
END:STANDARD
BEGIN:DAYLIGHT
TZOFFSETFROM:-0500
TZOFFSETTO:-0400
TZNAME:EDT
DTSTART:20270314T070000
END:DAYLIGHT
BEGIN:STANDARD
TZOFFSETFROM:-0400
TZOFFSETTO:-0500
TZNAME:EST
DTSTART:20271107T060000
END:STANDARD
END:VTIMEZONE
BEGIN:VEVENT
DTSTART;TZID=America/New_York:20260405T103000
DTEND;TZID=America/New_York:20260405T143000
DTSTAMP:20260425T211443
CREATED:20260217T200802Z
LAST-MODIFIED:20260331T152758Z
UID:10005562-1775385000-1775399400@seacolonycommunity.com
SUMMARY:Easter Day Brunch
DESCRIPTION:Join us as we celebrate Easter with a festive community brunch filled with great food\, good company\, and holiday cheer. Bring your family\, friends\, and your Easter spirit for a relaxed and welcoming gathering. \nPlease bring a “brunch type” item to share!
URL:https://seacolonycommunity.com/event/easter-day-brunch/
LOCATION:Pool Pavilion\, Sea Colony Drive\, Jupiter\, FL\, 33477\, United States
CATEGORIES:Sea Colony Party
ATTACH;FMTTYPE=image/png:https://seacolonycommunity.com/wp-content/uploads/2026/02/Easter-Brunch.png
ORGANIZER;CN="Party Planners":MAILTO:kfguissi@aol.com
END:VEVENT
BEGIN:VEVENT
DTSTART;TZID=America/New_York:20260321T140000
DTEND;TZID=America/New_York:20260321T160000
DTSTAMP:20260425T211443
CREATED:20260310T003634Z
LAST-MODIFIED:20260313T175004Z
UID:10005584-1774101600-1774108800@seacolonycommunity.com
SUMMARY:Birthday Celebration!
DESCRIPTION:Celebrate Mel Scott’s 99th birthday!\n\nJoin us at the Pavilion for cake & ice cream!!
URL:https://seacolonycommunity.com/event/birthday-celebration/
LOCATION:Pool Pavilion\, Sea Colony Drive\, Jupiter\, FL\, 33477\, United States
CATEGORIES:Sea Colony Party
ATTACH;FMTTYPE=image/jpeg:https://seacolonycommunity.com/wp-content/uploads/2026/03/Happy-BIrthday.jpg
ORGANIZER;CN="Party Planners":MAILTO:kfguissi@aol.com
END:VEVENT
BEGIN:VEVENT
DTSTART;TZID=America/New_York:20260317T060000
DTEND;TZID=America/New_York:20260317T220000
DTSTAMP:20260425T211443
CREATED:20260217T200539Z
LAST-MODIFIED:20260310T003327Z
UID:10005561-1773727200-1773784800@seacolonycommunity.com
SUMMARY:St. Patrick Day Celebration
DESCRIPTION:Join your neighbors for a festive St. Patrick’s Day celebration filled with fun\, laughter\, and plenty of green spirit. \nReservations and $$$ are due to Kathy Guissi by Thursday\, 3/12 \nTooJays Deli will cater – $20 pp\nCorned beef sandwich (gluten-free bread is available)\, cole slaw\, potato salad\, pickle\, chips\, and a cookie.\nBring your favorite drink and come join the fun!\n(feel free to bring something else to eat) \n  \n 
URL:https://seacolonycommunity.com/event/st-patrick-day-celebration/
LOCATION:Pool Pavilion\, Sea Colony Drive\, Jupiter\, FL\, 33477\, United States
CATEGORIES:Sea Colony Party
ATTACH;FMTTYPE=image/jpeg:https://seacolonycommunity.com/wp-content/uploads/2026/02/St-Patricks-Day-Social.jpg
ORGANIZER;CN="Party Planners":MAILTO:kfguissi@aol.com
END:VEVENT
BEGIN:VEVENT
DTSTART;TZID=America/New_York:20260220T170000
DTEND;TZID=America/New_York:20260220T183000
DTSTAMP:20260425T211443
CREATED:20260217T194542Z
LAST-MODIFIED:20260217T195311Z
UID:10005558-1771606800-1771612200@seacolonycommunity.com
SUMMARY:Sunset Serenade
DESCRIPTION:🎶 Live Music in the Community! 🎶 \nDennis Flaherty\, professional vocalist and musician\, will be entertaining us for a special evening of live music. \nBring your favorite drink\, relax\, and enjoy the concert with friends and neighbors! \nThere is no fee to attend\, but gratuities are always welcome and appreciated. \n\n\n\n(Rain date Saturday )
URL:https://seacolonycommunity.com/event/sunset-serenade/
LOCATION:Pool Pavilion\, Sea Colony Drive\, Jupiter\, FL\, 33477\, United States
CATEGORIES:Sea Colony Party
ATTACH;FMTTYPE=image/png:https://seacolonycommunity.com/wp-content/uploads/2026/02/Sunset-Serenade.png
ORGANIZER;CN="Party Planners":MAILTO:kfguissi@aol.com
END:VEVENT
BEGIN:VEVENT
DTSTART;TZID=America/New_York:20260219T143000
DTEND;TZID=America/New_York:20260219T153000
DTSTAMP:20260425T211443
CREATED:20260217T142024Z
LAST-MODIFIED:20260217T180025Z
UID:10005433-1771511400-1771515000@seacolonycommunity.com
SUMMARY:Ice Cream Social
DESCRIPTION:Join us by the pool for a family-friendly Ice Cream Social filled with smiles\, laughter\, and sweet treats for all ages—while supplies last! Kids\, parents\, grandparents\, and neighbors are all welcome to come cool off\, enjoy a scoop (or two)\, and spend time together in a relaxed\, welcoming atmosphere. It’s a great way for families to connect\, meet new friends\, and make fun community memories. We hope to see everyone there!
URL:https://seacolonycommunity.com/event/ice-cream-social/
LOCATION:Pool Pavilion\, Sea Colony Drive\, Jupiter\, FL\, 33477\, United States
CATEGORIES:Sea Colony Party
ATTACH;FMTTYPE=image/jpeg:https://seacolonycommunity.com/wp-content/uploads/2026/02/Ice-Cream-Social.jpg
ORGANIZER;CN="Party Planners":MAILTO:kfguissi@aol.com
END:VEVENT
BEGIN:VEVENT
DTSTART;TZID=America/New_York:20260218T190000
DTEND;TZID=America/New_York:20260218T203000
DTSTAMP:20260425T211443
CREATED:20260217T194923Z
LAST-MODIFIED:20260217T195414Z
UID:10005559-1771441200-1771446600@seacolonycommunity.com
SUMMARY:Left\, Right Center
DESCRIPTION:🎲 Join Us for a Left Right Center Game Night! 🎲 \nThe community is hosting a fun and social Left Right Center game night\, and everyone is invited! Come enjoy a relaxed evening with neighbors\, plenty of laughs\, and a little friendly competition. \nTo participate\, please bring $11 in singles for game play. \nWe hope to see you there!
URL:https://seacolonycommunity.com/event/left-right-center/
LOCATION:Pool Pavilion\, Sea Colony Drive\, Jupiter\, FL\, 33477\, United States
CATEGORIES:Sea Colony Party
ATTACH;FMTTYPE=image/png:https://seacolonycommunity.com/wp-content/uploads/2026/02/Game-Night.png
ORGANIZER;CN="Party Planners":MAILTO:kfguissi@aol.com
END:VEVENT
BEGIN:VEVENT
DTSTART;TZID=America/New_York:20260110T100000
DTEND;TZID=America/New_York:20260110T120000
DTSTAMP:20260425T211443
CREATED:20251126T233610Z
LAST-MODIFIED:20251231T131627Z
UID:10002464-1768039200-1768046400@seacolonycommunity.com
SUMMARY:Sea Colony Swag Event!
DESCRIPTION:The Front Entrance Advisory Group is excited to team up with Laurie of Palm Beach Monogram to bring a special treat to our community! Laurie will be on-site during our Welcome Back Coffee Social\, offering custom Sea Colony swag created just for you. From personalized touches to unique keepsakes\, it’s a great opportunity to gear up in style while supporting a local artisan. \nHere is a link to Laurie’s website: https://www.palmbeachmonogram.shop/ \n 
URL:https://seacolonycommunity.com/event/sea-colony-swag-event/
LOCATION:Pool Pavilion\, Sea Colony Drive\, Jupiter\, FL\, 33477\, United States
CATEGORIES:Sea Colony Party
ATTACH;FMTTYPE=image/png:https://seacolonycommunity.com/wp-content/uploads/2025/11/Swag-Calendar-Post.png
ORGANIZER;CN="Party Planners":MAILTO:kfguissi@aol.com
END:VEVENT
BEGIN:VEVENT
DTSTART;TZID=America/New_York:20260110T100000
DTEND;TZID=America/New_York:20260110T110000
DTSTAMP:20260425T211443
CREATED:20251126T014540Z
LAST-MODIFIED:20251126T014540Z
UID:10002461-1768039200-1768042800@seacolonycommunity.com
SUMMARY:Welcome Back Coffee Social
DESCRIPTION:Join us for our Welcome Back Coffee Social — a warm\, friendly gathering to reconnect\, catch up\, and kick off the season together! Whether you’re returning\, brand new\, or just curious to meet your neighbors\, you’ll enjoy fresh coffee\, light bites\, and great conversation in a relaxed\, inviting setting. All are welcome — come sip\, mingle\, and say hello!
URL:https://seacolonycommunity.com/event/welcome-back-coffee-social/
LOCATION:Pool Pavilion\, Sea Colony Drive\, Jupiter\, FL\, 33477\, United States
CATEGORIES:Sea Colony Party
ATTACH;FMTTYPE=image/jpeg:https://seacolonycommunity.com/wp-content/uploads/2025/11/Coffee-Social.jpg
ORGANIZER;CN="Party Planners":MAILTO:kfguissi@aol.com
END:VEVENT
BEGIN:VEVENT
DTSTART;TZID=America/New_York:20251210T170000
DTEND;TZID=America/New_York:20251210T183000
DTSTAMP:20260425T211443
CREATED:20251124T211158Z
LAST-MODIFIED:20251124T211540Z
UID:10000004-1765386000-1765391400@seacolonycommunity.com
SUMMARY:Holiday Cocktail Party
DESCRIPTION:(Let’s Make it a dress up event!) \nPlease Bring an appetizer to share and your favorite drink. \nWe will be colleting new\, unwrapped Toys for Tots!
URL:https://seacolonycommunity.com/event/holiday-cocktail-party/
LOCATION:Pool Pavilion\, Sea Colony Drive\, Jupiter\, FL\, 33477\, United States
CATEGORIES:Sea Colony Party
ATTACH;FMTTYPE=image/jpeg:https://seacolonycommunity.com/wp-content/uploads/2025/11/Holiday-Cocktail-Party.jpg
ORGANIZER;CN="Party Planners":MAILTO:kfguissi@aol.com
END:VEVENT
END:VCALENDAR