BEGIN:VCALENDAR
VERSION:2.0
PRODID:-//Sea Colony Community - ECPv6.15.20//NONSGML v1.0//EN
CALSCALE:GREGORIAN
METHOD:PUBLISH
X-ORIGINAL-URL:https://seacolonycommunity.com
X-WR-CALDESC:Events for Sea Colony Community
REFRESH-INTERVAL;VALUE=DURATION:PT1H
X-Robots-Tag:noindex
X-PUBLISHED-TTL:PT1H
BEGIN:VTIMEZONE
TZID:America/New_York
BEGIN:DAYLIGHT
TZOFFSETFROM:-0500
TZOFFSETTO:-0400
TZNAME:EDT
DTSTART:20250309T070000
END:DAYLIGHT
BEGIN:STANDARD
TZOFFSETFROM:-0400
TZOFFSETTO:-0500
TZNAME:EST
DTSTART:20251102T060000
END:STANDARD
BEGIN:DAYLIGHT
TZOFFSETFROM:-0500
TZOFFSETTO:-0400
TZNAME:EDT
DTSTART:20260308T070000
END:DAYLIGHT
BEGIN:STANDARD
TZOFFSETFROM:-0400
TZOFFSETTO:-0500
TZNAME:EST
DTSTART:20261101T060000
END:STANDARD
BEGIN:DAYLIGHT
TZOFFSETFROM:-0500
TZOFFSETTO:-0400
TZNAME:EDT
DTSTART:20270314T070000
END:DAYLIGHT
BEGIN:STANDARD
TZOFFSETFROM:-0400
TZOFFSETTO:-0500
TZNAME:EST
DTSTART:20271107T060000
END:STANDARD
END:VTIMEZONE
BEGIN:VEVENT
DTSTART;TZID=America/New_York:20260330T160000
DTEND;TZID=America/New_York:20260330T170000
DTSTAMP:20260425T112303
CREATED:20260217T142821Z
LAST-MODIFIED:20260217T192102Z
UID:10005501-1774886400-1774890000@seacolonycommunity.com
SUMMARY:Yoga
DESCRIPTION:Take a moment to relax and recharge with free yoga offered in the open space behind the pool. These sessions are designed for everyone—whether you’re brand new to yoga or have years of experience\, all levels are welcome. Enjoy fresh air\, gentle movement\, and a peaceful setting while connecting with neighbors and focusing on wellness. Just bring a mat\, some water\, and come as you are. Namaste!
URL:https://seacolonycommunity.com/event/yoga/2026-03-30/
LOCATION:Green Space\, Sea Colony Drive\, Jupiter\, FL\, 33477\, United States
CATEGORIES:Yoga
ATTACH;FMTTYPE=image/jpeg:https://seacolonycommunity.com/wp-content/uploads/2026/02/Yoga.jpg
END:VEVENT
END:VCALENDAR