BEGIN:VCALENDAR
VERSION:2.0
PRODID:-//Sea Colony Community - ECPv6.15.20//NONSGML v1.0//EN
CALSCALE:GREGORIAN
METHOD:PUBLISH
X-WR-CALNAME:Sea Colony Community
X-ORIGINAL-URL:https://seacolonycommunity.com
X-WR-CALDESC:Events for Sea Colony Community
REFRESH-INTERVAL;VALUE=DURATION:PT1H
X-Robots-Tag:noindex
X-PUBLISHED-TTL:PT1H
BEGIN:VTIMEZONE
TZID:America/New_York
BEGIN:DAYLIGHT
TZOFFSETFROM:-0500
TZOFFSETTO:-0400
TZNAME:EDT
DTSTART:20250309T070000
END:DAYLIGHT
BEGIN:STANDARD
TZOFFSETFROM:-0400
TZOFFSETTO:-0500
TZNAME:EST
DTSTART:20251102T060000
END:STANDARD
BEGIN:DAYLIGHT
TZOFFSETFROM:-0500
TZOFFSETTO:-0400
TZNAME:EDT
DTSTART:20260308T070000
END:DAYLIGHT
BEGIN:STANDARD
TZOFFSETFROM:-0400
TZOFFSETTO:-0500
TZNAME:EST
DTSTART:20261101T060000
END:STANDARD
BEGIN:DAYLIGHT
TZOFFSETFROM:-0500
TZOFFSETTO:-0400
TZNAME:EDT
DTSTART:20270314T070000
END:DAYLIGHT
BEGIN:STANDARD
TZOFFSETFROM:-0400
TZOFFSETTO:-0500
TZNAME:EST
DTSTART:20271107T060000
END:STANDARD
END:VTIMEZONE
BEGIN:VEVENT
DTSTART;TZID=America/New_York:20260326T000000
DTEND;TZID=America/New_York:20260326T235959
DTSTAMP:20260425T225030
CREATED:20260310T024358Z
LAST-MODIFIED:20260415T013944Z
UID:10005585-1774483200-1774569599@seacolonycommunity.com
SUMMARY:Annual Board Meeting - Condominium
DESCRIPTION:
URL:https://seacolonycommunity.com/event/annual-board-meeting-condominium/2026-03-26/
LOCATION:Pool Pavilion\, Sea Colony Drive\, Jupiter\, FL\, 33477\, United States
CATEGORIES:HOA
ATTACH;FMTTYPE=image/jpeg:https://seacolonycommunity.com/wp-content/uploads/2025/11/Judges-Gavel.jpg
ORGANIZER;CN="Sea Colony HOA":MAILTO:flucania@castlegroup.com
END:VEVENT
BEGIN:VEVENT
DTSTART;TZID=America/New_York:20260325T090000
DTEND;TZID=America/New_York:20260325T094500
DTSTAMP:20260425T225030
CREATED:20251124T163146Z
LAST-MODIFIED:20251129T010737Z
UID:10002514-1774429200-1774431900@seacolonycommunity.com
SUMMARY:Water Aerobics
DESCRIPTION:Join our Water Aerobics Community — a fun\, refreshing way to stay active\, energized\, and connected! Whether you’re dipping your toes in for the first time or you’ve been splashing through workouts for years\, you’ll find a supportive group\, upbeat routines\, and plenty of smiles. Enjoy low-impact exercise that boosts strength\, balance\, and confidence while keeping things light and enjoyable. All levels welcome — come move\, laugh\, and feel great in the water!
URL:https://seacolonycommunity.com/event/water-aerobics/2026-03-25/
LOCATION:Pool\, Sea Colony Drive\, Jupiter\, FL\, 33477\, United States
CATEGORIES:Water Aerobics
ATTACH;FMTTYPE=image/jpeg:https://seacolonycommunity.com/wp-content/uploads/2025/11/Water-Aerobics.jpg
END:VEVENT
BEGIN:VEVENT
DTSTART;TZID=America/New_York:20260325T080000
DTEND;TZID=America/New_York:20260325T170000
DTSTAMP:20260425T225030
CREATED:20260201T164512Z
LAST-MODIFIED:20260331T164708Z
UID:10005571-1774425600-1774458000@seacolonycommunity.com
SUMMARY:Irrigation Check
DESCRIPTION:Please be advised that irrigation system checks will be conducted throughout the community. This routine maintenance helps ensure that all irrigation lines and equipment are functioning properly and efficiently. You may see maintenance staff accessing landscaped areas during this time. Thank you for your patience and cooperation.
URL:https://seacolonycommunity.com/event/irrigation-check-2/2026-03-25/
LOCATION:Community\, Sea Colony Drive\, Jupiter\, FL\, 33477\, United States
CATEGORIES:Community Maintenance
ATTACH;FMTTYPE=image/jpeg:https://seacolonycommunity.com/wp-content/uploads/2025/11/Lawn-Sprinkler.jpg
ORGANIZER;CN="Castle Property Manager":MAILTO:flucania@castlegroup.com
END:VEVENT
BEGIN:VEVENT
DTSTART;TZID=America/New_York:20260325T070000
DTEND;TZID=America/New_York:20260325T090000
DTSTAMP:20260425T225030
CREATED:20251231T225452Z
LAST-MODIFIED:20251231T225452Z
UID:10004679-1774422000-1774429200@seacolonycommunity.com
SUMMARY:Pool Service
DESCRIPTION:Please be advised that the community pool will be serviced to ensure it remains clean\, safe\, and fully operational for everyone’s use. During this time\, access to the pool may be temporarily limited or unavailable. We appreciate your patience and cooperation as this routine maintenance helps provide a better experience for all residents. Thank you for your understanding.
URL:https://seacolonycommunity.com/event/pool-service/2026-03-25/
LOCATION:Pool\, Sea Colony Drive\, Jupiter\, FL\, 33477\, United States
CATEGORIES:Community Maintenance
ATTACH;FMTTYPE=image/png:https://seacolonycommunity.com/wp-content/uploads/2025/01/Pool.png
ORGANIZER;CN="Castle Property Manager":MAILTO:flucania@castlegroup.com
END:VEVENT
BEGIN:VEVENT
DTSTART;TZID=America/New_York:20260324T133000
DTEND;TZID=America/New_York:20260324T150000
DTSTAMP:20260425T225030
CREATED:20251126T012544Z
LAST-MODIFIED:20251126T012627Z
UID:10001713-1774359000-1774364400@seacolonycommunity.com
SUMMARY:Rummikub
DESCRIPTION:Join our Rummikub Community — where brand-new players\, casual fans\, and seasoned tile strategists all come together for great company and great games! Whether you’re learning how the sets work or perfecting your clever combos\, you’ll find a welcoming table\, easygoing conversation\, and a game that always keeps you thinking and smiling. All levels welcome — come play\, connect\, and enjoy the fun of Rummikub!
URL:https://seacolonycommunity.com/event/rummikube/2026-03-24/
LOCATION:Pool Pavilion\, Sea Colony Drive\, Jupiter\, FL\, 33477\, United States
ATTACH;FMTTYPE=image/png:https://seacolonycommunity.com/wp-content/uploads/2025/11/Rummikub-Game.png
END:VEVENT
BEGIN:VEVENT
DTSTART;TZID=America/New_York:20260324T083000
DTEND;TZID=America/New_York:20260324T110000
DTSTAMP:20260425T225030
CREATED:20251125T012626Z
LAST-MODIFIED:20251222T133622Z
UID:10000137-1774341000-1774350000@seacolonycommunity.com
SUMMARY:Pickleball
DESCRIPTION:Join our Pickleball Community — where newcomers\, casual players\, and seasoned competitors all meet for fast-paced fun and friendly connection! Whether you’re learning the basics or fine-tuning your finesse\, you’ll find an inviting court\, great camaraderie\, and a game that keeps everyone moving and smiling. All levels welcome — come play\, connect\, and enjoy the excitement of pickleball!
URL:https://seacolonycommunity.com/event/pickleball/2026-03-24/
LOCATION:Pickleball Courts\, Sea Colony Drive\, Jupiter\, FL\, 33477\, United States
CATEGORIES:Pickleball
ATTACH;FMTTYPE=image/jpeg:https://seacolonycommunity.com/wp-content/uploads/2025/11/Pickleball.jpeg
END:VEVENT
BEGIN:VEVENT
DTSTART;TZID=America/New_York:20260323T160000
DTEND;TZID=America/New_York:20260323T170000
DTSTAMP:20260425T225030
CREATED:20260217T142821Z
LAST-MODIFIED:20260217T192102Z
UID:10005500-1774281600-1774285200@seacolonycommunity.com
SUMMARY:Yoga
DESCRIPTION:Take a moment to relax and recharge with free yoga offered in the open space behind the pool. These sessions are designed for everyone—whether you’re brand new to yoga or have years of experience\, all levels are welcome. Enjoy fresh air\, gentle movement\, and a peaceful setting while connecting with neighbors and focusing on wellness. Just bring a mat\, some water\, and come as you are. Namaste!
URL:https://seacolonycommunity.com/event/yoga/2026-03-23/
LOCATION:Green Space\, Sea Colony Drive\, Jupiter\, FL\, 33477\, United States
CATEGORIES:Yoga
ATTACH;FMTTYPE=image/jpeg:https://seacolonycommunity.com/wp-content/uploads/2026/02/Yoga.jpg
END:VEVENT
BEGIN:VEVENT
DTSTART;TZID=America/New_York:20260323T130000
DTEND;TZID=America/New_York:20260323T150000
DTSTAMP:20260425T225030
CREATED:20251209T225552Z
LAST-MODIFIED:20251209T230021Z
UID:10003641-1774270800-1774278000@seacolonycommunity.com
SUMMARY:Mahjong
DESCRIPTION:Join our Community Mahjong Meetup — perfect for beginners\, casual players\, and seasoned tile-tappers alike! Learn\, play\, strategize\, and enjoy a relaxed\, welcoming atmosphere with great company and engaging games. All levels welcome — and don’t forget to bring your quarters!
URL:https://seacolonycommunity.com/event/mahjong-2/2026-03-23/
LOCATION:Pool Pavilion\, Sea Colony Drive\, Jupiter\, FL\, 33477\, United States
CATEGORIES:Mahjong
ATTACH;FMTTYPE=image/png:https://seacolonycommunity.com/wp-content/uploads/2025/11/Mahjong.png
END:VEVENT
BEGIN:VEVENT
DTSTART;TZID=America/New_York:20260323T090000
DTEND;TZID=America/New_York:20260323T094500
DTSTAMP:20260425T225030
CREATED:20251124T163146Z
LAST-MODIFIED:20251129T010737Z
UID:10002513-1774256400-1774259100@seacolonycommunity.com
SUMMARY:Water Aerobics
DESCRIPTION:Join our Water Aerobics Community — a fun\, refreshing way to stay active\, energized\, and connected! Whether you’re dipping your toes in for the first time or you’ve been splashing through workouts for years\, you’ll find a supportive group\, upbeat routines\, and plenty of smiles. Enjoy low-impact exercise that boosts strength\, balance\, and confidence while keeping things light and enjoyable. All levels welcome — come move\, laugh\, and feel great in the water!
URL:https://seacolonycommunity.com/event/water-aerobics/2026-03-23/
LOCATION:Pool\, Sea Colony Drive\, Jupiter\, FL\, 33477\, United States
CATEGORIES:Water Aerobics
ATTACH;FMTTYPE=image/jpeg:https://seacolonycommunity.com/wp-content/uploads/2025/11/Water-Aerobics.jpg
END:VEVENT
BEGIN:VEVENT
DTSTART;TZID=America/New_York:20260323T080000
DTEND;TZID=America/New_York:20260323T170000
DTSTAMP:20260425T225030
CREATED:20260201T164512Z
LAST-MODIFIED:20260331T164708Z
UID:10005570-1774252800-1774285200@seacolonycommunity.com
SUMMARY:Irrigation Check
DESCRIPTION:Please be advised that irrigation system checks will be conducted throughout the community. This routine maintenance helps ensure that all irrigation lines and equipment are functioning properly and efficiently. You may see maintenance staff accessing landscaped areas during this time. Thank you for your patience and cooperation.
URL:https://seacolonycommunity.com/event/irrigation-check-2/2026-03-23/
LOCATION:Community\, Sea Colony Drive\, Jupiter\, FL\, 33477\, United States
CATEGORIES:Community Maintenance
ATTACH;FMTTYPE=image/jpeg:https://seacolonycommunity.com/wp-content/uploads/2025/11/Lawn-Sprinkler.jpg
ORGANIZER;CN="Castle Property Manager":MAILTO:flucania@castlegroup.com
END:VEVENT
BEGIN:VEVENT
DTSTART;TZID=America/New_York:20260323T070000
DTEND;TZID=America/New_York:20260323T090000
DTSTAMP:20260425T225030
CREATED:20251231T225452Z
LAST-MODIFIED:20251231T225452Z
UID:10004678-1774249200-1774256400@seacolonycommunity.com
SUMMARY:Pool Service
DESCRIPTION:Please be advised that the community pool will be serviced to ensure it remains clean\, safe\, and fully operational for everyone’s use. During this time\, access to the pool may be temporarily limited or unavailable. We appreciate your patience and cooperation as this routine maintenance helps provide a better experience for all residents. Thank you for your understanding.
URL:https://seacolonycommunity.com/event/pool-service/2026-03-23/
LOCATION:Pool\, Sea Colony Drive\, Jupiter\, FL\, 33477\, United States
CATEGORIES:Community Maintenance
ATTACH;FMTTYPE=image/png:https://seacolonycommunity.com/wp-content/uploads/2025/01/Pool.png
ORGANIZER;CN="Castle Property Manager":MAILTO:flucania@castlegroup.com
END:VEVENT
BEGIN:VEVENT
DTSTART;TZID=America/New_York:20260321T140000
DTEND;TZID=America/New_York:20260321T160000
DTSTAMP:20260425T225030
CREATED:20260310T003634Z
LAST-MODIFIED:20260313T175004Z
UID:10005584-1774101600-1774108800@seacolonycommunity.com
SUMMARY:Birthday Celebration!
DESCRIPTION:Celebrate Mel Scott’s 99th birthday!\n\nJoin us at the Pavilion for cake & ice cream!!
URL:https://seacolonycommunity.com/event/birthday-celebration/
LOCATION:Pool Pavilion\, Sea Colony Drive\, Jupiter\, FL\, 33477\, United States
CATEGORIES:Sea Colony Party
ATTACH;FMTTYPE=image/jpeg:https://seacolonycommunity.com/wp-content/uploads/2026/03/Happy-BIrthday.jpg
ORGANIZER;CN="Party Planners":MAILTO:kfguissi@aol.com
END:VEVENT
BEGIN:VEVENT
DTSTART;TZID=America/New_York:20260321T133000
DTEND;TZID=America/New_York:20260321T150000
DTSTAMP:20260425T225030
CREATED:20251126T012544Z
LAST-MODIFIED:20251126T012627Z
UID:10002216-1774099800-1774105200@seacolonycommunity.com
SUMMARY:Rummikub
DESCRIPTION:Join our Rummikub Community — where brand-new players\, casual fans\, and seasoned tile strategists all come together for great company and great games! Whether you’re learning how the sets work or perfecting your clever combos\, you’ll find a welcoming table\, easygoing conversation\, and a game that always keeps you thinking and smiling. All levels welcome — come play\, connect\, and enjoy the fun of Rummikub!
URL:https://seacolonycommunity.com/event/rummikube/2026-03-21/
LOCATION:Pool Pavilion\, Sea Colony Drive\, Jupiter\, FL\, 33477\, United States
ATTACH;FMTTYPE=image/png:https://seacolonycommunity.com/wp-content/uploads/2025/11/Rummikub-Game.png
END:VEVENT
BEGIN:VEVENT
DTSTART;TZID=America/New_York:20260321T083000
DTEND;TZID=America/New_York:20260321T110000
DTSTAMP:20260425T225030
CREATED:20251125T012626Z
LAST-MODIFIED:20251222T133622Z
UID:10003977-1774081800-1774090800@seacolonycommunity.com
SUMMARY:Pickleball
DESCRIPTION:Join our Pickleball Community — where newcomers\, casual players\, and seasoned competitors all meet for fast-paced fun and friendly connection! Whether you’re learning the basics or fine-tuning your finesse\, you’ll find an inviting court\, great camaraderie\, and a game that keeps everyone moving and smiling. All levels welcome — come play\, connect\, and enjoy the excitement of pickleball!
URL:https://seacolonycommunity.com/event/pickleball/2026-03-21/
LOCATION:Pickleball Courts\, Sea Colony Drive\, Jupiter\, FL\, 33477\, United States
CATEGORIES:Pickleball
ATTACH;FMTTYPE=image/jpeg:https://seacolonycommunity.com/wp-content/uploads/2025/11/Pickleball.jpeg
END:VEVENT
BEGIN:VEVENT
DTSTART;TZID=America/New_York:20260320T090000
DTEND;TZID=America/New_York:20260320T094500
DTSTAMP:20260425T225030
CREATED:20251124T163146Z
LAST-MODIFIED:20251129T010737Z
UID:10002512-1773997200-1773999900@seacolonycommunity.com
SUMMARY:Water Aerobics
DESCRIPTION:Join our Water Aerobics Community — a fun\, refreshing way to stay active\, energized\, and connected! Whether you’re dipping your toes in for the first time or you’ve been splashing through workouts for years\, you’ll find a supportive group\, upbeat routines\, and plenty of smiles. Enjoy low-impact exercise that boosts strength\, balance\, and confidence while keeping things light and enjoyable. All levels welcome — come move\, laugh\, and feel great in the water!
URL:https://seacolonycommunity.com/event/water-aerobics/2026-03-20/
LOCATION:Pool\, Sea Colony Drive\, Jupiter\, FL\, 33477\, United States
CATEGORIES:Water Aerobics
ATTACH;FMTTYPE=image/jpeg:https://seacolonycommunity.com/wp-content/uploads/2025/11/Water-Aerobics.jpg
END:VEVENT
BEGIN:VEVENT
DTSTART;TZID=America/New_York:20260320T070000
DTEND;TZID=America/New_York:20260320T090000
DTSTAMP:20260425T225030
CREATED:20251231T225452Z
LAST-MODIFIED:20251231T225452Z
UID:10004677-1773990000-1773997200@seacolonycommunity.com
SUMMARY:Pool Service
DESCRIPTION:Please be advised that the community pool will be serviced to ensure it remains clean\, safe\, and fully operational for everyone’s use. During this time\, access to the pool may be temporarily limited or unavailable. We appreciate your patience and cooperation as this routine maintenance helps provide a better experience for all residents. Thank you for your understanding.
URL:https://seacolonycommunity.com/event/pool-service/2026-03-20/
LOCATION:Pool\, Sea Colony Drive\, Jupiter\, FL\, 33477\, United States
CATEGORIES:Community Maintenance
ATTACH;FMTTYPE=image/png:https://seacolonycommunity.com/wp-content/uploads/2025/01/Pool.png
ORGANIZER;CN="Castle Property Manager":MAILTO:flucania@castlegroup.com
END:VEVENT
BEGIN:VEVENT
DTSTART;TZID=America/New_York:20260319T133000
DTEND;TZID=America/New_York:20260319T153000
DTSTAMP:20260425T225030
CREATED:20251125T015406Z
LAST-MODIFIED:20260201T165603Z
UID:10000024-1773927000-1773934200@seacolonycommunity.com
SUMMARY:Canasta
DESCRIPTION:Join our Community Canasta — where beginners\, card sharks\, and seasoned melders all gather for lively tables and endless fun! Whether you’re just learning to go out\, chasing that perfect high scoring point game\, or hunting wild cards like a pro\, you’ll find welcoming partners\, plenty of laughs\, and that unbeatable thrill when the cards finally fall your way. All skill levels welcome — grab a seat\, meld away\, and let’s play Canasta! \nClick Here For Sea Colony Rules: Canasta Rule Sheet
URL:https://seacolonycommunity.com/event/canasta/2026-03-19/
LOCATION:Pool Pavilion\, Sea Colony Drive\, Jupiter\, FL\, 33477\, United States
CATEGORIES:Canasta
ATTACH;FMTTYPE=image/jpeg:https://seacolonycommunity.com/wp-content/uploads/2025/11/Canasta.jpg
END:VEVENT
BEGIN:VEVENT
DTSTART;TZID=America/New_York:20260319T110000
DTEND;TZID=America/New_York:20260319T130000
DTSTAMP:20260425T225030
CREATED:20260313T175411Z
LAST-MODIFIED:20260313T175411Z
UID:10005587-1773918000-1773925200@seacolonycommunity.com
SUMMARY:Craft Day - All levels of experience!
DESCRIPTION:We will be making paper flowers\nPlease bring scissors\, stapler & glue gun\n(inexperienced crafters wanted!)\nRespond to Janet McCarron
URL:https://seacolonycommunity.com/event/craft-day-all-levels-of-experience/
LOCATION:Pool Pavilion\, Sea Colony Drive\, Jupiter\, FL\, 33477\, United States
ATTACH;FMTTYPE=image/jpeg:https://seacolonycommunity.com/wp-content/uploads/2026/03/Arts-and-Crafts.jpg
END:VEVENT
BEGIN:VEVENT
DTSTART;TZID=America/New_York:20260319T083000
DTEND;TZID=America/New_York:20260319T110000
DTSTAMP:20260425T225030
CREATED:20251125T012626Z
LAST-MODIFIED:20251222T133622Z
UID:10003976-1773909000-1773918000@seacolonycommunity.com
SUMMARY:Pickleball
DESCRIPTION:Join our Pickleball Community — where newcomers\, casual players\, and seasoned competitors all meet for fast-paced fun and friendly connection! Whether you’re learning the basics or fine-tuning your finesse\, you’ll find an inviting court\, great camaraderie\, and a game that keeps everyone moving and smiling. All levels welcome — come play\, connect\, and enjoy the excitement of pickleball!
URL:https://seacolonycommunity.com/event/pickleball/2026-03-19/
LOCATION:Pickleball Courts\, Sea Colony Drive\, Jupiter\, FL\, 33477\, United States
CATEGORIES:Pickleball
ATTACH;FMTTYPE=image/jpeg:https://seacolonycommunity.com/wp-content/uploads/2025/11/Pickleball.jpeg
END:VEVENT
BEGIN:VEVENT
DTSTART;TZID=America/New_York:20260318T090000
DTEND;TZID=America/New_York:20260318T094500
DTSTAMP:20260425T225030
CREATED:20251124T163146Z
LAST-MODIFIED:20251129T010737Z
UID:10002511-1773824400-1773827100@seacolonycommunity.com
SUMMARY:Water Aerobics
DESCRIPTION:Join our Water Aerobics Community — a fun\, refreshing way to stay active\, energized\, and connected! Whether you’re dipping your toes in for the first time or you’ve been splashing through workouts for years\, you’ll find a supportive group\, upbeat routines\, and plenty of smiles. Enjoy low-impact exercise that boosts strength\, balance\, and confidence while keeping things light and enjoyable. All levels welcome — come move\, laugh\, and feel great in the water!
URL:https://seacolonycommunity.com/event/water-aerobics/2026-03-18/
LOCATION:Pool\, Sea Colony Drive\, Jupiter\, FL\, 33477\, United States
CATEGORIES:Water Aerobics
ATTACH;FMTTYPE=image/jpeg:https://seacolonycommunity.com/wp-content/uploads/2025/11/Water-Aerobics.jpg
END:VEVENT
BEGIN:VEVENT
DTSTART;TZID=America/New_York:20260318T080000
DTEND;TZID=America/New_York:20260318T170000
DTSTAMP:20260425T225030
CREATED:20260201T164810Z
LAST-MODIFIED:20260331T165036Z
UID:10005583-1773820800-1773853200@seacolonycommunity.com
SUMMARY:Shrub Trimming
DESCRIPTION:Please be advised that shrub trimming will be taking place throughout the community over the coming days. This work is part of our regular landscape maintenance to keep common areas healthy\, safe\, and attractive. Residents may notice crews and equipment in various locations; please use caution when passing through work areas. Thank you for your understanding and cooperation.
URL:https://seacolonycommunity.com/event/shrub-trimming-2/2026-03-18/
LOCATION:Community\, Sea Colony Drive\, Jupiter\, FL\, 33477\, United States
CATEGORIES:Community Maintenance
ATTACH;FMTTYPE=image/jpeg:https://seacolonycommunity.com/wp-content/uploads/2025/11/Shrub-Trimming.jpg
ORGANIZER;CN="Castle Property Manager":MAILTO:flucania@castlegroup.com
END:VEVENT
BEGIN:VEVENT
DTSTART;TZID=America/New_York:20260318T080000
DTEND;TZID=America/New_York:20260318T170000
DTSTAMP:20260425T225030
CREATED:20260201T164512Z
LAST-MODIFIED:20260331T164708Z
UID:10005569-1773820800-1773853200@seacolonycommunity.com
SUMMARY:Irrigation Check
DESCRIPTION:Please be advised that irrigation system checks will be conducted throughout the community. This routine maintenance helps ensure that all irrigation lines and equipment are functioning properly and efficiently. You may see maintenance staff accessing landscaped areas during this time. Thank you for your patience and cooperation.
URL:https://seacolonycommunity.com/event/irrigation-check-2/2026-03-18/
LOCATION:Community\, Sea Colony Drive\, Jupiter\, FL\, 33477\, United States
CATEGORIES:Community Maintenance
ATTACH;FMTTYPE=image/jpeg:https://seacolonycommunity.com/wp-content/uploads/2025/11/Lawn-Sprinkler.jpg
ORGANIZER;CN="Castle Property Manager":MAILTO:flucania@castlegroup.com
END:VEVENT
BEGIN:VEVENT
DTSTART;TZID=America/New_York:20260318T070000
DTEND;TZID=America/New_York:20260318T090000
DTSTAMP:20260425T225030
CREATED:20251231T225452Z
LAST-MODIFIED:20251231T225452Z
UID:10004676-1773817200-1773824400@seacolonycommunity.com
SUMMARY:Pool Service
DESCRIPTION:Please be advised that the community pool will be serviced to ensure it remains clean\, safe\, and fully operational for everyone’s use. During this time\, access to the pool may be temporarily limited or unavailable. We appreciate your patience and cooperation as this routine maintenance helps provide a better experience for all residents. Thank you for your understanding.
URL:https://seacolonycommunity.com/event/pool-service/2026-03-18/
LOCATION:Pool\, Sea Colony Drive\, Jupiter\, FL\, 33477\, United States
CATEGORIES:Community Maintenance
ATTACH;FMTTYPE=image/png:https://seacolonycommunity.com/wp-content/uploads/2025/01/Pool.png
ORGANIZER;CN="Castle Property Manager":MAILTO:flucania@castlegroup.com
END:VEVENT
BEGIN:VEVENT
DTSTART;TZID=America/New_York:20260317T133000
DTEND;TZID=America/New_York:20260317T150000
DTSTAMP:20260425T225030
CREATED:20251126T012544Z
LAST-MODIFIED:20251126T012627Z
UID:10001711-1773754200-1773759600@seacolonycommunity.com
SUMMARY:Rummikub
DESCRIPTION:Join our Rummikub Community — where brand-new players\, casual fans\, and seasoned tile strategists all come together for great company and great games! Whether you’re learning how the sets work or perfecting your clever combos\, you’ll find a welcoming table\, easygoing conversation\, and a game that always keeps you thinking and smiling. All levels welcome — come play\, connect\, and enjoy the fun of Rummikub!
URL:https://seacolonycommunity.com/event/rummikube/2026-03-17/
LOCATION:Pool Pavilion\, Sea Colony Drive\, Jupiter\, FL\, 33477\, United States
ATTACH;FMTTYPE=image/png:https://seacolonycommunity.com/wp-content/uploads/2025/11/Rummikub-Game.png
END:VEVENT
BEGIN:VEVENT
DTSTART;TZID=America/New_York:20260317T083000
DTEND;TZID=America/New_York:20260317T110000
DTSTAMP:20260425T225030
CREATED:20251125T012626Z
LAST-MODIFIED:20251222T133622Z
UID:10000136-1773736200-1773745200@seacolonycommunity.com
SUMMARY:Pickleball
DESCRIPTION:Join our Pickleball Community — where newcomers\, casual players\, and seasoned competitors all meet for fast-paced fun and friendly connection! Whether you’re learning the basics or fine-tuning your finesse\, you’ll find an inviting court\, great camaraderie\, and a game that keeps everyone moving and smiling. All levels welcome — come play\, connect\, and enjoy the excitement of pickleball!
URL:https://seacolonycommunity.com/event/pickleball/2026-03-17/
LOCATION:Pickleball Courts\, Sea Colony Drive\, Jupiter\, FL\, 33477\, United States
CATEGORIES:Pickleball
ATTACH;FMTTYPE=image/jpeg:https://seacolonycommunity.com/wp-content/uploads/2025/11/Pickleball.jpeg
END:VEVENT
BEGIN:VEVENT
DTSTART;TZID=America/New_York:20260317T080000
DTEND;TZID=America/New_York:20260317T170000
DTSTAMP:20260425T225030
CREATED:20260201T164810Z
LAST-MODIFIED:20260331T165036Z
UID:10005582-1773734400-1773766800@seacolonycommunity.com
SUMMARY:Shrub Trimming
DESCRIPTION:Please be advised that shrub trimming will be taking place throughout the community over the coming days. This work is part of our regular landscape maintenance to keep common areas healthy\, safe\, and attractive. Residents may notice crews and equipment in various locations; please use caution when passing through work areas. Thank you for your understanding and cooperation.
URL:https://seacolonycommunity.com/event/shrub-trimming-2/2026-03-17/
LOCATION:Community\, Sea Colony Drive\, Jupiter\, FL\, 33477\, United States
CATEGORIES:Community Maintenance
ATTACH;FMTTYPE=image/jpeg:https://seacolonycommunity.com/wp-content/uploads/2025/11/Shrub-Trimming.jpg
ORGANIZER;CN="Castle Property Manager":MAILTO:flucania@castlegroup.com
END:VEVENT
BEGIN:VEVENT
DTSTART;TZID=America/New_York:20260317T080000
DTEND;TZID=America/New_York:20260317T170000
DTSTAMP:20260425T225030
CREATED:20251230T162832Z
LAST-MODIFIED:20260331T164826Z
UID:10005580-1773734400-1773766800@seacolonycommunity.com
SUMMARY:Mowing
DESCRIPTION:Please be advised that the landscape company will be mowing the grass as part of routine maintenance. Please be aware of crews and equipment during this time\, and thank you for your patience as we work to keep our grounds clean and well maintained.
URL:https://seacolonycommunity.com/event/mowing/2026-03-17/
LOCATION:Community\, Sea Colony Drive\, Jupiter\, FL\, 33477\, United States
CATEGORIES:Community Maintenance
ATTACH;FMTTYPE=image/jpeg:https://seacolonycommunity.com/wp-content/uploads/2025/11/Lawn-Care-Mower.jpg
ORGANIZER;CN="Castle Property Manager":MAILTO:flucania@castlegroup.com
END:VEVENT
BEGIN:VEVENT
DTSTART;TZID=America/New_York:20260317T080000
DTEND;TZID=America/New_York:20260317T170000
DTSTAMP:20260425T225030
CREATED:20251209T165704Z
LAST-MODIFIED:20260305T172059Z
UID:10005579-1773734400-1773766800@seacolonycommunity.com
SUMMARY:Insecticide / Fertilizer Maintenance
DESCRIPTION:Please be advised that pesticides and/or fertilizers will be applied throughout the community. These applications are part of our routine maintenance.
URL:https://seacolonycommunity.com/event/insecticide-fertilizer-maintenance/2026-03-17/
LOCATION:Community\, Sea Colony Drive\, Jupiter\, FL\, 33477\, United States
CATEGORIES:Community Maintenance
ATTACH;FMTTYPE=image/jpeg:https://seacolonycommunity.com/wp-content/uploads/2025/12/Fertizer-Application.jpg
ORGANIZER;CN="Castle Property Manager":MAILTO:flucania@castlegroup.com
END:VEVENT
BEGIN:VEVENT
DTSTART;TZID=America/New_York:20260317T060000
DTEND;TZID=America/New_York:20260317T220000
DTSTAMP:20260425T225030
CREATED:20260217T200539Z
LAST-MODIFIED:20260310T003327Z
UID:10005561-1773727200-1773784800@seacolonycommunity.com
SUMMARY:St. Patrick Day Celebration
DESCRIPTION:Join your neighbors for a festive St. Patrick’s Day celebration filled with fun\, laughter\, and plenty of green spirit. \nReservations and $$$ are due to Kathy Guissi by Thursday\, 3/12 \nTooJays Deli will cater – $20 pp\nCorned beef sandwich (gluten-free bread is available)\, cole slaw\, potato salad\, pickle\, chips\, and a cookie.\nBring your favorite drink and come join the fun!\n(feel free to bring something else to eat) \n  \n 
URL:https://seacolonycommunity.com/event/st-patrick-day-celebration/
LOCATION:Pool Pavilion\, Sea Colony Drive\, Jupiter\, FL\, 33477\, United States
CATEGORIES:Sea Colony Party
ATTACH;FMTTYPE=image/jpeg:https://seacolonycommunity.com/wp-content/uploads/2026/02/St-Patricks-Day-Social.jpg
ORGANIZER;CN="Party Planners":MAILTO:kfguissi@aol.com
END:VEVENT
BEGIN:VEVENT
DTSTART;TZID=America/New_York:20260316T160000
DTEND;TZID=America/New_York:20260316T170000
DTSTAMP:20260425T225030
CREATED:20260217T142821Z
LAST-MODIFIED:20260217T192102Z
UID:10005499-1773676800-1773680400@seacolonycommunity.com
SUMMARY:Yoga
DESCRIPTION:Take a moment to relax and recharge with free yoga offered in the open space behind the pool. These sessions are designed for everyone—whether you’re brand new to yoga or have years of experience\, all levels are welcome. Enjoy fresh air\, gentle movement\, and a peaceful setting while connecting with neighbors and focusing on wellness. Just bring a mat\, some water\, and come as you are. Namaste!
URL:https://seacolonycommunity.com/event/yoga/2026-03-16/
LOCATION:Green Space\, Sea Colony Drive\, Jupiter\, FL\, 33477\, United States
CATEGORIES:Yoga
ATTACH;FMTTYPE=image/jpeg:https://seacolonycommunity.com/wp-content/uploads/2026/02/Yoga.jpg
END:VEVENT
END:VCALENDAR